From mboxrd@z Thu Jan  1 00:00:00 1970
Return-Path: <test-report-bounces@dpdk.org>
Received: from mails.dpdk.org (mails.dpdk.org [217.70.189.124])
	by inbox.dpdk.org (Postfix) with ESMTP id 9876343BE4
	for <public@inbox.dpdk.org>; Fri,  1 Mar 2024 19:46:35 +0100 (CET)
Received: from mails.dpdk.org (localhost [127.0.0.1])
	by mails.dpdk.org (Postfix) with ESMTP id 9418942D68;
	Fri,  1 Mar 2024 19:46:35 +0100 (CET)
Received: from mail-oo1-f97.google.com (mail-oo1-f97.google.com
 [209.85.161.97]) by mails.dpdk.org (Postfix) with ESMTP id 556B2402B8
 for <test-report@dpdk.org>; Fri,  1 Mar 2024 19:46:34 +0100 (CET)
Received: by mail-oo1-f97.google.com with SMTP id
 006d021491bc7-5a0c29637easo1552226eaf.1
 for <test-report@dpdk.org>; Fri, 01 Mar 2024 10:46:34 -0800 (PST)
DKIM-Signature: v=1; a=rsa-sha256; c=relaxed/relaxed;
 d=iol.unh.edu; s=unh-iol; t=1709318793; x=1709923593; darn=dpdk.org;
 h=references:in-reply-to:cc:to:from:subject:message-id:date:from:to
 :cc:subject:date:message-id:reply-to;
 bh=0WyXVWTJ8/BrpkwYoZ8VU4LGPzOihy35GUk5pazaz/Y=;
 b=hW0o0XH1LUZeML/xNdSiH3oh8+GGRnxfbIHRxQ7I8DatyNEhX4ONzoNBYaVSPYYird
 wiIP/1d6whtBEXXmxhKR9w1Ao8JhNfEH66EMlJT79jAeEns/MMI05/bs8FjWbIRjkthb
 KNHkov1LdOfFMiGo5Da8H3f2JX7bpKCGl99so=
X-Google-DKIM-Signature: v=1; a=rsa-sha256; c=relaxed/relaxed;
 d=1e100.net; s=20230601; t=1709318793; x=1709923593;
 h=references:in-reply-to:cc:to:from:subject:message-id:date
 :x-gm-message-state:from:to:cc:subject:date:message-id:reply-to;
 bh=0WyXVWTJ8/BrpkwYoZ8VU4LGPzOihy35GUk5pazaz/Y=;
 b=dgeKX5M9ChAcgxRRELmVnCjHHN+HO735dI9d2SLW4B7I4o7ftcTSsC0Tpo8lyPEIGW
 gY6SYU+33Utia9CVWu9squWgb7b3vkNim3AWV3g7HUZqPUBc/dI+t5qJ+3MzNYo/XrrH
 bLHn5fAiGE6sl3O+QLDIUINWDpZ1eFMcYKIFZ21oX/ilvNfLBl1yxFOOj7kbkR7OIa06
 E8YWDWstvgUmv0DrY/d99YQQ6qm5nW3BBlv1DSsmcjwc6nQj5X8hPGkwSQS+krGd472M
 hiEas7E6ko9fUVvUwPGlyPcgnLn/IfbyCaD2+af+fvTXZf4DrE5lqRyTxCKLvXKFyjIc
 q/xQ==
X-Gm-Message-State: AOJu0Ywc5X9TRnvBoBWFRPQUazCIQWuWsXhHkeC+zn/e134SLXqynF4A
 4VIukj8gCPx4/yJyNtZ3LDc5f0HvD02R1xRUnse6m5PeD3uBiMbS3YKY2bSyZOFiD/NC34/C/6s
 7OojAXmC53L/zGd5xUnbZYMejKSyrsYx+bvKm7mff7e7wOCxehoWI5usQ
X-Google-Smtp-Source: AGHT+IE/wJrA0TkOQ61mQZC5cdC+GKYynEAUqFhtF02+ym+016RMvtzeVl8NDaZEviQdTiaiCVTfIwAkntIv
X-Received: by 2002:a4a:9bcf:0:b0:5a0:e030:652 with SMTP id
 b15-20020a4a9bcf000000b005a0e0300652mr2464033ook.8.1709318793722; 
 Fri, 01 Mar 2024 10:46:33 -0800 (PST)
Received: from postal.iol.unh.edu (postal.iol.unh.edu.
 [2606:4100:3880:1234::84]) by smtp-relay.gmail.com with ESMTPS id
 h64-20020a4a5e43000000b005a00dd41faasm204315oob.17.2024.03.01.10.46.33
 (version=TLS1_2 cipher=ECDHE-ECDSA-AES128-GCM-SHA256 bits=128/128);
 Fri, 01 Mar 2024 10:46:33 -0800 (PST)
X-Relaying-Domain: iol.unh.edu
Date: Fri, 01 Mar 2024 10:46:33 -0800 (PST)
Message-ID: <65e22289.4a0a0220.5df13.cf83SMTPIN_ADDED_MISSING@mx.google.com>
Received: from [172.17.0.6] (unknown [172.18.0.217])
 by postal.iol.unh.edu (Postfix) with ESMTP id 36C2760527CD;
 Fri,  1 Mar 2024 13:46:33 -0500 (EST)
Subject: |SUCCESS| pw137674 [PATCH] crypto/mlx5: add max segment assert
From: dpdklab@iol.unh.edu
To: Test Report <test-report@dpdk.org>
Cc: dpdk-test-reports@iol.unh.edu
In-Reply-To: <20240301124246.1216467-1-suanmingm@nvidia.com>
References: <20240301124246.1216467-1-suanmingm@nvidia.com>
Content-Type: text/plain
X-BeenThere: test-report@dpdk.org
X-Mailman-Version: 2.1.29
Precedence: list
List-Id: automatic DPDK test reports <test-report.dpdk.org>
List-Unsubscribe: <https://mails.dpdk.org/options/test-report>,
 <mailto:test-report-request@dpdk.org?subject=unsubscribe>
List-Archive: <http://mails.dpdk.org/archives/test-report/>
List-Post: <mailto:test-report@dpdk.org>
List-Help: <mailto:test-report-request@dpdk.org?subject=help>
List-Subscribe: <https://mails.dpdk.org/listinfo/test-report>,
 <mailto:test-report-request@dpdk.org?subject=subscribe>
Errors-To: test-report-bounces@dpdk.org

Test-Label: iol-compile-arm64-testing
Test-Status: SUCCESS
http://dpdk.org/patch/137674

_Testing PASS_

Submitter: Suanming Mou <suanmingm@nvidia.com>
Date: Friday, March 01 2024 12:42:45 
DPDK git baseline: Repo:dpdk
  Branch: master
  CommitID:5ac50824383c2683c0dfdf24c6dc493f1fa54852

137674 --> testing pass

Test environment and result as below:

+----------------------------------------+--------------------+
|              Environment               | dpdk_meson_compile |
+========================================+====================+
| Ubuntu 20.04 ARM SVE                   | PASS               |
+----------------------------------------+--------------------+
| Ubuntu 20.04 (ARM)                     | PASS               |
+----------------------------------------+--------------------+
| Fedora 37 (ARM)                        | PASS               |
+----------------------------------------+--------------------+
| Debian 12 (arm)                        | PASS               |
+----------------------------------------+--------------------+
| Fedora 38 (ARM)                        | PASS               |
+----------------------------------------+--------------------+
| Debian 11 (Buster) (ARM)               | PASS               |
+----------------------------------------+--------------------+
| Ubuntu 20.04 aarch32 GCC Cross Compile | PASS               |
+----------------------------------------+--------------------+
| CentOS Stream 9 (ARM)                  | PASS               |
+----------------------------------------+--------------------+


Ubuntu 20.04 ARM SVE
	Kernel: 5.4.0-80-generic
	Compiler: gcc 10.3.0 (Ubuntu 10.3.0-1ubuntu1~20.04)

Ubuntu 20.04 (ARM)
	Kernel: Container Host Kernel
	Compiler: gcc 9.4.0

Fedora 37 (ARM)
	Kernel: Depends on container host
	Compiler: gcc 12.3.1

Debian 12 (arm)
	Kernel: Container Host Kernel
	Compiler: gcc 11

Fedora 38 (ARM)
	Kernel: Depends on container host
	Compiler: gcc 13.1.1

Debian 11 (Buster) (ARM)
	Kernel: Container Host Kernel
	Compiler: gcc 10.2.1

Ubuntu 20.04 aarch32 GCC Cross Compile
	Kernel: 5.4.0-72-generic
	Compiler: gcc 9.3.0

CentOS Stream 9 (ARM)
	Kernel: Container Host Kernel
	Compiler: gcc 11.3.1

To view detailed results, visit:
https://lab.dpdk.org/results/dashboard/patchsets/29371/

UNH-IOL DPDK Community Lab

To manage your email subscriptions, visit: 
https://lab.dpdk.org/results/dashboard/preferences/subscriptions/