From mboxrd@z Thu Jan  1 00:00:00 1970
Return-Path: <test-report-bounces@dpdk.org>
Received: from mails.dpdk.org (mails.dpdk.org [217.70.189.124])
	by inbox.dpdk.org (Postfix) with ESMTP id CAFB443BE4
	for <public@inbox.dpdk.org>; Fri,  1 Mar 2024 19:54:55 +0100 (CET)
Received: from mails.dpdk.org (localhost [127.0.0.1])
	by mails.dpdk.org (Postfix) with ESMTP id C717542D68;
	Fri,  1 Mar 2024 19:54:55 +0100 (CET)
Received: from mail-yb1-f227.google.com (mail-yb1-f227.google.com
 [209.85.219.227])
 by mails.dpdk.org (Postfix) with ESMTP id 7941B42D68
 for <test-report@dpdk.org>; Fri,  1 Mar 2024 19:54:54 +0100 (CET)
Received: by mail-yb1-f227.google.com with SMTP id
 3f1490d57ef6-db3a09e96daso2388067276.3
 for <test-report@dpdk.org>; Fri, 01 Mar 2024 10:54:54 -0800 (PST)
DKIM-Signature: v=1; a=rsa-sha256; c=relaxed/relaxed;
 d=iol.unh.edu; s=unh-iol; t=1709319294; x=1709924094; darn=dpdk.org;
 h=references:in-reply-to:cc:to:from:subject:message-id:date:from:to
 :cc:subject:date:message-id:reply-to;
 bh=eGF9pAwXP3d7ehzBUPeYI8PEgbgv7FcoDQFiHed+8ak=;
 b=QJ+f8zuVlu8AF6EzkNqvnLylZO5UFXzAlGpXHTZF/rEHksYHFGmmsnNNig/UiCxHts
 qaxK0wLeXaJGWuKDExyR0bDdKYFi5i4VLV8BSbnVUCTsljVYW1B8WGTRIHwGAEd8fPOM
 iEUkZtWBszbm/Relt/2wEJHXPAVD0VoRDKDQ8=
X-Google-DKIM-Signature: v=1; a=rsa-sha256; c=relaxed/relaxed;
 d=1e100.net; s=20230601; t=1709319294; x=1709924094;
 h=references:in-reply-to:cc:to:from:subject:message-id:date
 :x-gm-message-state:from:to:cc:subject:date:message-id:reply-to;
 bh=eGF9pAwXP3d7ehzBUPeYI8PEgbgv7FcoDQFiHed+8ak=;
 b=LhJ1imkil5QRCvIJ6FZc+IGv5n4H69u8b6SDcHqos5rhS60BPINdl8WiCwHiPpwRdZ
 LmvaKf6Fwp4khX9r6p2oODd8CQPERQBq9zx4llv0JHn/ULFD3MFMM/GtObfvHY0Zl9nU
 urel+rgjuePeNfWBfxfwrcxOOcqg9iLUJIkTZSWNuCUytqQf8dFEdMDaLWt+oQRv9EL0
 MIxqoIZZmi1IQIdkOYKv2/hJR5PVeBJ2NWks4XKD/DDAlxiJkXr/Y4CQEF6OCXH32I+r
 7WzOduGecOSUBM8GFDVbdDSwyZEpXUxgAqGJn6EwYPOrECRufU3j0IQD+jc3iHEVNfBa
 klfw==
X-Gm-Message-State: AOJu0Yxx3ube37Coh1GI2fyn813MZnZHL0TzyxRjTLPaOWF4tr37B7gw
 5U1fq7Z1OeYMj1d4/biGb4gEnSFKP5GIIpc7xjDSAvBTlXJx0IVJVxr5yJak8pcS37EpUR2iR0R
 NGbBrpHN44qbqCCTB1exY9KCYTEM5GTXTdTCR1Umw
X-Google-Smtp-Source: AGHT+IE2iT9cpo0G+5ftpmqKxylWrbYx2E6wPD5nQSVYE9Iz/ZNgDL9P39CeuSlPFQJ7VpvNAwgNwgZP6+Ah
X-Received: by 2002:a25:850a:0:b0:dcd:3172:7269 with SMTP id
 w10-20020a25850a000000b00dcd31727269mr2336054ybk.2.1709319293812; 
 Fri, 01 Mar 2024 10:54:53 -0800 (PST)
Received: from postal.iol.unh.edu (postal.iol.unh.edu. [132.177.123.84])
 by smtp-relay.gmail.com with ESMTPS id
 n132-20020a25728a000000b00dbdb208b416sm224387ybc.35.2024.03.01.10.54.53
 (version=TLS1_2 cipher=ECDHE-ECDSA-AES128-GCM-SHA256 bits=128/128);
 Fri, 01 Mar 2024 10:54:53 -0800 (PST)
X-Relaying-Domain: iol.unh.edu
Date: Fri, 01 Mar 2024 10:54:53 -0800 (PST)
Message-ID: <65e2247d.250a0220.9bca6.e7d2SMTPIN_ADDED_MISSING@mx.google.com>
Received: from [172.17.0.7] (unknown [172.18.0.217])
 by postal.iol.unh.edu (Postfix) with ESMTP id 780B460527CD;
 Fri,  1 Mar 2024 13:54:53 -0500 (EST)
Subject: |SUCCESS| pw137650 [PATCH] net/ice: fix null pointer dereferences
From: dpdklab@iol.unh.edu
To: Test Report <test-report@dpdk.org>
Cc: dpdk-test-reports@iol.unh.edu
In-Reply-To: <20240301052029.543989-1-wenwux.ma@intel.com>
References: <20240301052029.543989-1-wenwux.ma@intel.com>
Content-Type: text/plain
X-BeenThere: test-report@dpdk.org
X-Mailman-Version: 2.1.29
Precedence: list
List-Id: automatic DPDK test reports <test-report.dpdk.org>
List-Unsubscribe: <https://mails.dpdk.org/options/test-report>,
 <mailto:test-report-request@dpdk.org?subject=unsubscribe>
List-Archive: <http://mails.dpdk.org/archives/test-report/>
List-Post: <mailto:test-report@dpdk.org>
List-Help: <mailto:test-report-request@dpdk.org?subject=help>
List-Subscribe: <https://mails.dpdk.org/listinfo/test-report>,
 <mailto:test-report-request@dpdk.org?subject=subscribe>
Errors-To: test-report-bounces@dpdk.org

Test-Label: iol-abi-testing
Test-Status: SUCCESS
http://dpdk.org/patch/137650

_Testing PASS_

Submitter: Wenwu Ma <wenwux.ma@intel.com>
Date: Friday, March 01 2024 05:20:29 
DPDK git baseline: Repo:dpdk
  Branch: master
  CommitID:3408b132b31906fe1ed28d6b2009b98202e1cff0

137650 --> testing pass

Test environment and result as below:

+------------------+----------+
|   Environment    | abi_test |
+==================+==========+
| CentOS Stream 8  | PASS     |
+------------------+----------+
| Fedora 37        | PASS     |
+------------------+----------+
| Debian Bullseye  | PASS     |
+------------------+----------+
| Debian 12 (arm)  | PASS     |
+------------------+----------+
| Fedora 38        | PASS     |
+------------------+----------+
| openSUSE Leap 15 | PASS     |
+------------------+----------+
| RHEL8            | PASS     |
+------------------+----------+
| CentOS Stream 9  | PASS     |
+------------------+----------+
| Ubuntu 22.04     | PASS     |
+------------------+----------+


CentOS Stream 8
	Kernel: 4.18.0-240.10.1.el8_3.x86_64
	Compiler: gcc 8.4.1 20200928

Fedora 37
	Kernel: Depends on container host system
	Compiler: gcc 12.3.1

Debian Bullseye
	Kernel: 5.4.0-122-generic
	Compiler: gcc 10.2.1-6

Debian 12 (arm)
	Kernel: Container Host Kernel
	Compiler: gcc 11

Fedora 38
	Kernel: Depends on container host
	Compiler: clang 16.0.3

openSUSE Leap 15
	Kernel: 4.18.0-240.10.1.el8_3.x86_64
	Compiler: gcc 7.5.0

RHEL8
	Kernel: 4.18.0-240.10.1.el8_3.x86_64
	Compiler: gcc 8.3.1 20191121 (Red Hat 8.3.1-5)

CentOS Stream 9
	Kernel: 4.18.0-240.10.1.el8_3.x86_64
	Compiler: gcc 11.3.1 20220421

Ubuntu 22.04
	Kernel: 4.18.0-240.10.1.el8_3.x86_64
	Compiler: gcc 11.3.0

To view detailed results, visit:
https://lab.dpdk.org/results/dashboard/patchsets/29358/

UNH-IOL DPDK Community Lab

To manage your email subscriptions, visit: 
https://lab.dpdk.org/results/dashboard/preferences/subscriptions/