From mboxrd@z Thu Jan  1 00:00:00 1970
Return-Path: <test-report-bounces@dpdk.org>
Received: from mails.dpdk.org (mails.dpdk.org [217.70.189.124])
	by inbox.dpdk.org (Postfix) with ESMTP id 0ABF143BE4
	for <public@inbox.dpdk.org>; Fri,  1 Mar 2024 19:55:22 +0100 (CET)
Received: from mails.dpdk.org (localhost [127.0.0.1])
	by mails.dpdk.org (Postfix) with ESMTP id 06E4842D68;
	Fri,  1 Mar 2024 19:55:22 +0100 (CET)
Received: from mail-oi1-f227.google.com (mail-oi1-f227.google.com
 [209.85.167.227])
 by mails.dpdk.org (Postfix) with ESMTP id D3FF9402B8
 for <test-report@dpdk.org>; Fri,  1 Mar 2024 19:55:20 +0100 (CET)
Received: by mail-oi1-f227.google.com with SMTP id
 5614622812f47-3c1c7fdfe9cso1613116b6e.3
 for <test-report@dpdk.org>; Fri, 01 Mar 2024 10:55:20 -0800 (PST)
DKIM-Signature: v=1; a=rsa-sha256; c=relaxed/relaxed;
 d=iol.unh.edu; s=unh-iol; t=1709319320; x=1709924120; darn=dpdk.org;
 h=references:in-reply-to:cc:to:from:subject:message-id:date:from:to
 :cc:subject:date:message-id:reply-to;
 bh=WyXzYnGtAKLmWYjWriHYO+bV3wmQ0qgygqV05esH7MI=;
 b=MhKGQd5wDh9OUJEirACNQfou4qaMwlWlkIkyA7huaRP9SjwmA1iw6+t+2yfpeMyoPD
 25ymjJ6d5lRLdSMxjxH+BIZa6SzHeGFERr7P/X2Jhh2OVtYeu/B4MNFx8q+yXqm6huP6
 EsK4WGkJ7/GdZoG1XHbyopvaurbT5tSx+N2qk=
X-Google-DKIM-Signature: v=1; a=rsa-sha256; c=relaxed/relaxed;
 d=1e100.net; s=20230601; t=1709319320; x=1709924120;
 h=references:in-reply-to:cc:to:from:subject:message-id:date
 :x-gm-message-state:from:to:cc:subject:date:message-id:reply-to;
 bh=WyXzYnGtAKLmWYjWriHYO+bV3wmQ0qgygqV05esH7MI=;
 b=NeDxTzbZlhYLnPpeaiEdruGJuxibDU39Fy6o1L4KlQfETRLyKCbZPy2VWiIUUXd9ce
 T2Dzy60sgCYuqc9Fj3H9bc8CPrDFBfmY3XDZ8HqhNXDE3GWYe3KIcJASRARrnBdb0Gyy
 1QWqoYyFcwqouxjs2vMaXNTB4ecBhx01moxt559m+l48DMA80fRyr+hkQQFqYtZnF8nd
 kkK4yTEAYGQyBW21xR3HEzH6bWjh9t3pqfeGzKDZhqfKS6zN8jpTj8TVnCZrdyZmS0Ic
 ADRt1QPbVJSW7HXESq+ibl6mL3zm7PlDYU6j7ZVeILkEzbvwKCCiFyrWCBffBRoqOgWp
 OqMg==
X-Gm-Message-State: AOJu0YwN1pPgAm2fJ5jN2/NHOrFuakoWXYOjrrwlIHdQI8woy06dQr7+
 zANFGYAgeEld1tBvE8CUs1slqPn7XFoSVSoHDFzvUXy6BOKZE3N7mmF4RdFxrWJRsAEeePzukhD
 nCDsjGrMPekLRYvu2zeYWvzO5bkTT3lbGmM5QGaB6G+e937rYTJYX4uPn
X-Google-Smtp-Source: AGHT+IE+GFZ+8K9gKlxYyQG4KXMtL90wu9MB9he3+nsC2nh/NtkZyyJq3VD5g13e5Hrl7mbEV1xxs7wvLoDk
X-Received: by 2002:a05:6359:4c0e:b0:17b:ee7d:f957 with SMTP id
 kj14-20020a0563594c0e00b0017bee7df957mr2989362rwc.15.1709319319597; 
 Fri, 01 Mar 2024 10:55:19 -0800 (PST)
Received: from postal.iol.unh.edu (postal.iol.unh.edu.
 [2606:4100:3880:1234::84]) by smtp-relay.gmail.com with ESMTPS id
 f10-20020a056214076a00b006904ad60c9fsm160632qvz.67.2024.03.01.10.55.19
 (version=TLS1_2 cipher=ECDHE-ECDSA-AES128-GCM-SHA256 bits=128/128);
 Fri, 01 Mar 2024 10:55:19 -0800 (PST)
X-Relaying-Domain: iol.unh.edu
Date: Fri, 01 Mar 2024 10:55:19 -0800 (PST)
Message-ID: <65e22497.050a0220.6902d.ac3cSMTPIN_ADDED_MISSING@mx.google.com>
Received: from [172.17.0.7] (unknown [172.18.0.217])
 by postal.iol.unh.edu (Postfix) with ESMTP id 53B9560527CD;
 Fri,  1 Mar 2024 13:55:19 -0500 (EST)
Subject: |SUCCESS| pw137674 [PATCH] crypto/mlx5: add max segment assert
From: dpdklab@iol.unh.edu
To: Test Report <test-report@dpdk.org>
Cc: dpdk-test-reports@iol.unh.edu
In-Reply-To: <20240301124246.1216467-1-suanmingm@nvidia.com>
References: <20240301124246.1216467-1-suanmingm@nvidia.com>
Content-Type: text/plain
X-BeenThere: test-report@dpdk.org
X-Mailman-Version: 2.1.29
Precedence: list
List-Id: automatic DPDK test reports <test-report.dpdk.org>
List-Unsubscribe: <https://mails.dpdk.org/options/test-report>,
 <mailto:test-report-request@dpdk.org?subject=unsubscribe>
List-Archive: <http://mails.dpdk.org/archives/test-report/>
List-Post: <mailto:test-report@dpdk.org>
List-Help: <mailto:test-report-request@dpdk.org?subject=help>
List-Subscribe: <https://mails.dpdk.org/listinfo/test-report>,
 <mailto:test-report-request@dpdk.org?subject=subscribe>
Errors-To: test-report-bounces@dpdk.org

Test-Label: iol-compile-arm64-testing
Test-Status: SUCCESS
http://dpdk.org/patch/137674

_Testing PASS_

Submitter: Suanming Mou <suanmingm@nvidia.com>
Date: Friday, March 01 2024 12:42:45 
DPDK git baseline: Repo:dpdk
  Branch: master
  CommitID:5ac50824383c2683c0dfdf24c6dc493f1fa54852

137674 --> testing pass

Test environment and result as below:

+----------------------------------------+--------------------+
|              Environment               | dpdk_meson_compile |
+========================================+====================+
| Ubuntu 20.04 ARM SVE                   | PASS               |
+----------------------------------------+--------------------+
| Ubuntu 20.04 (ARM)                     | PASS               |
+----------------------------------------+--------------------+
| Fedora 37 (ARM)                        | PASS               |
+----------------------------------------+--------------------+
| Debian 12 (arm)                        | PASS               |
+----------------------------------------+--------------------+
| Fedora 38 (ARM)                        | PASS               |
+----------------------------------------+--------------------+
| Debian 11 (Buster) (ARM)               | PASS               |
+----------------------------------------+--------------------+
| Ubuntu 20.04 aarch32 GCC Cross Compile | PASS               |
+----------------------------------------+--------------------+
| CentOS Stream 9 (ARM)                  | PASS               |
+----------------------------------------+--------------------+
| Ubuntu 20.04 ARM Clang Cross Compile   | PASS               |
+----------------------------------------+--------------------+


Ubuntu 20.04 ARM SVE
	Kernel: 5.4.0-80-generic
	Compiler: gcc 10.3.0 (Ubuntu 10.3.0-1ubuntu1~20.04)

Ubuntu 20.04 (ARM)
	Kernel: Container Host Kernel
	Compiler: gcc 9.4.0

Fedora 37 (ARM)
	Kernel: Depends on container host
	Compiler: gcc 12.3.1

Debian 12 (arm)
	Kernel: Container Host Kernel
	Compiler: gcc 11

Fedora 38 (ARM)
	Kernel: Depends on container host
	Compiler: gcc 13.1.1

Debian 11 (Buster) (ARM)
	Kernel: Container Host Kernel
	Compiler: gcc 10.2.1

Ubuntu 20.04 aarch32 GCC Cross Compile
	Kernel: 5.4.0-72-generic
	Compiler: gcc 9.3.0

CentOS Stream 9 (ARM)
	Kernel: Container Host Kernel
	Compiler: gcc 11.3.1

Ubuntu 20.04 ARM Clang Cross Compile
	Kernel: 5.4.0-72-generic
	Compiler: clang version 10.0.0-4ubuntu1

To view detailed results, visit:
https://lab.dpdk.org/results/dashboard/patchsets/29371/

UNH-IOL DPDK Community Lab

To manage your email subscriptions, visit: 
https://lab.dpdk.org/results/dashboard/preferences/subscriptions/