From mboxrd@z Thu Jan  1 00:00:00 1970
Return-Path: <test-report-bounces@dpdk.org>
Received: from mails.dpdk.org (mails.dpdk.org [217.70.189.124])
	by inbox.dpdk.org (Postfix) with ESMTP id 5EBAD43BE4
	for <public@inbox.dpdk.org>; Fri,  1 Mar 2024 19:57:02 +0100 (CET)
Received: from mails.dpdk.org (localhost [127.0.0.1])
	by mails.dpdk.org (Postfix) with ESMTP id 5B721433B8;
	Fri,  1 Mar 2024 19:57:02 +0100 (CET)
Received: from mail-qv1-f97.google.com (mail-qv1-f97.google.com
 [209.85.219.97]) by mails.dpdk.org (Postfix) with ESMTP id 76D8D402B8
 for <test-report@dpdk.org>; Fri,  1 Mar 2024 19:57:01 +0100 (CET)
Received: by mail-qv1-f97.google.com with SMTP id
 6a1803df08f44-68f41af71ebso18000886d6.1
 for <test-report@dpdk.org>; Fri, 01 Mar 2024 10:57:01 -0800 (PST)
DKIM-Signature: v=1; a=rsa-sha256; c=relaxed/relaxed;
 d=iol.unh.edu; s=unh-iol; t=1709319421; x=1709924221; darn=dpdk.org;
 h=references:in-reply-to:cc:to:from:subject:message-id:date:from:to
 :cc:subject:date:message-id:reply-to;
 bh=WyXzYnGtAKLmWYjWriHYO+bV3wmQ0qgygqV05esH7MI=;
 b=Pd+IesO1GWZSbSawkzxP61yDtsimgvMi5+w69k/EfP4ORIVDAws/E6ViylqSA0QpOt
 VQMqGFGhYfIzUWIiDoWGLHKAbayjRgGRM37h2wvgTok/QCRRGvB4OaUDZ2UnzJ0/vPxh
 htpjFfpUmXOjSbc84+NDH5197eLtxIe6w7RD8=
X-Google-DKIM-Signature: v=1; a=rsa-sha256; c=relaxed/relaxed;
 d=1e100.net; s=20230601; t=1709319421; x=1709924221;
 h=references:in-reply-to:cc:to:from:subject:message-id:date
 :x-gm-message-state:from:to:cc:subject:date:message-id:reply-to;
 bh=WyXzYnGtAKLmWYjWriHYO+bV3wmQ0qgygqV05esH7MI=;
 b=LrBTvhePjF16KosGVi16ciUVF9gdNW2G9rPoCxvatVQjg7b2+ubq9LFUgzElo8ZQIo
 qyuMHEB2CenXS4YvscLUJ1wkNeap6k8uGeaIOwkn/vAq/mWobDYb4HJeUY0dSWGlGnBX
 yIpm4a6R39vgXZUa0qEqUhycKuHh8b7GeUT74Xfv9fcY65gVHctyWI0DtVlcOfPZ6Uxz
 u14lar7TcVFlIxNzfMhYqGWLfed1iNz0AWUCa2rGMHjlndZkQP+V+ZRzQF5C3RCzksMI
 nMycE54Px96DLnKlUtaFIjaqwXZ0KCsJ50/9G+YKGc2MIIL94DB2wPFANDCwM8g0FLIG
 duWA==
X-Gm-Message-State: AOJu0YwU7xXjojZwQ2LQP1mtHJgKkFTh2HYBXPqtBXJv9NpRgx+S/27G
 OTLKPQZSoq7we58weF/dVKSAtxakDulajP/pV10RY02yzUNeTbnSWEtMer1My4HiJ/QTuEcOCIC
 kGj+mH3foclfnkgHMBWRRaPODNxWmZ50B+67po38Uu/6euiyTXsg8H+95
X-Google-Smtp-Source: AGHT+IGtcpD6lfzTW3tP7PfjT/CM0aUcOMQIgeoXlBOfHf0lW6OA0bGneUmlcjXGEJYfUPgB1N2xj3N8IzCm
X-Received: by 2002:a0c:f892:0:b0:690:5c6a:b746 with SMTP id
 u18-20020a0cf892000000b006905c6ab746mr1538041qvn.52.1709319420883; 
 Fri, 01 Mar 2024 10:57:00 -0800 (PST)
Received: from postal.iol.unh.edu (postal.iol.unh.edu.
 [2606:4100:3880:1234::84]) by smtp-relay.gmail.com with ESMTPS id
 r9-20020a0562140c4900b0068c95c8d9b8sm190035qvj.45.2024.03.01.10.57.00
 (version=TLS1_2 cipher=ECDHE-ECDSA-AES128-GCM-SHA256 bits=128/128);
 Fri, 01 Mar 2024 10:57:00 -0800 (PST)
X-Relaying-Domain: iol.unh.edu
Date: Fri, 01 Mar 2024 10:57:00 -0800 (PST)
Message-ID: <65e224fc.050a0220.18c28.e5ecSMTPIN_ADDED_MISSING@mx.google.com>
Received: from [172.17.0.7] (unknown [172.18.0.217])
 by postal.iol.unh.edu (Postfix) with ESMTP id 952D360527CD;
 Fri,  1 Mar 2024 13:57:00 -0500 (EST)
Subject: |SUCCESS| pw137674 [PATCH] crypto/mlx5: add max segment assert
From: dpdklab@iol.unh.edu
To: Test Report <test-report@dpdk.org>
Cc: dpdk-test-reports@iol.unh.edu
In-Reply-To: <20240301124246.1216467-1-suanmingm@nvidia.com>
References: <20240301124246.1216467-1-suanmingm@nvidia.com>
Content-Type: text/plain
X-BeenThere: test-report@dpdk.org
X-Mailman-Version: 2.1.29
Precedence: list
List-Id: automatic DPDK test reports <test-report.dpdk.org>
List-Unsubscribe: <https://mails.dpdk.org/options/test-report>,
 <mailto:test-report-request@dpdk.org?subject=unsubscribe>
List-Archive: <http://mails.dpdk.org/archives/test-report/>
List-Post: <mailto:test-report@dpdk.org>
List-Help: <mailto:test-report-request@dpdk.org?subject=help>
List-Subscribe: <https://mails.dpdk.org/listinfo/test-report>,
 <mailto:test-report-request@dpdk.org?subject=subscribe>
Errors-To: test-report-bounces@dpdk.org

Test-Label: iol-compile-arm64-testing
Test-Status: SUCCESS
http://dpdk.org/patch/137674

_Testing PASS_

Submitter: Suanming Mou <suanmingm@nvidia.com>
Date: Friday, March 01 2024 12:42:45 
DPDK git baseline: Repo:dpdk
  Branch: master
  CommitID:5ac50824383c2683c0dfdf24c6dc493f1fa54852

137674 --> testing pass

Test environment and result as below:

+----------------------------------------+--------------------+
|              Environment               | dpdk_meson_compile |
+========================================+====================+
| Ubuntu 20.04 ARM SVE                   | PASS               |
+----------------------------------------+--------------------+
| Ubuntu 20.04 (ARM)                     | PASS               |
+----------------------------------------+--------------------+
| Fedora 37 (ARM)                        | PASS               |
+----------------------------------------+--------------------+
| Debian 12 (arm)                        | PASS               |
+----------------------------------------+--------------------+
| Fedora 38 (ARM)                        | PASS               |
+----------------------------------------+--------------------+
| Debian 11 (Buster) (ARM)               | PASS               |
+----------------------------------------+--------------------+
| Ubuntu 20.04 aarch32 GCC Cross Compile | PASS               |
+----------------------------------------+--------------------+
| CentOS Stream 9 (ARM)                  | PASS               |
+----------------------------------------+--------------------+
| Ubuntu 20.04 ARM Clang Cross Compile   | PASS               |
+----------------------------------------+--------------------+


Ubuntu 20.04 ARM SVE
	Kernel: 5.4.0-80-generic
	Compiler: gcc 10.3.0 (Ubuntu 10.3.0-1ubuntu1~20.04)

Ubuntu 20.04 (ARM)
	Kernel: Container Host Kernel
	Compiler: gcc 9.4.0

Fedora 37 (ARM)
	Kernel: Depends on container host
	Compiler: gcc 12.3.1

Debian 12 (arm)
	Kernel: Container Host Kernel
	Compiler: gcc 11

Fedora 38 (ARM)
	Kernel: Depends on container host
	Compiler: gcc 13.1.1

Debian 11 (Buster) (ARM)
	Kernel: Container Host Kernel
	Compiler: gcc 10.2.1

Ubuntu 20.04 aarch32 GCC Cross Compile
	Kernel: 5.4.0-72-generic
	Compiler: gcc 9.3.0

CentOS Stream 9 (ARM)
	Kernel: Container Host Kernel
	Compiler: gcc 11.3.1

Ubuntu 20.04 ARM Clang Cross Compile
	Kernel: 5.4.0-72-generic
	Compiler: clang version 10.0.0-4ubuntu1

To view detailed results, visit:
https://lab.dpdk.org/results/dashboard/patchsets/29371/

UNH-IOL DPDK Community Lab

To manage your email subscriptions, visit: 
https://lab.dpdk.org/results/dashboard/preferences/subscriptions/