From mboxrd@z Thu Jan  1 00:00:00 1970
Return-Path: <test-report-bounces@dpdk.org>
Received: from mails.dpdk.org (mails.dpdk.org [217.70.189.124])
	by inbox.dpdk.org (Postfix) with ESMTP id 027A843C0F
	for <public@inbox.dpdk.org>; Fri,  1 Mar 2024 20:12:29 +0100 (CET)
Received: from mails.dpdk.org (localhost [127.0.0.1])
	by mails.dpdk.org (Postfix) with ESMTP id F1A0042D66;
	Fri,  1 Mar 2024 20:12:28 +0100 (CET)
Received: from mail-ot1-f98.google.com (mail-ot1-f98.google.com
 [209.85.210.98]) by mails.dpdk.org (Postfix) with ESMTP id 4B794402B8
 for <test-report@dpdk.org>; Fri,  1 Mar 2024 20:12:28 +0100 (CET)
Received: by mail-ot1-f98.google.com with SMTP id
 46e09a7af769-6e0f43074edso1564196a34.1
 for <test-report@dpdk.org>; Fri, 01 Mar 2024 11:12:28 -0800 (PST)
DKIM-Signature: v=1; a=rsa-sha256; c=relaxed/relaxed;
 d=iol.unh.edu; s=unh-iol; t=1709320347; x=1709925147; darn=dpdk.org;
 h=references:in-reply-to:cc:to:from:subject:message-id:date:from:to
 :cc:subject:date:message-id:reply-to;
 bh=Tza3mHAf/44po10yuFpVUNr1vhFwwF5gFLp9L8RpoXA=;
 b=Tg86ma5G7FrXZpxb2dVAxELeaaftDR/zbWHYwWdm7GH/RymfKVfjmesDv3vV/cQ5Wt
 mGZWFV9hvdowAQBK4eg9pJTK/Ab015ERS4ID5OrUM3NXLLyDr1freDv9lhh8A95kaBjX
 iske43vWiFpcvdXYrD749y9klmr276j2C1/W4=
X-Google-DKIM-Signature: v=1; a=rsa-sha256; c=relaxed/relaxed;
 d=1e100.net; s=20230601; t=1709320347; x=1709925147;
 h=references:in-reply-to:cc:to:from:subject:message-id:date
 :x-gm-message-state:from:to:cc:subject:date:message-id:reply-to;
 bh=Tza3mHAf/44po10yuFpVUNr1vhFwwF5gFLp9L8RpoXA=;
 b=s0SvowR1TvmpHdt8HiOExlzYRaU7MVx92uJTUADFz9NlOsXEGO8aOc9ivKzKIrTs+V
 x72LN0RtcktZWoenWckmnqIDCFg3rtzJCmh0lhTRDIrN4+1mWMkpacRXhOox6jPSFAez
 oQRap/Ce1ySN6GIlXkTpKhRaSVHUtGCpSyJbqAbWSFuhgJecl9MAjFdXbkLfQnlV81jN
 728h1MzJ4Zf2stjz6YyxNYae3B5htmQ1n3q85sH6ukcoDwYjP+ilkMo53Y6qNego2uMT
 bxPyRUmTqs/bGcjblM5VI9bgEVicHbArEHy4JT53J9S2VKxaj3n2Yz343+X/t4kJaDG2
 W4GA==
X-Gm-Message-State: AOJu0Yybk73pjGqokMueMIxC6igAdKQeYVAUmsmvgSJYg2BmOoHfqmK4
 e/+VDfgihtiH0kgCTzfm1qcqrpeX1wZ37owkXIDuK91CCGlWbNafcixp+m9ZeO9SuFZeiVJQB4e
 fCBpOfXc1xuQN+pKH3ctFpvgAX4AmQwAcHReFRJ3d
X-Google-Smtp-Source: AGHT+IEYMFZmwCu+cdROBgRtSkf9+yh8ylvvlwtKPuK4BAJlE+rQyRVw3T4wAv9lYLpj/YdogfPbqcBPhFpu
X-Received: by 2002:a05:6830:1db8:b0:6e4:741a:33ec with SMTP id
 z24-20020a0568301db800b006e4741a33ecmr2341748oti.31.1709320347569; 
 Fri, 01 Mar 2024 11:12:27 -0800 (PST)
Received: from postal.iol.unh.edu (postal.iol.unh.edu. [132.177.123.84])
 by smtp-relay.gmail.com with ESMTPS id
 f2-20020a056830264200b006e49878a73dsm155791otu.0.2024.03.01.11.12.27
 (version=TLS1_2 cipher=ECDHE-ECDSA-AES128-GCM-SHA256 bits=128/128);
 Fri, 01 Mar 2024 11:12:27 -0800 (PST)
X-Relaying-Domain: iol.unh.edu
Date: Fri, 01 Mar 2024 11:12:27 -0800 (PST)
Message-ID: <65e2289b.050a0220.cce60.8d04SMTPIN_ADDED_MISSING@mx.google.com>
Received: from [172.21.0.6] (unknown [172.18.0.240])
 by postal.iol.unh.edu (Postfix) with ESMTP id 0A2B660527CD;
 Fri,  1 Mar 2024 14:12:27 -0500 (EST)
Subject: |SUCCESS| pw137674 [PATCH] crypto/mlx5: add max segment assert
From: dpdklab@iol.unh.edu
To: Test Report <test-report@dpdk.org>
Cc: dpdk-test-reports@iol.unh.edu
In-Reply-To: <20240301124246.1216467-1-suanmingm@nvidia.com>
References: <20240301124246.1216467-1-suanmingm@nvidia.com>
Content-Type: text/plain
X-BeenThere: test-report@dpdk.org
X-Mailman-Version: 2.1.29
Precedence: list
List-Id: automatic DPDK test reports <test-report.dpdk.org>
List-Unsubscribe: <https://mails.dpdk.org/options/test-report>,
 <mailto:test-report-request@dpdk.org?subject=unsubscribe>
List-Archive: <http://mails.dpdk.org/archives/test-report/>
List-Post: <mailto:test-report@dpdk.org>
List-Help: <mailto:test-report-request@dpdk.org?subject=help>
List-Subscribe: <https://mails.dpdk.org/listinfo/test-report>,
 <mailto:test-report-request@dpdk.org?subject=subscribe>
Errors-To: test-report-bounces@dpdk.org

Test-Label: iol-compile-amd64-testing
Test-Status: SUCCESS
http://dpdk.org/patch/137674

_Testing PASS_

Submitter: Suanming Mou <suanmingm@nvidia.com>
Date: Friday, March 01 2024 12:42:45 
DPDK git baseline: Repo:dpdk
  Branch: master
  CommitID:5ac50824383c2683c0dfdf24c6dc493f1fa54852

137674 --> testing pass

Test environment and result as below:

+---------------------+--------------------+----------------------+
|     Environment     | dpdk_meson_compile | dpdk_mingw64_compile |
+=====================+====================+======================+
| Debian Bullseye     | PASS               | SKIPPED              |
+---------------------+--------------------+----------------------+
| FreeBSD 13.2        | PASS               | SKIPPED              |
+---------------------+--------------------+----------------------+
| Debian 12 (arm)     | PASS               | SKIPPED              |
+---------------------+--------------------+----------------------+
| Fedora 37           | PASS               | SKIPPED              |
+---------------------+--------------------+----------------------+
| Fedora 38           | PASS               | SKIPPED              |
+---------------------+--------------------+----------------------+
| CentOS Stream 8     | PASS               | SKIPPED              |
+---------------------+--------------------+----------------------+
| Ubuntu 22.04        | PASS               | SKIPPED              |
+---------------------+--------------------+----------------------+
| openSUSE Leap 15    | PASS               | SKIPPED              |
+---------------------+--------------------+----------------------+
| CentOS Stream 9     | PASS               | SKIPPED              |
+---------------------+--------------------+----------------------+
| Alpine              | PASS               | SKIPPED              |
+---------------------+--------------------+----------------------+
| RHEL8               | PASS               | SKIPPED              |
+---------------------+--------------------+----------------------+
| Ubuntu 20.04        | PASS               | SKIPPED              |
+---------------------+--------------------+----------------------+
| Windows Server 2019 | PASS               | PASS                 |
+---------------------+--------------------+----------------------+


Debian Bullseye
	Kernel: 5.4.0-122-generic
	Compiler: gcc 10.2.1-6

FreeBSD 13.2
	Kernel: 13.2
	Compiler: clang 11.3.0

Debian 12 (arm)
	Kernel: Container Host Kernel
	Compiler: gcc 11

Fedora 37
	Kernel: Depends on container host system
	Compiler: gcc 12.3.1

Fedora 38
	Kernel: Depends on container host
	Compiler: gcc 13.1.1

CentOS Stream 8
	Kernel: 4.18.0-240.10.1.el8_3.x86_64
	Compiler: gcc 8.4.1 20200928

Ubuntu 22.04
	Kernel: 4.18.0-240.10.1.el8_3.x86_64
	Compiler: gcc 11.3.0

openSUSE Leap 15
	Kernel: 4.18.0-240.10.1.el8_3.x86_64
	Compiler: gcc 7.5.0

CentOS Stream 9
	Kernel: 4.18.0-240.10.1.el8_3.x86_64
	Compiler: gcc 11.3.1 20220421

Alpine
	Kernel: 5.4.0-73-generic
	Compiler: gcc (Alpine 10.3.1_git20210424) 10.3.1 20210424

RHEL8
	Kernel: 4.18.0-240.10.1.el8_3.x86_64
	Compiler: gcc 8.3.1 20191121 (Red Hat 8.3.1-5)

Ubuntu 20.04
	Kernel: 5.4.0-153-generic
	Compiler: gcc 9.4.0-1ubuntu1~20.04.1

Windows Server 2019
	Kernel: 10.0
	Compiler: clang 14.0 and gcc 8.1.0 (MinGW)

To view detailed results, visit:
https://lab.dpdk.org/results/dashboard/patchsets/29371/

UNH-IOL DPDK Community Lab

To manage your email subscriptions, visit: 
https://lab.dpdk.org/results/dashboard/preferences/subscriptions/