From mboxrd@z Thu Jan  1 00:00:00 1970
Return-Path: <test-report-bounces@dpdk.org>
Received: from mails.dpdk.org (mails.dpdk.org [217.70.189.124])
	by inbox.dpdk.org (Postfix) with ESMTP id 0AA1543C0F
	for <public@inbox.dpdk.org>; Fri,  1 Mar 2024 20:33:05 +0100 (CET)
Received: from mails.dpdk.org (localhost [127.0.0.1])
	by mails.dpdk.org (Postfix) with ESMTP id 053E742D68;
	Fri,  1 Mar 2024 20:33:05 +0100 (CET)
Received: from mail-qv1-f98.google.com (mail-qv1-f98.google.com
 [209.85.219.98]) by mails.dpdk.org (Postfix) with ESMTP id 5A54D42D66
 for <test-report@dpdk.org>; Fri,  1 Mar 2024 20:33:03 +0100 (CET)
Received: by mail-qv1-f98.google.com with SMTP id
 6a1803df08f44-68facd7ea4bso11224756d6.0
 for <test-report@dpdk.org>; Fri, 01 Mar 2024 11:33:03 -0800 (PST)
DKIM-Signature: v=1; a=rsa-sha256; c=relaxed/relaxed;
 d=iol.unh.edu; s=unh-iol; t=1709321583; x=1709926383; darn=dpdk.org;
 h=references:in-reply-to:cc:to:from:subject:message-id:date:from:to
 :cc:subject:date:message-id:reply-to;
 bh=P2xQ47i/yw5jwVpV88lI2y6aJ2OLfLCtrdHHUYWnBtE=;
 b=U9i9f3PN/GqN5yQX7znxRTVKYVYTXF+wQ6VdBHc83jwqOplpyhI/sxYrOI+RDkpHn+
 WsiP7KuOjjNYtG7G2v72a//PWdHfbXqJmSG/l4DLE+rdZr6HXO6GHlswivB9vQpg7Cnt
 iFEMOd/Q9hQtUgrw9dHGvdTgQRwYlU9L7DZS0=
X-Google-DKIM-Signature: v=1; a=rsa-sha256; c=relaxed/relaxed;
 d=1e100.net; s=20230601; t=1709321583; x=1709926383;
 h=references:in-reply-to:cc:to:from:subject:message-id:date
 :x-gm-message-state:from:to:cc:subject:date:message-id:reply-to;
 bh=P2xQ47i/yw5jwVpV88lI2y6aJ2OLfLCtrdHHUYWnBtE=;
 b=KaN3JgzFeSVsdUZve+O6GXZWsPqayNZ7LkjzHKZCDpgPn55R39nAdVZqzWZ/LGew7a
 opqcIOaEGiC9dBfFXymQehLzp+Umxjt9IN4Y8D4Gz2ymjs9jJyIrhWRexSP/X0Nc5Wgv
 V0PghOr08LhNZKsDKWZHYDfyzObIPiETwUWoS59b9LkwFXKJoYBaBiBPmwY8PaEz3Qgp
 PQOrS4UWiv8wZZ9HDdj7C4ctm+4sRJEojjOJo5hKUUl5ELi38TtFkaa0wl3QguI4JZRl
 tKn/StfkYsJnsH79ixbEQT9xDZJTaxX7p4OxoqEsH7K93Rls1IKOc5fbo+tlRikJxp1o
 Irfg==
X-Gm-Message-State: AOJu0YxLaY/r7PtMMmeLKubsdXpwY7cWfEmswUK5HVUWJIOep4gOa+rI
 7F1aOWoLvOCoRNj3NYjIg+4JC0NPZkKcq0bHq5SPIYTM3i9gurj87IXFqWuIKL2DU+1T94kP/yl
 3JS6ryICdHmWH+xrhYlhGyLEZf+AirYaODgeH9chi
X-Google-Smtp-Source: AGHT+IFVC3+TM+DLvb0g6riSSzu2c7JJR9jI9aPAyQTDfoUVboq5iiqd1IwMdaAg+O/gIHmvdTyR/It6aC6Q
X-Received: by 2002:a05:6214:10e4:b0:68f:e84f:3f3c with SMTP id
 q4-20020a05621410e400b0068fe84f3f3cmr2389916qvt.48.1709321582890; 
 Fri, 01 Mar 2024 11:33:02 -0800 (PST)
Received: from postal.iol.unh.edu (postal.iol.unh.edu. [132.177.123.84])
 by smtp-relay.gmail.com with ESMTPS id
 p4-20020a05621421e400b0068fbe48baedsm185183qvj.11.2024.03.01.11.33.02
 (version=TLS1_2 cipher=ECDHE-ECDSA-AES128-GCM-SHA256 bits=128/128);
 Fri, 01 Mar 2024 11:33:02 -0800 (PST)
X-Relaying-Domain: iol.unh.edu
Date: Fri, 01 Mar 2024 11:33:02 -0800 (PST)
Message-ID: <65e22d6e.050a0220.661d.cbc7SMTPIN_ADDED_MISSING@mx.google.com>
Received: from [172.21.0.6] (unknown [172.18.0.240])
 by postal.iol.unh.edu (Postfix) with ESMTP id 9D27160527CD;
 Fri,  1 Mar 2024 14:33:02 -0500 (EST)
Subject: |SUCCESS| pw137674 [PATCH] crypto/mlx5: add max segment assert
From: dpdklab@iol.unh.edu
To: Test Report <test-report@dpdk.org>
Cc: dpdk-test-reports@iol.unh.edu
In-Reply-To: <20240301124246.1216467-1-suanmingm@nvidia.com>
References: <20240301124246.1216467-1-suanmingm@nvidia.com>
Content-Type: text/plain
X-BeenThere: test-report@dpdk.org
X-Mailman-Version: 2.1.29
Precedence: list
List-Id: automatic DPDK test reports <test-report.dpdk.org>
List-Unsubscribe: <https://mails.dpdk.org/options/test-report>,
 <mailto:test-report-request@dpdk.org?subject=unsubscribe>
List-Archive: <http://mails.dpdk.org/archives/test-report/>
List-Post: <mailto:test-report@dpdk.org>
List-Help: <mailto:test-report-request@dpdk.org?subject=help>
List-Subscribe: <https://mails.dpdk.org/listinfo/test-report>,
 <mailto:test-report-request@dpdk.org?subject=subscribe>
Errors-To: test-report-bounces@dpdk.org

Test-Label: iol-unit-amd64-testing
Test-Status: SUCCESS
http://dpdk.org/patch/137674

_Testing PASS_

Submitter: Suanming Mou <suanmingm@nvidia.com>
Date: Friday, March 01 2024 12:42:45 
DPDK git baseline: Repo:dpdk
  Branch: master
  CommitID:5ac50824383c2683c0dfdf24c6dc493f1fa54852

137674 --> testing pass

Test environment and result as below:

+------------------+----------------+
|   Environment    | dpdk_unit_test |
+==================+================+
| CentOS Stream 8  | PASS           |
+------------------+----------------+
| CentOS Stream 9  | PASS           |
+------------------+----------------+
| Debian Bullseye  | PASS           |
+------------------+----------------+
| Fedora 37        | PASS           |
+------------------+----------------+
| openSUSE Leap 15 | PASS           |
+------------------+----------------+
| Fedora 38        | PASS           |
+------------------+----------------+
| Debian 12 (arm)  | PASS           |
+------------------+----------------+
| Ubuntu 20.04     | PASS           |
+------------------+----------------+
| Ubuntu 22.04     | PASS           |
+------------------+----------------+
| RHEL8            | PASS           |
+------------------+----------------+


CentOS Stream 8
	Kernel: 4.18.0-240.10.1.el8_3.x86_64
	Compiler: gcc 8.4.1 20200928

CentOS Stream 9
	Kernel: 4.18.0-240.10.1.el8_3.x86_64
	Compiler: gcc 11.3.1 20220421

Debian Bullseye
	Kernel: 5.4.0-122-generic
	Compiler: gcc 10.2.1-6

Fedora 37
	Kernel: Depends on container host system
	Compiler: gcc 12.3.1

openSUSE Leap 15
	Kernel: 4.18.0-240.10.1.el8_3.x86_64
	Compiler: gcc 7.5.0

Fedora 38
	Kernel: Depends on container host
	Compiler: gcc 13.1.1

Debian 12 (arm)
	Kernel: Container Host Kernel
	Compiler: gcc 11

Ubuntu 20.04
	Kernel: 5.4.0-153-generic
	Compiler: gcc 9.4.0-1ubuntu1~20.04.1

Ubuntu 22.04
	Kernel: 4.18.0-240.10.1.el8_3.x86_64
	Compiler: gcc 11.3.0

RHEL8
	Kernel: 4.18.0-240.10.1.el8_3.x86_64
	Compiler: gcc 8.3.1 20191121 (Red Hat 8.3.1-5)

To view detailed results, visit:
https://lab.dpdk.org/results/dashboard/patchsets/29371/

UNH-IOL DPDK Community Lab

To manage your email subscriptions, visit: 
https://lab.dpdk.org/results/dashboard/preferences/subscriptions/