From mboxrd@z Thu Jan  1 00:00:00 1970
Return-Path: <test-report-bounces@dpdk.org>
Received: from mails.dpdk.org (mails.dpdk.org [217.70.189.124])
	by inbox.dpdk.org (Postfix) with ESMTP id C68A743C0F
	for <public@inbox.dpdk.org>; Fri,  1 Mar 2024 21:10:42 +0100 (CET)
Received: from mails.dpdk.org (localhost [127.0.0.1])
	by mails.dpdk.org (Postfix) with ESMTP id C1FAB432CC;
	Fri,  1 Mar 2024 21:10:42 +0100 (CET)
Received: from mail-io1-f98.google.com (mail-io1-f98.google.com
 [209.85.166.98]) by mails.dpdk.org (Postfix) with ESMTP id 217A041611
 for <test-report@dpdk.org>; Fri,  1 Mar 2024 21:10:41 +0100 (CET)
Received: by mail-io1-f98.google.com with SMTP id
 ca18e2360f4ac-7c7b9b25ba6so116570339f.1
 for <test-report@dpdk.org>; Fri, 01 Mar 2024 12:10:41 -0800 (PST)
DKIM-Signature: v=1; a=rsa-sha256; c=relaxed/relaxed;
 d=iol.unh.edu; s=unh-iol; t=1709323840; x=1709928640; darn=dpdk.org;
 h=references:in-reply-to:cc:to:from:subject:message-id:date:from:to
 :cc:subject:date:message-id:reply-to;
 bh=oL2Bd1nJpwV/4CWy37xOncjiaBq+cNGtbqi3ZjRUwA0=;
 b=eW5U99ARuR7LmPqSk7Eya9W488zTsDWfFs+UQkiDw5ovOe+Lz6Nfqanbdu/Tadedp7
 ca2vRF4i4IiymBEq8TI/Ofm9YXPf01Czu1bi583Ze+09qNThIRTlcWEHMBga9D1cXuzX
 WuncFawe5G+ldX5sECe00JlMu+nb6cnpSwBRI=
X-Google-DKIM-Signature: v=1; a=rsa-sha256; c=relaxed/relaxed;
 d=1e100.net; s=20230601; t=1709323840; x=1709928640;
 h=references:in-reply-to:cc:to:from:subject:message-id:date
 :x-gm-message-state:from:to:cc:subject:date:message-id:reply-to;
 bh=oL2Bd1nJpwV/4CWy37xOncjiaBq+cNGtbqi3ZjRUwA0=;
 b=gcZl6EZNopQ9ZNajoLZLJzeX5Ikl0ahIn6hYC5RMw1V6RlJR7wRQjD9FMF5ApeXQGk
 tlH1JI3d0FfsBA+YcmlY0UiKY7gjYAaL1GZGCw8Q5KqO/NQpjZq7Au4JDtvCyIxAZ9A8
 2luvhP+7/DyRRQW/41DB1fz0lWE+0ydOo+BWw8Ip7KGK3QaDxaDoaILgH9pHveZo9+sr
 DYR+HHNpd+T8jCQ7fpEEyIyl1TPD/D6w77YOYLs6ufwg19BFBftai7Tk+dAkGaTvCxYM
 LLUXqdXY5sKXTwTb9N0K/+/5tVgirPQGPnGEnM/Tp18zRaPFFvuuFJhyqqqKZUjftcZl
 Y4gg==
X-Gm-Message-State: AOJu0YwoCBFBxcjq11ntpZjk741tYrYyAuFmX76Nax2s545QIb1h8plS
 r49tM2aPB+OkFTIzokz2hipjp0m1FE25uET3P9//ln6svL+oVp7isEjxjdVJXzDnzPLQuU7U6LR
 uYf8FOvKU8zE51lpCFl8k0M3Jt3Z9YqcRM/6DKSYdLcwM8JmjwVxQVy5H
X-Google-Smtp-Source: AGHT+IHKqjnq+f1YUsRJBL7nxXbHg7U2T0dWTrh/AZFUyUGQrRH5qpaZz+AdiPUhrJHN21K/efcutFzC6eNK
X-Received: by 2002:a6b:c953:0:b0:7c7:247e:34c7 with SMTP id
 z80-20020a6bc953000000b007c7247e34c7mr3089303iof.9.1709323840523; 
 Fri, 01 Mar 2024 12:10:40 -0800 (PST)
Received: from postal.iol.unh.edu (postal.iol.unh.edu.
 [2606:4100:3880:1234::84]) by smtp-relay.gmail.com with ESMTPS id
 fy2-20020a0566381e8200b004745b2a2ce8sm112422jab.74.2024.03.01.12.10.40
 (version=TLS1_2 cipher=ECDHE-ECDSA-AES128-GCM-SHA256 bits=128/128);
 Fri, 01 Mar 2024 12:10:40 -0800 (PST)
X-Relaying-Domain: iol.unh.edu
Date: Fri, 01 Mar 2024 12:10:40 -0800 (PST)
Message-ID: <65e23640.050a0220.f5b31.7809SMTPIN_ADDED_MISSING@mx.google.com>
Received: from [172.17.0.9] (unknown [172.18.0.217])
 by postal.iol.unh.edu (Postfix) with ESMTP id 2DBA66043484;
 Fri,  1 Mar 2024 15:10:40 -0500 (EST)
Subject: |SUCCESS| pw137659 [PATCH] [v4] net/cnxk: support Tx queue descripto
From: dpdklab@iol.unh.edu
To: Test Report <test-report@dpdk.org>
Cc: dpdk-test-reports@iol.unh.edu
In-Reply-To: <1709286509-18322-1-git-send-email-skoteshwar@marvell.com>
References: <1709286509-18322-1-git-send-email-skoteshwar@marvell.com>
Content-Type: text/plain
X-BeenThere: test-report@dpdk.org
X-Mailman-Version: 2.1.29
Precedence: list
List-Id: automatic DPDK test reports <test-report.dpdk.org>
List-Unsubscribe: <https://mails.dpdk.org/options/test-report>,
 <mailto:test-report-request@dpdk.org?subject=unsubscribe>
List-Archive: <http://mails.dpdk.org/archives/test-report/>
List-Post: <mailto:test-report@dpdk.org>
List-Help: <mailto:test-report-request@dpdk.org?subject=help>
List-Subscribe: <https://mails.dpdk.org/listinfo/test-report>,
 <mailto:test-report-request@dpdk.org?subject=subscribe>
Errors-To: test-report-bounces@dpdk.org

Test-Label: iol-compile-arm64-testing
Test-Status: SUCCESS
http://dpdk.org/patch/137659

_Testing PASS_

Submitter: Satha Koteswara Rao Kottidi <skoteshwar@marvell.com>
Date: Friday, March 01 2024 09:48:29 
DPDK git baseline: Repo:dpdk
  Branch: master
  CommitID:ce8ce20ae46fe0df7632a0172c73d2dcd1ac0187

137659 --> testing pass

Test environment and result as below:

+----------------------------------------+--------------------+
|              Environment               | dpdk_meson_compile |
+========================================+====================+
| Ubuntu 20.04 ARM SVE                   | PASS               |
+----------------------------------------+--------------------+
| Ubuntu 20.04 aarch32 GCC Cross Compile | PASS               |
+----------------------------------------+--------------------+
| Ubuntu 20.04 ARM Clang Cross Compile   | PASS               |
+----------------------------------------+--------------------+
| Debian 11 (Buster) (ARM)               | PASS               |
+----------------------------------------+--------------------+
| Debian 12 (arm)                        | PASS               |
+----------------------------------------+--------------------+
| Ubuntu 20.04 ARM GCC Cross Compile     | PASS               |
+----------------------------------------+--------------------+
| Fedora 38 (ARM)                        | PASS               |
+----------------------------------------+--------------------+
| Ubuntu 20.04 (ARM)                     | PASS               |
+----------------------------------------+--------------------+
| CentOS Stream 9 (ARM)                  | PASS               |
+----------------------------------------+--------------------+
| Fedora 38 (ARM Clang)                  | PASS               |
+----------------------------------------+--------------------+
| Fedora 37 (ARM)                        | PASS               |
+----------------------------------------+--------------------+


Ubuntu 20.04 ARM SVE
	Kernel: 5.4.0-80-generic
	Compiler: gcc 10.3.0 (Ubuntu 10.3.0-1ubuntu1~20.04)

Ubuntu 20.04 aarch32 GCC Cross Compile
	Kernel: 5.4.0-72-generic
	Compiler: gcc 9.3.0

Ubuntu 20.04 ARM Clang Cross Compile
	Kernel: 5.4.0-72-generic
	Compiler: clang version 10.0.0-4ubuntu1

Debian 11 (Buster) (ARM)
	Kernel: Container Host Kernel
	Compiler: gcc 10.2.1

Debian 12 (arm)
	Kernel: Container Host Kernel
	Compiler: gcc 11

Ubuntu 20.04 ARM GCC Cross Compile
	Kernel: 5.4.0-72-generic
	Compiler: aarch64-linux-gnu-gcc (Ubuntu 9.3.0-17ubuntu1~20.04) 9.3.0

Fedora 38 (ARM)
	Kernel: Depends on container host
	Compiler: gcc 13.1.1

Ubuntu 20.04 (ARM)
	Kernel: Container Host Kernel
	Compiler: gcc 9.4.0

CentOS Stream 9 (ARM)
	Kernel: Container Host Kernel
	Compiler: gcc 11.3.1

Fedora 38 (ARM Clang)
	Kernel: Depends on container host
	Compiler: clang 16.0.3

Fedora 37 (ARM)
	Kernel: Depends on container host
	Compiler: gcc 12.3.1

To view detailed results, visit:
https://lab.dpdk.org/results/dashboard/patchsets/29365/

UNH-IOL DPDK Community Lab

To manage your email subscriptions, visit: 
https://lab.dpdk.org/results/dashboard/preferences/subscriptions/