From mboxrd@z Thu Jan  1 00:00:00 1970
Return-Path: <test-report-bounces@dpdk.org>
Received: from mails.dpdk.org (mails.dpdk.org [217.70.189.124])
	by inbox.dpdk.org (Postfix) with ESMTP id 6B4BA43C0F
	for <public@inbox.dpdk.org>; Fri,  1 Mar 2024 21:15:58 +0100 (CET)
Received: from mails.dpdk.org (localhost [127.0.0.1])
	by mails.dpdk.org (Postfix) with ESMTP id 66E97432CC;
	Fri,  1 Mar 2024 21:15:58 +0100 (CET)
Received: from mail-vk1-f225.google.com (mail-vk1-f225.google.com
 [209.85.221.225])
 by mails.dpdk.org (Postfix) with ESMTP id A662241611
 for <test-report@dpdk.org>; Fri,  1 Mar 2024 21:15:56 +0100 (CET)
Received: by mail-vk1-f225.google.com with SMTP id
 71dfb90a1353d-4d19972b455so794311e0c.3
 for <test-report@dpdk.org>; Fri, 01 Mar 2024 12:15:56 -0800 (PST)
DKIM-Signature: v=1; a=rsa-sha256; c=relaxed/relaxed;
 d=iol.unh.edu; s=unh-iol; t=1709324156; x=1709928956; darn=dpdk.org;
 h=references:in-reply-to:cc:to:from:subject:message-id:date:from:to
 :cc:subject:date:message-id:reply-to;
 bh=bkQxC3IUSeKZzqcrPtbX1MEIJtdyEYCqolM10oSwMKY=;
 b=PwkGCXpeNMF7DoxNWkCKqD/5wvwhLSOcaQ1Xzhw4+tYI3Laor78NZMdZtld1mz91hq
 RjWb5nkSqgIV4Of2lJxcBYpBLBwuvQKz8aq3pNHmONWjmex8ATvSBPVbb6p3HHC4FMoj
 URBmMgZ9ZjmOkliehdzOugba1uwyfksHNn3LY=
X-Google-DKIM-Signature: v=1; a=rsa-sha256; c=relaxed/relaxed;
 d=1e100.net; s=20230601; t=1709324156; x=1709928956;
 h=references:in-reply-to:cc:to:from:subject:message-id:date
 :x-gm-message-state:from:to:cc:subject:date:message-id:reply-to;
 bh=bkQxC3IUSeKZzqcrPtbX1MEIJtdyEYCqolM10oSwMKY=;
 b=rQewcqFOhVRzXtHOvlOp+laPbnPCnSIeFzH7LI49KsQaviH7J7/8vmWTqfCwdnj8Ea
 dd0dAFElKgu2g8Oey+nbHEZ1RGhkEtDj1uIBQjNoWXwwWu7VfBN9DNKL6XycsOTnss+Y
 KCzC5XSn2KbAXPUAD6K+CHN6+0Nt0f6Hc+HAicsjc44Y3tW0K8zdp0DgBPe69/9MDSKV
 2NHtsWXd5X7i9x9qNMc5bg75EBHZWz/LcrTB3sshuVrpGMyWVXsFWUWWZTCiWLkZFU0P
 SngkQv5Mn8uxvTkiISoQ3aQBQ32Q7jqrETM/SMfvoi3L2fV0YWvBHYZ8a9IcZCeIpNaP
 Nvfw==
X-Gm-Message-State: AOJu0Yw0FXQ9NQf8aGYuJ8Hlf74lEMaxy13nvBMp9B61bhtH0JkZn51e
 JL3MpiKCix+I4gunruPv8vB0mowaPw+r/GfJ95+YVQJnTTcEpATHHAyf0jB978pF+u8eNa5fbXm
 B4mmZeB51EDTYeljKNosnvMAxJvs+IinjTx2w9OeZ
X-Google-Smtp-Source: AGHT+IFSO32nbdyQrGvRMamET4JsPISuiHPQrsBJM+jf2ND7b1sGx8QsprZTdN2P1ro0oPVzCPwWm1OaG1Xx
X-Received: by 2002:a05:6122:448e:b0:4d3:48b9:3c94 with SMTP id
 cz14-20020a056122448e00b004d348b93c94mr2984892vkb.14.1709324156011; 
 Fri, 01 Mar 2024 12:15:56 -0800 (PST)
Received: from postal.iol.unh.edu (postal.iol.unh.edu. [132.177.123.84])
 by smtp-relay.gmail.com with ESMTPS id
 bw16-20020a05622a099000b0042ed3de1793sm22089qtb.25.2024.03.01.12.15.55
 (version=TLS1_2 cipher=ECDHE-ECDSA-AES128-GCM-SHA256 bits=128/128);
 Fri, 01 Mar 2024 12:15:55 -0800 (PST)
X-Relaying-Domain: iol.unh.edu
Date: Fri, 01 Mar 2024 12:15:55 -0800 (PST)
Message-ID: <65e2377b.050a0220.1aa8a.1544SMTPIN_ADDED_MISSING@mx.google.com>
Received: from [172.17.0.7] (unknown [172.18.0.217])
 by postal.iol.unh.edu (Postfix) with ESMTP id AF73F6043484;
 Fri,  1 Mar 2024 15:15:55 -0500 (EST)
Subject: |SUCCESS| pw137655-137657 [PATCH] [v2,3/3] net/nfp: add force reload
From: dpdklab@iol.unh.edu
To: Test Report <test-report@dpdk.org>
Cc: dpdk-test-reports@iol.unh.edu
In-Reply-To: <20240301084244.190484-4-chaoyong.he@corigine.com>
References: <20240301084244.190484-4-chaoyong.he@corigine.com>
Content-Type: text/plain
X-BeenThere: test-report@dpdk.org
X-Mailman-Version: 2.1.29
Precedence: list
List-Id: automatic DPDK test reports <test-report.dpdk.org>
List-Unsubscribe: <https://mails.dpdk.org/options/test-report>,
 <mailto:test-report-request@dpdk.org?subject=unsubscribe>
List-Archive: <http://mails.dpdk.org/archives/test-report/>
List-Post: <mailto:test-report@dpdk.org>
List-Help: <mailto:test-report-request@dpdk.org?subject=help>
List-Subscribe: <https://mails.dpdk.org/listinfo/test-report>,
 <mailto:test-report-request@dpdk.org?subject=subscribe>
Errors-To: test-report-bounces@dpdk.org

Test-Label: iol-compile-amd64-testing
Test-Status: SUCCESS
http://dpdk.org/patch/137657

_Testing PASS_

Submitter: Chaoyong He <chaoyong.he@corigine.com>
Date: Friday, March 01 2024 08:42:44 
DPDK git baseline: Repo:dpdk
  Branch: master
  CommitID:d4d5bbe6791850987d6d28da675574a868e8274c

137655-137657 --> testing pass

Test environment and result as below:

+---------------------+--------------------+----------------------+
|     Environment     | dpdk_meson_compile | dpdk_mingw64_compile |
+=====================+====================+======================+
| FreeBSD 13.2        | PASS               | SKIPPED              |
+---------------------+--------------------+----------------------+
| Debian Bullseye     | PASS               | SKIPPED              |
+---------------------+--------------------+----------------------+
| CentOS Stream 8     | PASS               | SKIPPED              |
+---------------------+--------------------+----------------------+
| CentOS Stream 9     | PASS               | SKIPPED              |
+---------------------+--------------------+----------------------+
| RHEL8               | PASS               | SKIPPED              |
+---------------------+--------------------+----------------------+
| openSUSE Leap 15    | PASS               | SKIPPED              |
+---------------------+--------------------+----------------------+
| Ubuntu 20.04        | PASS               | SKIPPED              |
+---------------------+--------------------+----------------------+
| Ubuntu 22.04        | PASS               | SKIPPED              |
+---------------------+--------------------+----------------------+
| Fedora 38           | PASS               | SKIPPED              |
+---------------------+--------------------+----------------------+
| Fedora 37           | PASS               | SKIPPED              |
+---------------------+--------------------+----------------------+
| Debian 12 (arm)     | PASS               | SKIPPED              |
+---------------------+--------------------+----------------------+
| Alpine              | PASS               | SKIPPED              |
+---------------------+--------------------+----------------------+
| Windows Server 2019 | SKIPPED            | PASS                 |
+---------------------+--------------------+----------------------+


FreeBSD 13.2
	Kernel: 13.2
	Compiler: clang 11.3.0

Debian Bullseye
	Kernel: 5.4.0-122-generic
	Compiler: gcc 10.2.1-6

CentOS Stream 8
	Kernel: 4.18.0-240.10.1.el8_3.x86_64
	Compiler: gcc 8.4.1 20200928

CentOS Stream 9
	Kernel: 4.18.0-240.10.1.el8_3.x86_64
	Compiler: gcc 11.3.1 20220421

RHEL8
	Kernel: 4.18.0-240.10.1.el8_3.x86_64
	Compiler: gcc 8.3.1 20191121 (Red Hat 8.3.1-5)

openSUSE Leap 15
	Kernel: 4.18.0-240.10.1.el8_3.x86_64
	Compiler: gcc 7.5.0

Ubuntu 20.04
	Kernel: 5.4.0-153-generic
	Compiler: gcc 9.4.0-1ubuntu1~20.04.1

Ubuntu 22.04
	Kernel: 4.18.0-240.10.1.el8_3.x86_64
	Compiler: gcc 11.3.0

Fedora 38
	Kernel: Depends on container host
	Compiler: gcc 13.1.1

Fedora 37
	Kernel: Depends on container host system
	Compiler: gcc 12.3.1

Debian 12 (arm)
	Kernel: Container Host Kernel
	Compiler: gcc 11

Alpine
	Kernel: 5.4.0-73-generic
	Compiler: gcc (Alpine 10.3.1_git20210424) 10.3.1 20210424

Windows Server 2019
	Kernel: 10.0
	Compiler: clang 14.0 and gcc 8.1.0 (MinGW)

To view detailed results, visit:
https://lab.dpdk.org/results/dashboard/patchsets/29363/

UNH-IOL DPDK Community Lab

To manage your email subscriptions, visit: 
https://lab.dpdk.org/results/dashboard/preferences/subscriptions/