From mboxrd@z Thu Jan  1 00:00:00 1970
Return-Path: <test-report-bounces@dpdk.org>
Received: from mails.dpdk.org (mails.dpdk.org [217.70.189.124])
	by inbox.dpdk.org (Postfix) with ESMTP id 27F0F43BD1
	for <public@inbox.dpdk.org>; Fri,  1 Mar 2024 22:33:57 +0100 (CET)
Received: from mails.dpdk.org (localhost [127.0.0.1])
	by mails.dpdk.org (Postfix) with ESMTP id 2471142D28;
	Fri,  1 Mar 2024 22:33:57 +0100 (CET)
Received: from mail-pf1-f228.google.com (mail-pf1-f228.google.com
 [209.85.210.228])
 by mails.dpdk.org (Postfix) with ESMTP id 13BF1427E6
 for <test-report@dpdk.org>; Fri,  1 Mar 2024 22:33:56 +0100 (CET)
Received: by mail-pf1-f228.google.com with SMTP id
 d2e1a72fcca58-6da4a923b1bso2324770b3a.2
 for <test-report@dpdk.org>; Fri, 01 Mar 2024 13:33:56 -0800 (PST)
DKIM-Signature: v=1; a=rsa-sha256; c=relaxed/relaxed;
 d=iol.unh.edu; s=unh-iol; t=1709328835; x=1709933635; darn=dpdk.org;
 h=references:in-reply-to:cc:to:from:subject:message-id:date:from:to
 :cc:subject:date:message-id:reply-to;
 bh=3zs07vpLawRHASss5sbATORY7ioejAV/QAq7caXWSdg=;
 b=TnAC+OGZuuVTG93QzSrxja41CAmTSAaseobRn1AcVSiTkp7tsEIefc79lcLWX0aU5m
 LanMQA89l8NFEyuLgn4ufNwzNo7Lalb7J5dlAUGCNv6+ypufX43jj3EMXC5/b3T2o21w
 4nJmL1cByE4Ytg2DWF7WlX+MES1FfHCfJ4DZI=
X-Google-DKIM-Signature: v=1; a=rsa-sha256; c=relaxed/relaxed;
 d=1e100.net; s=20230601; t=1709328835; x=1709933635;
 h=references:in-reply-to:cc:to:from:subject:message-id:date
 :x-gm-message-state:from:to:cc:subject:date:message-id:reply-to;
 bh=3zs07vpLawRHASss5sbATORY7ioejAV/QAq7caXWSdg=;
 b=UVP/t0RFZjeGQYKZdXsxeRGMPbjdGBLQJiHWRKTOtjSUVgN5ufrnirLIo7Ym1QGEyr
 KwyfcVsi6WY9X/xX1U2dyJcdjK4LefZoJhFIwBHHLrASZ7fHF++KsUeMss/rVbgFXtFI
 52JtGeoLwBkKFK5nSlr+VzWenhDR7JNwEbJMhzCH0R+mmkaOvjp1oTJxAsj2MED5HXAS
 ixali1FrBdhrKqCpczcdBOgBoBnDRDr97MfoCknqQKTQdhA8qJmmpbuzEF3fYccaegL/
 Mnt60X4UxXqmRPxAucUW2K8M5z7HvCX905JSux+A7rOvrajwpRMEwCz3ddnTATeYXjgG
 kdkw==
X-Gm-Message-State: AOJu0YwXlhcu78i5lZmGFJdHWSdx9vXcXPEZ4z9ApCjjQG1pjgM3vc6k
 wQEgkysDT6JYEnRH9Zwf8/Tq6qjhkssTqr1h4aWjbXeaFAf99b/H+DUCti3rI4s5d3yOeVEuY0j
 WGce2aNn6QGqBeQ1RE/z/063bUuKVhCgWm87QVtuiKjz3S4F71xihwu2V
X-Google-Smtp-Source: AGHT+IFkmzTYWc0iLaSK0YHI816bDkmWzasoQpr1RjX2mJTqcDXwcTf88c5JHJm2Kr4awpyaFRACEDdBTTCT
X-Received: by 2002:a05:6a00:2f04:b0:6e5:cde3:d25a with SMTP id
 fe4-20020a056a002f0400b006e5cde3d25amr2023718pfb.15.1709328835298; 
 Fri, 01 Mar 2024 13:33:55 -0800 (PST)
Received: from postal.iol.unh.edu (postal.iol.unh.edu.
 [2606:4100:3880:1234::84]) by smtp-relay.gmail.com with ESMTPS id
 s7-20020a056a00178700b006e56b0f274csm149451pfg.21.2024.03.01.13.33.55
 (version=TLS1_2 cipher=ECDHE-ECDSA-AES128-GCM-SHA256 bits=128/128);
 Fri, 01 Mar 2024 13:33:55 -0800 (PST)
X-Relaying-Domain: iol.unh.edu
Date: Fri, 01 Mar 2024 13:33:55 -0800 (PST)
Message-ID: <65e249c3.050a0220.6c7ce.9493SMTPIN_ADDED_MISSING@mx.google.com>
Received: from [172.21.0.6] (unknown [172.18.0.240])
 by postal.iol.unh.edu (Postfix) with ESMTP id 804126052712;
 Fri,  1 Mar 2024 16:33:54 -0500 (EST)
Subject: |SUCCESS| pw137762-137764 [PATCH] [v4,3/3] event/cnxk: support DMA e
From: dpdklab@iol.unh.edu
To: Test Report <test-report@dpdk.org>
Cc: dpdk-test-reports@iol.unh.edu
In-Reply-To: <20240301173202.2782112-3-amitprakashs@marvell.com>
References: <20240301173202.2782112-3-amitprakashs@marvell.com>
Content-Type: text/plain
X-BeenThere: test-report@dpdk.org
X-Mailman-Version: 2.1.29
Precedence: list
List-Id: automatic DPDK test reports <test-report.dpdk.org>
List-Unsubscribe: <https://mails.dpdk.org/options/test-report>,
 <mailto:test-report-request@dpdk.org?subject=unsubscribe>
List-Archive: <http://mails.dpdk.org/archives/test-report/>
List-Post: <mailto:test-report@dpdk.org>
List-Help: <mailto:test-report-request@dpdk.org?subject=help>
List-Subscribe: <https://mails.dpdk.org/listinfo/test-report>,
 <mailto:test-report-request@dpdk.org?subject=subscribe>
Errors-To: test-report-bounces@dpdk.org

Test-Label: iol-abi-testing
Test-Status: SUCCESS
http://dpdk.org/patch/137764

_Testing PASS_

Submitter: Amit Prakash Shukla <amitprakashs@marvell.com>
Date: Friday, March 01 2024 17:32:02 
DPDK git baseline: Repo:dpdk
  Branch: master
  CommitID:5df34de5808a7b826b8bc035d6ee3161a12be364

137762-137764 --> testing pass

Test environment and result as below:

+------------------+----------+
|   Environment    | abi_test |
+==================+==========+
| Fedora 38        | PASS     |
+------------------+----------+
| CentOS Stream 9  | PASS     |
+------------------+----------+
| Ubuntu 22.04     | PASS     |
+------------------+----------+
| openSUSE Leap 15 | PASS     |
+------------------+----------+
| RHEL8            | PASS     |
+------------------+----------+
| Debian Bullseye  | PASS     |
+------------------+----------+
| CentOS Stream 8  | PASS     |
+------------------+----------+
| Fedora 37        | PASS     |
+------------------+----------+
| Debian 12 (arm)  | PASS     |
+------------------+----------+


Fedora 38
	Kernel: Depends on container host
	Compiler: gcc 13.1.1

CentOS Stream 9
	Kernel: 4.18.0-240.10.1.el8_3.x86_64
	Compiler: gcc 11.3.1 20220421

Ubuntu 22.04
	Kernel: 4.18.0-240.10.1.el8_3.x86_64
	Compiler: gcc 11.3.0

openSUSE Leap 15
	Kernel: 4.18.0-240.10.1.el8_3.x86_64
	Compiler: gcc 7.5.0

RHEL8
	Kernel: 4.18.0-240.10.1.el8_3.x86_64
	Compiler: gcc 8.3.1 20191121 (Red Hat 8.3.1-5)

Debian Bullseye
	Kernel: 5.4.0-122-generic
	Compiler: gcc 10.2.1-6

CentOS Stream 8
	Kernel: 4.18.0-240.10.1.el8_3.x86_64
	Compiler: gcc 8.4.1 20200928

Fedora 37
	Kernel: Depends on container host system
	Compiler: gcc 12.3.1

Debian 12 (arm)
	Kernel: Container Host Kernel
	Compiler: gcc 11

To view detailed results, visit:
https://lab.dpdk.org/results/dashboard/patchsets/29381/

UNH-IOL DPDK Community Lab

To manage your email subscriptions, visit: 
https://lab.dpdk.org/results/dashboard/preferences/subscriptions/