From mboxrd@z Thu Jan  1 00:00:00 1970
Return-Path: <test-report-bounces@dpdk.org>
Received: from mails.dpdk.org (mails.dpdk.org [217.70.189.124])
	by inbox.dpdk.org (Postfix) with ESMTP id 4931C43BD1
	for <public@inbox.dpdk.org>; Fri,  1 Mar 2024 23:18:53 +0100 (CET)
Received: from mails.dpdk.org (localhost [127.0.0.1])
	by mails.dpdk.org (Postfix) with ESMTP id 42F86427E6;
	Fri,  1 Mar 2024 23:18:53 +0100 (CET)
Received: from mail-il1-f226.google.com (mail-il1-f226.google.com
 [209.85.166.226])
 by mails.dpdk.org (Postfix) with ESMTP id 37D2B41611
 for <test-report@dpdk.org>; Fri,  1 Mar 2024 23:18:52 +0100 (CET)
Received: by mail-il1-f226.google.com with SMTP id
 e9e14a558f8ab-365d5b91cc0so3316435ab.0
 for <test-report@dpdk.org>; Fri, 01 Mar 2024 14:18:52 -0800 (PST)
DKIM-Signature: v=1; a=rsa-sha256; c=relaxed/relaxed;
 d=iol.unh.edu; s=unh-iol; t=1709331531; x=1709936331; darn=dpdk.org;
 h=references:in-reply-to:cc:to:from:subject:message-id:date:from:to
 :cc:subject:date:message-id:reply-to;
 bh=vp3c2Jc5LZvYy0wvQpBhea7k6KU08IX2fojYly8WQSA=;
 b=IenkMLiyXzv6Gd3jVtcaMUXKtak1esmqL+6ghd4ragAHYuBEhISekVZxp03ocoy844
 PINDgl1cec0Xj33fv3haYVUKV1tAGuTox3FNTGW63r2D3g8E0bgknMT5eORXGo1VeZXL
 cxY0d3AZMe3ga5HVsbcr5kAV1c9jt2Nq5kDR4=
X-Google-DKIM-Signature: v=1; a=rsa-sha256; c=relaxed/relaxed;
 d=1e100.net; s=20230601; t=1709331531; x=1709936331;
 h=references:in-reply-to:cc:to:from:subject:message-id:date
 :x-gm-message-state:from:to:cc:subject:date:message-id:reply-to;
 bh=vp3c2Jc5LZvYy0wvQpBhea7k6KU08IX2fojYly8WQSA=;
 b=nhY43P7uaeZb9mx32Ni1dRQ0hyEpVLfX4UcHuH08pwSXhE2goF8HhA3UDw+aY8e4bD
 vmVSK7+ybhbx0wYt/8XjiVyiuJlFf0sgXQ8wbvoj7mKxQ2oFgsWkc+eCyvaqm1IApvke
 ioIV7Gx5yI2Mjlwy2ukQx0il+nQGPXJ4zOiMtXRbBZJBBZ9G6hFOvOvA/UFLCmQFW4vk
 zaryLtas8J2EWmNTAr0Ko5Fj/mJtCfFYgOemvjRnA+CgRDlUBbPIUP5sFRdD817PdS2B
 kH3QTLSt1g+v1YNZQcSzcmwhXHQhIQLc+7w+LFWlfdo2jDhUa51asx7P5Ha0OMvyVBtR
 O+LA==
X-Gm-Message-State: AOJu0YwNzQJEIBA1sUvuFYrJ12sBKBmYoU+iOmq2e6i21nm8O/hVMykV
 Ve4N1oBy3hGG8R2KolZhXLExLibN16VUhIRrj3fRneMeVE4tuXCyI3VNtJS82y6LcLzHzYWKis3
 5ZQcYbVH8rHVtFlsKIg2xN0MnFL8hu9zzSk7JdP2u
X-Google-Smtp-Source: AGHT+IG9Rezh9fRBsSb2UT1mzv64EF9qi8HzRFeSNX45dDc8RBUKiSzImawgP3ly86y+DBMiVbxlx50vDytQ
X-Received: by 2002:a92:cd81:0:b0:365:102a:ee10 with SMTP id
 r1-20020a92cd81000000b00365102aee10mr1982915ilb.6.1709331531616; 
 Fri, 01 Mar 2024 14:18:51 -0800 (PST)
Received: from postal.iol.unh.edu (postal.iol.unh.edu. [132.177.123.84])
 by smtp-relay.gmail.com with ESMTPS id
 j12-20020a92ca0c000000b00363a5abdd3dsm218867ils.41.2024.03.01.14.18.51
 (version=TLS1_2 cipher=ECDHE-ECDSA-AES128-GCM-SHA256 bits=128/128);
 Fri, 01 Mar 2024 14:18:51 -0800 (PST)
X-Relaying-Domain: iol.unh.edu
Date: Fri, 01 Mar 2024 14:18:51 -0800 (PST)
Message-ID: <65e2544b.920a0220.64055.ea9eSMTPIN_ADDED_MISSING@mx.google.com>
Received: from [172.21.0.6] (unknown [172.18.0.240])
 by postal.iol.unh.edu (Postfix) with ESMTP id 23F456052712;
 Fri,  1 Mar 2024 17:18:51 -0500 (EST)
Subject: |SUCCESS| pw137650 [PATCH] net/ice: fix null pointer dereferences
From: dpdklab@iol.unh.edu
To: Test Report <test-report@dpdk.org>
Cc: dpdk-test-reports@iol.unh.edu
In-Reply-To: <20240301052029.543989-1-wenwux.ma@intel.com>
References: <20240301052029.543989-1-wenwux.ma@intel.com>
Content-Type: text/plain
X-BeenThere: test-report@dpdk.org
X-Mailman-Version: 2.1.29
Precedence: list
List-Id: automatic DPDK test reports <test-report.dpdk.org>
List-Unsubscribe: <https://mails.dpdk.org/options/test-report>,
 <mailto:test-report-request@dpdk.org?subject=unsubscribe>
List-Archive: <http://mails.dpdk.org/archives/test-report/>
List-Post: <mailto:test-report@dpdk.org>
List-Help: <mailto:test-report-request@dpdk.org?subject=help>
List-Subscribe: <https://mails.dpdk.org/listinfo/test-report>,
 <mailto:test-report-request@dpdk.org?subject=subscribe>
Errors-To: test-report-bounces@dpdk.org

Test-Label: iol-unit-amd64-testing
Test-Status: SUCCESS
http://dpdk.org/patch/137650

_Testing PASS_

Submitter: Wenwu Ma <wenwux.ma@intel.com>
Date: Friday, March 01 2024 05:20:29 
DPDK git baseline: Repo:dpdk
  Branch: master
  CommitID:3408b132b31906fe1ed28d6b2009b98202e1cff0

137650 --> testing pass

Test environment and result as below:

+------------------+----------------+
|   Environment    | dpdk_unit_test |
+==================+================+
| CentOS Stream 8  | PASS           |
+------------------+----------------+
| Debian Bullseye  | PASS           |
+------------------+----------------+
| CentOS Stream 9  | PASS           |
+------------------+----------------+
| Fedora 37        | PASS           |
+------------------+----------------+
| Debian 12 (arm)  | PASS           |
+------------------+----------------+
| Ubuntu 20.04     | PASS           |
+------------------+----------------+
| openSUSE Leap 15 | PASS           |
+------------------+----------------+
| Fedora 38        | PASS           |
+------------------+----------------+
| Ubuntu 22.04     | PASS           |
+------------------+----------------+
| RHEL8            | PASS           |
+------------------+----------------+


CentOS Stream 8
	Kernel: 4.18.0-240.10.1.el8_3.x86_64
	Compiler: gcc 8.4.1 20200928

Debian Bullseye
	Kernel: 5.4.0-122-generic
	Compiler: gcc 10.2.1-6

CentOS Stream 9
	Kernel: 4.18.0-240.10.1.el8_3.x86_64
	Compiler: gcc 11.3.1 20220421

Fedora 37
	Kernel: Depends on container host system
	Compiler: gcc 12.3.1

Debian 12 (arm)
	Kernel: Container Host Kernel
	Compiler: gcc 11

Ubuntu 20.04
	Kernel: 5.4.0-153-generic
	Compiler: gcc 9.4.0-1ubuntu1~20.04.1

openSUSE Leap 15
	Kernel: 4.18.0-240.10.1.el8_3.x86_64
	Compiler: gcc 7.5.0

Fedora 38
	Kernel: Depends on container host
	Compiler: gcc 13.1.1

Ubuntu 22.04
	Kernel: 4.18.0-240.10.1.el8_3.x86_64
	Compiler: gcc 11.3.0

RHEL8
	Kernel: 4.18.0-240.10.1.el8_3.x86_64
	Compiler: gcc 8.3.1 20191121 (Red Hat 8.3.1-5)

To view detailed results, visit:
https://lab.dpdk.org/results/dashboard/patchsets/29358/

UNH-IOL DPDK Community Lab

To manage your email subscriptions, visit: 
https://lab.dpdk.org/results/dashboard/preferences/subscriptions/