From mboxrd@z Thu Jan  1 00:00:00 1970
Return-Path: <test-report-bounces@dpdk.org>
Received: from mails.dpdk.org (mails.dpdk.org [217.70.189.124])
	by inbox.dpdk.org (Postfix) with ESMTP id 67A9343BD1
	for <public@inbox.dpdk.org>; Fri,  1 Mar 2024 23:22:21 +0100 (CET)
Received: from mails.dpdk.org (localhost [127.0.0.1])
	by mails.dpdk.org (Postfix) with ESMTP id 625BE427E6;
	Fri,  1 Mar 2024 23:22:21 +0100 (CET)
Received: from mail-ua1-f97.google.com (mail-ua1-f97.google.com
 [209.85.222.97]) by mails.dpdk.org (Postfix) with ESMTP id AFD0341611
 for <test-report@dpdk.org>; Fri,  1 Mar 2024 23:22:20 +0100 (CET)
Received: by mail-ua1-f97.google.com with SMTP id
 a1e0cc1a2514c-7d6275d7d4dso1150465241.2
 for <test-report@dpdk.org>; Fri, 01 Mar 2024 14:22:20 -0800 (PST)
DKIM-Signature: v=1; a=rsa-sha256; c=relaxed/relaxed;
 d=iol.unh.edu; s=unh-iol; t=1709331740; x=1709936540; darn=dpdk.org;
 h=references:in-reply-to:cc:to:from:subject:message-id:date:from:to
 :cc:subject:date:message-id:reply-to;
 bh=V0eSotTHVElj2doHlgaHapny43om8ka0QGw5/8lDadE=;
 b=M7Xz8Wz3vYcYDt/brPyKSIMwCL5KJhIhxSd1h8y2Ni73wzemMAAafLQoRzn66bMsJa
 Wmy8Ll1POZIpEAjcBtRx8uAvmHnV3w9b4CnPNr0hBYRm8974fBzRF1uTnjdyx4MXjtQ0
 bG4DcL0ou+uEvDBrv+HPmKUoE8Ub2CS0acDWs=
X-Google-DKIM-Signature: v=1; a=rsa-sha256; c=relaxed/relaxed;
 d=1e100.net; s=20230601; t=1709331740; x=1709936540;
 h=references:in-reply-to:cc:to:from:subject:message-id:date
 :x-gm-message-state:from:to:cc:subject:date:message-id:reply-to;
 bh=V0eSotTHVElj2doHlgaHapny43om8ka0QGw5/8lDadE=;
 b=DiKyFMhY21CHBxtZFHcPTdPjH3c1PGAtCeMBK+HO4DALCwnp/vUZpfXDciZ5/319Sm
 fgTi3XE0TgCBgYdbKcOlT9b8ERal5TF0yIaf4gFDiktbrhJc4B/uVbj2eYRqUhZwWOZC
 lZoo5NSzRXvhahf1izDJVdrymgP+LB9MVnc8qHpskRPRU8XovCVJdIsV/S0KOI/FjNb9
 OikklPtbfMcTaDD3RNBLu71aIbwV5XKf73mlGSQeaEi5uCAhqniVgxHviLT0VmCEn+Fz
 n4CQfDsaxzx/IxmkMrC58LNuXHzzxeb724NRl6LcnqvNFKRFrbkamsUcJ6ZGcjnAO5fQ
 nIYA==
X-Gm-Message-State: AOJu0YxVgmQdu2ue8DFtJZGpspG4dqvd5XfmbzE02SDUSp6hR0/bYD07
 LXHQmxTB7CQerKW1r3yOwBCDwSvUr8kekZphQ8c+JHJz78jWLFnYZ4k/4P4e5+y1Ze3SLxOmfSx
 xiTU6JMmyjVJ8MEJL5MTapIOr8XAjCQkfxpIzbRIYdhil7iC2OrSfvPoZ
X-Google-Smtp-Source: AGHT+IHem4EAmzY9OBryL9+PRDcNRRQY8nLpNXX7lGEiDBGRZtxHCJ6mnXXEpxoVB5crcZzGuIXOKb0j+vea
X-Received: by 2002:a67:f8c3:0:b0:472:9ce3:dccb with SMTP id
 c3-20020a67f8c3000000b004729ce3dccbmr2580478vsp.30.1709331740093; 
 Fri, 01 Mar 2024 14:22:20 -0800 (PST)
Received: from postal.iol.unh.edu (postal.iol.unh.edu.
 [2606:4100:3880:1234::84]) by smtp-relay.gmail.com with ESMTPS id
 u11-20020ab03c4b000000b007db0d250347sm76640uaw.2.2024.03.01.14.22.20
 (version=TLS1_2 cipher=ECDHE-ECDSA-AES128-GCM-SHA256 bits=128/128);
 Fri, 01 Mar 2024 14:22:20 -0800 (PST)
X-Relaying-Domain: iol.unh.edu
Date: Fri, 01 Mar 2024 14:22:20 -0800 (PST)
Message-ID: <65e2551c.b00a0220.e3a2d.488bSMTPIN_ADDED_MISSING@mx.google.com>
Received: from [172.21.0.7] (unknown [172.18.0.240])
 by postal.iol.unh.edu (Postfix) with ESMTP id BB1FD6052712;
 Fri,  1 Mar 2024 17:22:18 -0500 (EST)
Subject: |SUCCESS| pw137650 [PATCH] net/ice: fix null pointer dereferences
From: dpdklab@iol.unh.edu
To: Test Report <test-report@dpdk.org>
Cc: dpdk-test-reports@iol.unh.edu
In-Reply-To: <20240301052029.543989-1-wenwux.ma@intel.com>
References: <20240301052029.543989-1-wenwux.ma@intel.com>
Content-Type: text/plain
X-BeenThere: test-report@dpdk.org
X-Mailman-Version: 2.1.29
Precedence: list
List-Id: automatic DPDK test reports <test-report.dpdk.org>
List-Unsubscribe: <https://mails.dpdk.org/options/test-report>,
 <mailto:test-report-request@dpdk.org?subject=unsubscribe>
List-Archive: <http://mails.dpdk.org/archives/test-report/>
List-Post: <mailto:test-report@dpdk.org>
List-Help: <mailto:test-report-request@dpdk.org?subject=help>
List-Subscribe: <https://mails.dpdk.org/listinfo/test-report>,
 <mailto:test-report-request@dpdk.org?subject=subscribe>
Errors-To: test-report-bounces@dpdk.org

Test-Label: iol-unit-arm64-testing
Test-Status: SUCCESS
http://dpdk.org/patch/137650

_Testing PASS_

Submitter: Wenwu Ma <wenwux.ma@intel.com>
Date: Friday, March 01 2024 05:20:29 
DPDK git baseline: Repo:dpdk
  Branch: master
  CommitID:3408b132b31906fe1ed28d6b2009b98202e1cff0

137650 --> testing pass

Test environment and result as below:

+--------------------------+----------------+---------------------------+------------------------------+--------------+
|       Environment        | dpdk_unit_test | cryptodev_sw_zuc_autotest | cryptodev_sw_snow3g_autotest | lpm_autotest |
+==========================+================+===========================+==============================+==============+
| CentOS Stream 9 (ARM)    | PASS           | SKIPPED                   | SKIPPED                      | SKIPPED      |
+--------------------------+----------------+---------------------------+------------------------------+--------------+
| Debian 11 (Buster) (ARM) | PASS           | SKIPPED                   | SKIPPED                      | SKIPPED      |
+--------------------------+----------------+---------------------------+------------------------------+--------------+
| Debian 12 (arm)          | PASS           | PASS                      | PASS                         | SKIPPED      |
+--------------------------+----------------+---------------------------+------------------------------+--------------+
| Fedora 38 (ARM)          | PASS           | SKIPPED                   | SKIPPED                      | SKIPPED      |
+--------------------------+----------------+---------------------------+------------------------------+--------------+
| Fedora 37 (ARM)          | PASS           | SKIPPED                   | SKIPPED                      | SKIPPED      |
+--------------------------+----------------+---------------------------+------------------------------+--------------+
| Ubuntu 20.04 (ARM)       | PASS           | SKIPPED                   | SKIPPED                      | SKIPPED      |
+--------------------------+----------------+---------------------------+------------------------------+--------------+
| Fedora 38 (ARM Clang)    | PASS           | SKIPPED                   | SKIPPED                      | SKIPPED      |
+--------------------------+----------------+---------------------------+------------------------------+--------------+
| Ubuntu 20.04 ARM SVE     | SKIPPED        | SKIPPED                   | SKIPPED                      | PASS         |
+--------------------------+----------------+---------------------------+------------------------------+--------------+


CentOS Stream 9 (ARM)
	Kernel: Container Host Kernel
	Compiler: gcc 11.3.1

Debian 11 (Buster) (ARM)
	Kernel: Container Host Kernel
	Compiler: gcc 10.2.1

Debian 12 (arm)
	Kernel: Container Host Kernel
	Compiler: gcc 11

Fedora 38 (ARM)
	Kernel: Depends on container host
	Compiler: gcc 13.1.1

Fedora 37 (ARM)
	Kernel: Depends on container host
	Compiler: gcc 12.3.1

Ubuntu 20.04 (ARM)
	Kernel: Container Host Kernel
	Compiler: gcc 9.4.0

Fedora 38 (ARM Clang)
	Kernel: Depends on container host
	Compiler: clang 16.0.3

Ubuntu 20.04 ARM SVE
	Kernel: 5.4.0-80-generic
	Compiler: gcc 10.3.0 (Ubuntu 10.3.0-1ubuntu1~20.04)

To view detailed results, visit:
https://lab.dpdk.org/results/dashboard/patchsets/29358/

UNH-IOL DPDK Community Lab

To manage your email subscriptions, visit: 
https://lab.dpdk.org/results/dashboard/preferences/subscriptions/