From mboxrd@z Thu Jan  1 00:00:00 1970
Return-Path: <test-report-bounces@dpdk.org>
Received: from mails.dpdk.org (mails.dpdk.org [217.70.189.124])
	by inbox.dpdk.org (Postfix) with ESMTP id E4F2943C12
	for <public@inbox.dpdk.org>; Fri,  1 Mar 2024 23:34:22 +0100 (CET)
Received: from mails.dpdk.org (localhost [127.0.0.1])
	by mails.dpdk.org (Postfix) with ESMTP id DFDC8427E6;
	Fri,  1 Mar 2024 23:34:22 +0100 (CET)
Received: from mail-pl1-f227.google.com (mail-pl1-f227.google.com
 [209.85.214.227])
 by mails.dpdk.org (Postfix) with ESMTP id 7E82741611
 for <test-report@dpdk.org>; Fri,  1 Mar 2024 23:34:21 +0100 (CET)
Received: by mail-pl1-f227.google.com with SMTP id
 d9443c01a7336-1dbd32cff0bso25325415ad.0
 for <test-report@dpdk.org>; Fri, 01 Mar 2024 14:34:21 -0800 (PST)
DKIM-Signature: v=1; a=rsa-sha256; c=relaxed/relaxed;
 d=iol.unh.edu; s=unh-iol; t=1709332461; x=1709937261; darn=dpdk.org;
 h=references:in-reply-to:cc:to:from:subject:message-id:date:from:to
 :cc:subject:date:message-id:reply-to;
 bh=Buay3D9Hw80JKmE4i5/aL62ZAC+8Ci3C74bXOOf//+s=;
 b=JYbDLQcI6joFjcn68jGI72dMg9SN+EOQteZdgfJ1eL9N9Ibf51TeZIJh9C5YPSeAL6
 mvz8YVwENbwDL5K5TmVT/r/1e6MQILKcvOw4z8RQvnkteiXJ3j7WzHUQY/XpEthQH1JT
 JQ0nvkxUsvwrJW7VoKmTOMfmUehAjUMDlkoIo=
X-Google-DKIM-Signature: v=1; a=rsa-sha256; c=relaxed/relaxed;
 d=1e100.net; s=20230601; t=1709332461; x=1709937261;
 h=references:in-reply-to:cc:to:from:subject:message-id:date
 :x-gm-message-state:from:to:cc:subject:date:message-id:reply-to;
 bh=Buay3D9Hw80JKmE4i5/aL62ZAC+8Ci3C74bXOOf//+s=;
 b=Q1TULF0GeWoxqwazOrSw3ncjPfeHcLWwvIZ6jQj6WQe4+7vox2TtCmVzZvk8Is0wfC
 5HvXEJALXVJMju2ROewQm2XUVOhQl+v9y9EkqMhRr0Nm11aQBNEBWN/TeZHQfSp9uSSC
 SGiB6U1Mc2nG8ttjx+5VJCcmN/LHC0EReB8ytPiG+9dfJsRsXO8klZF0uBzJRgXiHyHD
 y/FTOcnOXpGVVvCQaPr00oyIhgz2YGjWaDmrR+4XnrHf9MN+IOGj9Xti68fPfIAGVAbe
 boqAQG0VhB4SkNjXZ21sR1neHYWASbtoqzpCX2v3rcX3AjD+W4fLfjQJ8DRxqT9R1r+3
 bssg==
X-Gm-Message-State: AOJu0YxgiVD57QTLxRGW7DG+OL4B3RehdxAHNIzu717psb0pi0A4ccfk
 jJvP8ESctuG4q54c01z67KiHg0FzZ/RQkgtEal2RN1k6KW/Ia9fda0oR1clpIXL/JxELQ1hbVX9
 LbptpCAm3T6RXXpTipwWM60LXOwBTpjCYDs1qaEl5DgFiy+rzl50z9ccB
X-Google-Smtp-Source: AGHT+IEb1/XykGN0M4GWuE9C8EmOiiLBVKmir+aD38jD/AdeGDSbbJ2t86D0OvA8+Zng7lxqCTh1otZBK70E
X-Received: by 2002:a17:902:db02:b0:1dc:d642:aace with SMTP id
 m2-20020a170902db0200b001dcd642aacemr3420294plx.0.1709332460716; 
 Fri, 01 Mar 2024 14:34:20 -0800 (PST)
Received: from postal.iol.unh.edu (postal.iol.unh.edu.
 [2606:4100:3880:1234::84]) by smtp-relay.gmail.com with ESMTPS id
 z15-20020a17090ad78f00b0029b30e13f40sm29565pju.12.2024.03.01.14.34.20
 (version=TLS1_2 cipher=ECDHE-ECDSA-AES128-GCM-SHA256 bits=128/128);
 Fri, 01 Mar 2024 14:34:20 -0800 (PST)
X-Relaying-Domain: iol.unh.edu
Date: Fri, 01 Mar 2024 14:34:20 -0800 (PST)
Message-ID: <65e257ec.170a0220.809db.1b87SMTPIN_ADDED_MISSING@mx.google.com>
Received: from [172.21.0.6] (unknown [172.18.0.240])
 by postal.iol.unh.edu (Postfix) with ESMTP id DE7096052712;
 Fri,  1 Mar 2024 17:34:19 -0500 (EST)
Subject: |SUCCESS| pw137650 [PATCH] net/ice: fix null pointer dereferences
From: dpdklab@iol.unh.edu
To: Test Report <test-report@dpdk.org>
Cc: dpdk-test-reports@iol.unh.edu
In-Reply-To: <20240301052029.543989-1-wenwux.ma@intel.com>
References: <20240301052029.543989-1-wenwux.ma@intel.com>
Content-Type: text/plain
X-BeenThere: test-report@dpdk.org
X-Mailman-Version: 2.1.29
Precedence: list
List-Id: automatic DPDK test reports <test-report.dpdk.org>
List-Unsubscribe: <https://mails.dpdk.org/options/test-report>,
 <mailto:test-report-request@dpdk.org?subject=unsubscribe>
List-Archive: <http://mails.dpdk.org/archives/test-report/>
List-Post: <mailto:test-report@dpdk.org>
List-Help: <mailto:test-report-request@dpdk.org?subject=help>
List-Subscribe: <https://mails.dpdk.org/listinfo/test-report>,
 <mailto:test-report-request@dpdk.org?subject=subscribe>
Errors-To: test-report-bounces@dpdk.org

Test-Label: iol-compile-arm64-testing
Test-Status: SUCCESS
http://dpdk.org/patch/137650

_Testing PASS_

Submitter: Wenwu Ma <wenwux.ma@intel.com>
Date: Friday, March 01 2024 05:20:29 
DPDK git baseline: Repo:dpdk
  Branch: master
  CommitID:3408b132b31906fe1ed28d6b2009b98202e1cff0

137650 --> testing pass

Test environment and result as below:

+----------------------------------------+--------------------+
|              Environment               | dpdk_meson_compile |
+========================================+====================+
| Ubuntu 20.04 ARM SVE                   | PASS               |
+----------------------------------------+--------------------+
| Fedora 38 (ARM)                        | PASS               |
+----------------------------------------+--------------------+
| Fedora 37 (ARM)                        | PASS               |
+----------------------------------------+--------------------+
| Ubuntu 20.04 (ARM)                     | PASS               |
+----------------------------------------+--------------------+
| Debian 11 (Buster) (ARM)               | PASS               |
+----------------------------------------+--------------------+
| Ubuntu 20.04 aarch32 GCC Cross Compile | PASS               |
+----------------------------------------+--------------------+
| Debian 12 (arm)                        | PASS               |
+----------------------------------------+--------------------+
| CentOS Stream 9 (ARM)                  | PASS               |
+----------------------------------------+--------------------+
| Ubuntu 20.04 ARM Clang Cross Compile   | PASS               |
+----------------------------------------+--------------------+
| Ubuntu 20.04 ARM GCC Cross Compile     | PASS               |
+----------------------------------------+--------------------+
| Fedora 38 (ARM Clang)                  | PASS               |
+----------------------------------------+--------------------+


Ubuntu 20.04 ARM SVE
	Kernel: 5.4.0-80-generic
	Compiler: gcc 10.3.0 (Ubuntu 10.3.0-1ubuntu1~20.04)

Fedora 38 (ARM)
	Kernel: Depends on container host
	Compiler: gcc 13.1.1

Fedora 37 (ARM)
	Kernel: Depends on container host
	Compiler: gcc 12.3.1

Ubuntu 20.04 (ARM)
	Kernel: Container Host Kernel
	Compiler: gcc 9.4.0

Debian 11 (Buster) (ARM)
	Kernel: Container Host Kernel
	Compiler: gcc 10.2.1

Ubuntu 20.04 aarch32 GCC Cross Compile
	Kernel: 5.4.0-72-generic
	Compiler: gcc 9.3.0

Debian 12 (arm)
	Kernel: Container Host Kernel
	Compiler: gcc 11

CentOS Stream 9 (ARM)
	Kernel: Container Host Kernel
	Compiler: gcc 11.3.1

Ubuntu 20.04 ARM Clang Cross Compile
	Kernel: 5.4.0-72-generic
	Compiler: clang version 10.0.0-4ubuntu1

Ubuntu 20.04 ARM GCC Cross Compile
	Kernel: 5.4.0-72-generic
	Compiler: aarch64-linux-gnu-gcc (Ubuntu 9.3.0-17ubuntu1~20.04) 9.3.0

Fedora 38 (ARM Clang)
	Kernel: Depends on container host
	Compiler: clang 16.0.3

To view detailed results, visit:
https://lab.dpdk.org/results/dashboard/patchsets/29358/

UNH-IOL DPDK Community Lab

To manage your email subscriptions, visit: 
https://lab.dpdk.org/results/dashboard/preferences/subscriptions/