From mboxrd@z Thu Jan  1 00:00:00 1970
Return-Path: <test-report-bounces@dpdk.org>
Received: from mails.dpdk.org (mails.dpdk.org [217.70.189.124])
	by inbox.dpdk.org (Postfix) with ESMTP id 659AF43C12
	for <public@inbox.dpdk.org>; Fri,  1 Mar 2024 23:36:08 +0100 (CET)
Received: from mails.dpdk.org (localhost [127.0.0.1])
	by mails.dpdk.org (Postfix) with ESMTP id 5FB8F427E6;
	Fri,  1 Mar 2024 23:36:08 +0100 (CET)
Received: from mail-yb1-f226.google.com (mail-yb1-f226.google.com
 [209.85.219.226])
 by mails.dpdk.org (Postfix) with ESMTP id EA27E41611
 for <test-report@dpdk.org>; Fri,  1 Mar 2024 23:36:06 +0100 (CET)
Received: by mail-yb1-f226.google.com with SMTP id
 3f1490d57ef6-dc745927098so2341094276.3
 for <test-report@dpdk.org>; Fri, 01 Mar 2024 14:36:06 -0800 (PST)
DKIM-Signature: v=1; a=rsa-sha256; c=relaxed/relaxed;
 d=iol.unh.edu; s=unh-iol; t=1709332566; x=1709937366; darn=dpdk.org;
 h=references:in-reply-to:cc:to:from:subject:message-id:date:from:to
 :cc:subject:date:message-id:reply-to;
 bh=bor/NByuV8ULbPd5C/9HExqYZNJsMxkv8CuMCgld/Q4=;
 b=L6G1e3yJw0gnwDpPRsDesgRSfMRYSQX4aeXplIyFLWeEgsGuyBuXzrpJYzWMy8vwJC
 +fAwZHO/8tfhi7n3rZwFZPQiwGn+lnWhJ1LurkCIaqXwO/7uP3t6W5djYA0XTT+SimbE
 EUuL4KZcWk87uAbLHStKHx+3/SxMCwgCivD+o=
X-Google-DKIM-Signature: v=1; a=rsa-sha256; c=relaxed/relaxed;
 d=1e100.net; s=20230601; t=1709332566; x=1709937366;
 h=references:in-reply-to:cc:to:from:subject:message-id:date
 :x-gm-message-state:from:to:cc:subject:date:message-id:reply-to;
 bh=bor/NByuV8ULbPd5C/9HExqYZNJsMxkv8CuMCgld/Q4=;
 b=Vlet0PIvLFwNQ8MXii8h8pK1HH7AC3qjLefupBSGftr6IC9muxoweJyhWqvZCyYmnx
 /CjuDjBhlVrx37cOo6X+hc+YGoaqYeLUGHO7KgwjjwIqhwcZ4RpgcvTFlJ0jDeryewP2
 OIOs7jGNBHzwT5yJaarnaqzJW8AYjfL+cN8dJlJznpBlX3p9gJ+YOk60vuysI+Hn1vhq
 vwvz9EoKlMTfQuKp0en20ze2WYFNR/QdIPjBmVA6WF+1IQN/SieS137bOgio3rqCa074
 rDgLRQa4nlJKWhqKI4njfFPUh87IZXozl2TOqMmzOqNILYU4Vi6pVK+ikR+yzWaLEo1a
 /yig==
X-Gm-Message-State: AOJu0YzP8RcV32mhcQkTfpKMFb9DSqYR0ihLPrkgeM4rowYnRRW2DN+f
 5BGwoICbCKZRAv2KE2cciDGUbFd5mjRfUP163ywOZgFInkeahqXn5YbELmsTco4J123R3xjtVfs
 NTGM42aABj5U+EW/9V+vHlU/icEOw/gmHiGNn4k70
X-Google-Smtp-Source: AGHT+IHIB8FeB0BONYrLdP8UJEZ7DjS3uncyR0SoAA53NZvWYkJiCNCkMJLD8MBj6WTGQyqq0BdcafjrNDF9
X-Received: by 2002:a25:8b0e:0:b0:dcc:8c7d:970d with SMTP id
 i14-20020a258b0e000000b00dcc8c7d970dmr2620582ybl.47.1709332565779; 
 Fri, 01 Mar 2024 14:36:05 -0800 (PST)
Received: from postal.iol.unh.edu (postal.iol.unh.edu. [132.177.123.84])
 by smtp-relay.gmail.com with ESMTPS id
 y67-20020a25c846000000b00dc64ba82c30sm218290ybf.0.2024.03.01.14.36.05
 (version=TLS1_2 cipher=ECDHE-ECDSA-AES128-GCM-SHA256 bits=128/128);
 Fri, 01 Mar 2024 14:36:05 -0800 (PST)
X-Relaying-Domain: iol.unh.edu
Date: Fri, 01 Mar 2024 14:36:05 -0800 (PST)
Message-ID: <65e25855.250a0220.3c6f8.e946SMTPIN_ADDED_MISSING@mx.google.com>
Received: from [172.21.0.6] (unknown [172.18.0.240])
 by postal.iol.unh.edu (Postfix) with ESMTP id 6F32C6052712;
 Fri,  1 Mar 2024 17:36:05 -0500 (EST)
Subject: |SUCCESS| pw137690 [PATCH] examples/l3fwd: fix Rx over not ready por
From: dpdklab@iol.unh.edu
To: Test Report <test-report@dpdk.org>
Cc: dpdk-test-reports@iol.unh.edu
In-Reply-To: <20240301163931.107036-1-konstantin.v.ananyev@yandex.ru>
References: <20240301163931.107036-1-konstantin.v.ananyev@yandex.ru>
Content-Type: text/plain
X-BeenThere: test-report@dpdk.org
X-Mailman-Version: 2.1.29
Precedence: list
List-Id: automatic DPDK test reports <test-report.dpdk.org>
List-Unsubscribe: <https://mails.dpdk.org/options/test-report>,
 <mailto:test-report-request@dpdk.org?subject=unsubscribe>
List-Archive: <http://mails.dpdk.org/archives/test-report/>
List-Post: <mailto:test-report@dpdk.org>
List-Help: <mailto:test-report-request@dpdk.org?subject=help>
List-Subscribe: <https://mails.dpdk.org/listinfo/test-report>,
 <mailto:test-report-request@dpdk.org?subject=subscribe>
Errors-To: test-report-bounces@dpdk.org

Test-Label: iol-abi-testing
Test-Status: SUCCESS
http://dpdk.org/patch/137690

_Testing PASS_

Submitter: Konstantin Ananyev <konstantin.v.ananyev@yandex.ru>
Date: Friday, March 01 2024 16:39:31 
DPDK git baseline: Repo:dpdk
  Branch: master
  CommitID:5df34de5808a7b826b8bc035d6ee3161a12be364

137690 --> testing pass

Test environment and result as below:

+------------------+----------+
|   Environment    | abi_test |
+==================+==========+
| CentOS Stream 8  | PASS     |
+------------------+----------+
| Debian 12 (arm)  | PASS     |
+------------------+----------+
| Debian Bullseye  | PASS     |
+------------------+----------+
| Fedora 38        | PASS     |
+------------------+----------+
| openSUSE Leap 15 | PASS     |
+------------------+----------+
| CentOS Stream 9  | PASS     |
+------------------+----------+
| Ubuntu 22.04     | PASS     |
+------------------+----------+
| RHEL8            | PASS     |
+------------------+----------+


CentOS Stream 8
	Kernel: 4.18.0-240.10.1.el8_3.x86_64
	Compiler: gcc 8.4.1 20200928

Debian 12 (arm)
	Kernel: Container Host Kernel
	Compiler: gcc 11

Debian Bullseye
	Kernel: 5.4.0-122-generic
	Compiler: gcc 10.2.1-6

Fedora 38
	Kernel: Depends on container host
	Compiler: clang 16.0.3

openSUSE Leap 15
	Kernel: 4.18.0-240.10.1.el8_3.x86_64
	Compiler: gcc 7.5.0

CentOS Stream 9
	Kernel: 4.18.0-240.10.1.el8_3.x86_64
	Compiler: gcc 11.3.1 20220421

Ubuntu 22.04
	Kernel: 4.18.0-240.10.1.el8_3.x86_64
	Compiler: gcc 11.3.0

RHEL8
	Kernel: 4.18.0-240.10.1.el8_3.x86_64
	Compiler: gcc 8.3.1 20191121 (Red Hat 8.3.1-5)

To view detailed results, visit:
https://lab.dpdk.org/results/dashboard/patchsets/29379/

UNH-IOL DPDK Community Lab

To manage your email subscriptions, visit: 
https://lab.dpdk.org/results/dashboard/preferences/subscriptions/