From mboxrd@z Thu Jan  1 00:00:00 1970
Return-Path: <test-report-bounces@dpdk.org>
Received: from mails.dpdk.org (mails.dpdk.org [217.70.189.124])
	by inbox.dpdk.org (Postfix) with ESMTP id 3B1ED43C12
	for <public@inbox.dpdk.org>; Fri,  1 Mar 2024 23:41:17 +0100 (CET)
Received: from mails.dpdk.org (localhost [127.0.0.1])
	by mails.dpdk.org (Postfix) with ESMTP id 37144427E6;
	Fri,  1 Mar 2024 23:41:17 +0100 (CET)
Received: from mail-oo1-f98.google.com (mail-oo1-f98.google.com
 [209.85.161.98]) by mails.dpdk.org (Postfix) with ESMTP id A5CD441611
 for <test-report@dpdk.org>; Fri,  1 Mar 2024 23:41:15 +0100 (CET)
Received: by mail-oo1-f98.google.com with SMTP id
 006d021491bc7-5a11498b7c1so47832eaf.1
 for <test-report@dpdk.org>; Fri, 01 Mar 2024 14:41:15 -0800 (PST)
DKIM-Signature: v=1; a=rsa-sha256; c=relaxed/relaxed;
 d=iol.unh.edu; s=unh-iol; t=1709332875; x=1709937675; darn=dpdk.org;
 h=references:in-reply-to:cc:to:from:subject:message-id:date:from:to
 :cc:subject:date:message-id:reply-to;
 bh=bor/NByuV8ULbPd5C/9HExqYZNJsMxkv8CuMCgld/Q4=;
 b=f/t2721jnXvsQmDlsqVxGnRXvTHMXyBWEuDWGlk/L4CfjGo1T8+7v+9f0lIsn3mxnM
 6FQj81RvpzuZxmcAZgelk4NEDXciUckQu6D3TYFTUB11XDLZeRK9fJBj8QaFSzmU/FXX
 fh0+k0BapDmHsStlte9WAtXzqQk1CjaEMGm/U=
X-Google-DKIM-Signature: v=1; a=rsa-sha256; c=relaxed/relaxed;
 d=1e100.net; s=20230601; t=1709332875; x=1709937675;
 h=references:in-reply-to:cc:to:from:subject:message-id:date
 :x-gm-message-state:from:to:cc:subject:date:message-id:reply-to;
 bh=bor/NByuV8ULbPd5C/9HExqYZNJsMxkv8CuMCgld/Q4=;
 b=FzoMzD+2A0z7SJczlIBPLnWfeFAqrQ7tbvcFRJlYdWL/s2BYSyBBV8kJcyldcZ1UT/
 G/stXir1J90NaYAV1M4rE/NFoM+VH2+ZgOPNjYHOosgOyCx6sdOeKzUuQFWrArqxGanf
 edFlPLjWCArHwjdpsPfV9wOl8rr1gV6G3FuMfEivTeNH2SaERnuAmVwCtEvq8MRjCjkU
 6FIL3T89L4A+LyEDmoFOy9nVp2Bs5hlZftzZAMABMrQKHHNWzyPL/c+hFG7VIJMl4Y6M
 s8nOyB/xKPTsoO4Xybvr6uyp6idAcLsmuWwTo/19+XmsukV2tu6iGACT1TYczi1tmw7f
 bIfw==
X-Gm-Message-State: AOJu0Yy0fmmEWVCCf3+ATZq7gD4wg3YQxS8BjXM48sQN/8YhJ5sb90Y9
 2ptL1YE9FGANxSU7rctHgn16iYqRW317SSyaDbPy1v79gOibiJowpuD3VHHfN14V0TAYhV4PHCx
 fRfCGvERP+KwlndIO9KhiO6htBwOiRee5V7DRxQUT
X-Google-Smtp-Source: AGHT+IG9em9/h1fY1Rln5OA1FiJZdSJVCKtbbKnMvtVoJxacT8yPlIDW0rqjTpLx3nuWVrsVscgdW5Qs4iHq
X-Received: by 2002:a4a:3446:0:b0:5a1:15d8:43e4 with SMTP id
 n6-20020a4a3446000000b005a115d843e4mr9603oof.4.1709332874990; 
 Fri, 01 Mar 2024 14:41:14 -0800 (PST)
Received: from postal.iol.unh.edu (postal.iol.unh.edu. [132.177.123.84])
 by smtp-relay.gmail.com with ESMTPS id
 l1-20020a4ab0c1000000b00599482da836sm79460oon.1.2024.03.01.14.41.14
 (version=TLS1_2 cipher=ECDHE-ECDSA-AES128-GCM-SHA256 bits=128/128);
 Fri, 01 Mar 2024 14:41:14 -0800 (PST)
X-Relaying-Domain: iol.unh.edu
Date: Fri, 01 Mar 2024 14:41:14 -0800 (PST)
Message-ID: <65e2598a.4a0a0220.9e407.46d2SMTPIN_ADDED_MISSING@mx.google.com>
Received: from [172.21.0.6] (unknown [172.18.0.240])
 by postal.iol.unh.edu (Postfix) with ESMTP id 74ECF6052712;
 Fri,  1 Mar 2024 17:41:14 -0500 (EST)
Subject: |SUCCESS| pw137690 [PATCH] examples/l3fwd: fix Rx over not ready por
From: dpdklab@iol.unh.edu
To: Test Report <test-report@dpdk.org>
Cc: dpdk-test-reports@iol.unh.edu
In-Reply-To: <20240301163931.107036-1-konstantin.v.ananyev@yandex.ru>
References: <20240301163931.107036-1-konstantin.v.ananyev@yandex.ru>
Content-Type: text/plain
X-BeenThere: test-report@dpdk.org
X-Mailman-Version: 2.1.29
Precedence: list
List-Id: automatic DPDK test reports <test-report.dpdk.org>
List-Unsubscribe: <https://mails.dpdk.org/options/test-report>,
 <mailto:test-report-request@dpdk.org?subject=unsubscribe>
List-Archive: <http://mails.dpdk.org/archives/test-report/>
List-Post: <mailto:test-report@dpdk.org>
List-Help: <mailto:test-report-request@dpdk.org?subject=help>
List-Subscribe: <https://mails.dpdk.org/listinfo/test-report>,
 <mailto:test-report-request@dpdk.org?subject=subscribe>
Errors-To: test-report-bounces@dpdk.org

Test-Label: iol-abi-testing
Test-Status: SUCCESS
http://dpdk.org/patch/137690

_Testing PASS_

Submitter: Konstantin Ananyev <konstantin.v.ananyev@yandex.ru>
Date: Friday, March 01 2024 16:39:31 
DPDK git baseline: Repo:dpdk
  Branch: master
  CommitID:5df34de5808a7b826b8bc035d6ee3161a12be364

137690 --> testing pass

Test environment and result as below:

+------------------+----------+
|   Environment    | abi_test |
+==================+==========+
| CentOS Stream 8  | PASS     |
+------------------+----------+
| Debian 12 (arm)  | PASS     |
+------------------+----------+
| Debian Bullseye  | PASS     |
+------------------+----------+
| Fedora 38        | PASS     |
+------------------+----------+
| openSUSE Leap 15 | PASS     |
+------------------+----------+
| CentOS Stream 9  | PASS     |
+------------------+----------+
| Ubuntu 22.04     | PASS     |
+------------------+----------+
| RHEL8            | PASS     |
+------------------+----------+


CentOS Stream 8
	Kernel: 4.18.0-240.10.1.el8_3.x86_64
	Compiler: gcc 8.4.1 20200928

Debian 12 (arm)
	Kernel: Container Host Kernel
	Compiler: gcc 11

Debian Bullseye
	Kernel: 5.4.0-122-generic
	Compiler: gcc 10.2.1-6

Fedora 38
	Kernel: Depends on container host
	Compiler: clang 16.0.3

openSUSE Leap 15
	Kernel: 4.18.0-240.10.1.el8_3.x86_64
	Compiler: gcc 7.5.0

CentOS Stream 9
	Kernel: 4.18.0-240.10.1.el8_3.x86_64
	Compiler: gcc 11.3.1 20220421

Ubuntu 22.04
	Kernel: 4.18.0-240.10.1.el8_3.x86_64
	Compiler: gcc 11.3.0

RHEL8
	Kernel: 4.18.0-240.10.1.el8_3.x86_64
	Compiler: gcc 8.3.1 20191121 (Red Hat 8.3.1-5)

To view detailed results, visit:
https://lab.dpdk.org/results/dashboard/patchsets/29379/

UNH-IOL DPDK Community Lab

To manage your email subscriptions, visit: 
https://lab.dpdk.org/results/dashboard/preferences/subscriptions/