From mboxrd@z Thu Jan  1 00:00:00 1970
Return-Path: <test-report-bounces@dpdk.org>
Received: from mails.dpdk.org (mails.dpdk.org [217.70.189.124])
	by inbox.dpdk.org (Postfix) with ESMTP id CE92043C20
	for <public@inbox.dpdk.org>; Sat,  2 Mar 2024 00:45:36 +0100 (CET)
Received: from mails.dpdk.org (localhost [127.0.0.1])
	by mails.dpdk.org (Postfix) with ESMTP id CA30A4025D;
	Sat,  2 Mar 2024 00:45:36 +0100 (CET)
Received: from mail-ot1-f100.google.com (mail-ot1-f100.google.com
 [209.85.210.100])
 by mails.dpdk.org (Postfix) with ESMTP id 645BF4025C
 for <test-report@dpdk.org>; Sat,  2 Mar 2024 00:45:35 +0100 (CET)
Received: by mail-ot1-f100.google.com with SMTP id
 46e09a7af769-6e4899fa7f1so1318384a34.0
 for <test-report@dpdk.org>; Fri, 01 Mar 2024 15:45:35 -0800 (PST)
DKIM-Signature: v=1; a=rsa-sha256; c=relaxed/relaxed;
 d=iol.unh.edu; s=unh-iol; t=1709336734; x=1709941534; darn=dpdk.org;
 h=references:in-reply-to:cc:to:from:subject:message-id:date:from:to
 :cc:subject:date:message-id:reply-to;
 bh=mz7YsZPpJB2Mg8HY+ZmUcvoLf7gd/GSY2fskjiy9Fac=;
 b=GqyZfS9PetlKjGXV13jmsdExtw7JJTnfb8prQA8jh50a1gPBm0a5YW+YaAKw7cUgns
 fZEVlfgxXCegfc4F2EI9BtvEpvitTIUPjEBTCwijchFQwr64PP96N9H7H4imRTjtLO8M
 rVLSPV4yxN1x7mfNxq0ZIssDais8ZLqfVcVdU=
X-Google-DKIM-Signature: v=1; a=rsa-sha256; c=relaxed/relaxed;
 d=1e100.net; s=20230601; t=1709336734; x=1709941534;
 h=references:in-reply-to:cc:to:from:subject:message-id:date
 :x-gm-message-state:from:to:cc:subject:date:message-id:reply-to;
 bh=mz7YsZPpJB2Mg8HY+ZmUcvoLf7gd/GSY2fskjiy9Fac=;
 b=FVAHU1xhIqPy2TH7bkWQ6siIuqynF9xRPAutQckMl0WGTMhTj0qW+VgX/RMz782ch2
 R7ZdvrYwd0UDy6xh458fVf/KEWRfBcYT+KMFTwAJjmtNIrjqhEvn5PO0YgQj+bP+eKGn
 f7OynPvJuOA6F4Xi2hO4SVQezq4QlQ+drAUWzXq8LWSQpxXw2M/dQfEEjm3rUmKv8HeX
 HHbPT0mG1Ahmenmrqv/nhv/lwt3TdUOcIP2nwcKzNcyn+cdqkvwYuKCcEFw8s8cgaac9
 +QvNqCyRUZ72u3xV0hFi/m8B9M345IfExRIGe+lGO/YRrLuJTnxgDEoOcS+WwW1xcnnd
 Qa6Q==
X-Gm-Message-State: AOJu0YwB7ZL00Ia8aPJ3zi9ABH9BwisXPxH8lUxrh7rBGv2pXSkhdki2
 lElLaNJiIry9wz/y/D2BSO3GR8L98XBIRy+L8hHU4ffgj4xt+H7FmlV+ffl4j7KNDQcmJTAZWSI
 TEpTg5fFRPeQKk9LUIqSoRdK6uSY/WiNO3JR/bluJ
X-Google-Smtp-Source: AGHT+IFjZNkAomrYYzU/8SNvY0d+9LRB4PZlirYLl8OHBHqKih6WD/AcgVK2R+x0CHsjDNrMh65FopuFwhsA
X-Received: by 2002:a05:6830:169a:b0:6e4:ca90:4529 with SMTP id
 k26-20020a056830169a00b006e4ca904529mr3065581otr.1.1709336734836; 
 Fri, 01 Mar 2024 15:45:34 -0800 (PST)
Received: from postal.iol.unh.edu (postal.iol.unh.edu. [132.177.123.84])
 by smtp-relay.gmail.com with ESMTPS id
 g62-20020a4a5b41000000b0059d6e59e4c4sm240390oob.26.2024.03.01.15.45.34
 (version=TLS1_2 cipher=ECDHE-ECDSA-AES128-GCM-SHA256 bits=128/128);
 Fri, 01 Mar 2024 15:45:34 -0800 (PST)
X-Relaying-Domain: iol.unh.edu
Date: Fri, 01 Mar 2024 15:45:34 -0800 (PST)
Message-ID: <65e2689e.4a0a0220.fe696.f9f5SMTPIN_ADDED_MISSING@mx.google.com>
Received: from [172.21.0.7] (unknown [172.18.0.240])
 by postal.iol.unh.edu (Postfix) with ESMTP id 58AC06052712;
 Fri,  1 Mar 2024 18:45:34 -0500 (EST)
Subject: |SUCCESS| pw137762-137764 [PATCH] [v4,3/3] event/cnxk: support DMA e
From: dpdklab@iol.unh.edu
To: Test Report <test-report@dpdk.org>
Cc: dpdk-test-reports@iol.unh.edu
In-Reply-To: <20240301173202.2782112-3-amitprakashs@marvell.com>
References: <20240301173202.2782112-3-amitprakashs@marvell.com>
Content-Type: text/plain
X-BeenThere: test-report@dpdk.org
X-Mailman-Version: 2.1.29
Precedence: list
List-Id: automatic DPDK test reports <test-report.dpdk.org>
List-Unsubscribe: <https://mails.dpdk.org/options/test-report>,
 <mailto:test-report-request@dpdk.org?subject=unsubscribe>
List-Archive: <http://mails.dpdk.org/archives/test-report/>
List-Post: <mailto:test-report@dpdk.org>
List-Help: <mailto:test-report-request@dpdk.org?subject=help>
List-Subscribe: <https://mails.dpdk.org/listinfo/test-report>,
 <mailto:test-report-request@dpdk.org?subject=subscribe>
Errors-To: test-report-bounces@dpdk.org

Test-Label: iol-unit-amd64-testing
Test-Status: SUCCESS
http://dpdk.org/patch/137764

_Testing PASS_

Submitter: Amit Prakash Shukla <amitprakashs@marvell.com>
Date: Friday, March 01 2024 17:32:02 
DPDK git baseline: Repo:dpdk
  Branch: master
  CommitID:5df34de5808a7b826b8bc035d6ee3161a12be364

137762-137764 --> testing pass

Test environment and result as below:

+------------------+----------------+
|   Environment    | dpdk_unit_test |
+==================+================+
| CentOS Stream 8  | PASS           |
+------------------+----------------+
| CentOS Stream 9  | PASS           |
+------------------+----------------+
| Debian 12 (arm)  | PASS           |
+------------------+----------------+
| Debian Bullseye  | PASS           |
+------------------+----------------+
| openSUSE Leap 15 | PASS           |
+------------------+----------------+
| Fedora 37        | PASS           |
+------------------+----------------+
| Fedora 38        | PASS           |
+------------------+----------------+
| RHEL8            | PASS           |
+------------------+----------------+
| Ubuntu 22.04     | PASS           |
+------------------+----------------+
| Ubuntu 20.04     | PASS           |
+------------------+----------------+


CentOS Stream 8
	Kernel: 4.18.0-240.10.1.el8_3.x86_64
	Compiler: gcc 8.4.1 20200928

CentOS Stream 9
	Kernel: 4.18.0-240.10.1.el8_3.x86_64
	Compiler: gcc 11.3.1 20220421

Debian 12 (arm)
	Kernel: Container Host Kernel
	Compiler: gcc 11

Debian Bullseye
	Kernel: 5.4.0-122-generic
	Compiler: gcc 10.2.1-6

openSUSE Leap 15
	Kernel: 4.18.0-240.10.1.el8_3.x86_64
	Compiler: gcc 7.5.0

Fedora 37
	Kernel: Depends on container host system
	Compiler: gcc 12.3.1

Fedora 38
	Kernel: Depends on container host
	Compiler: gcc 13.1.1

RHEL8
	Kernel: 4.18.0-240.10.1.el8_3.x86_64
	Compiler: gcc 8.3.1 20191121 (Red Hat 8.3.1-5)

Ubuntu 22.04
	Kernel: 4.18.0-240.10.1.el8_3.x86_64
	Compiler: gcc 11.3.0

Ubuntu 20.04
	Kernel: 5.4.0-153-generic
	Compiler: gcc 9.4.0-1ubuntu1~20.04.1

To view detailed results, visit:
https://lab.dpdk.org/results/dashboard/patchsets/29381/

UNH-IOL DPDK Community Lab

To manage your email subscriptions, visit: 
https://lab.dpdk.org/results/dashboard/preferences/subscriptions/