From mboxrd@z Thu Jan  1 00:00:00 1970
Return-Path: <test-report-bounces@dpdk.org>
Received: from mails.dpdk.org (mails.dpdk.org [217.70.189.124])
	by inbox.dpdk.org (Postfix) with ESMTP id C846B43C20
	for <public@inbox.dpdk.org>; Sat,  2 Mar 2024 00:54:04 +0100 (CET)
Received: from mails.dpdk.org (localhost [127.0.0.1])
	by mails.dpdk.org (Postfix) with ESMTP id 93EAB4025D;
	Sat,  2 Mar 2024 00:54:04 +0100 (CET)
Received: from mail-io1-f100.google.com (mail-io1-f100.google.com
 [209.85.166.100])
 by mails.dpdk.org (Postfix) with ESMTP id 0F6904025C
 for <test-report@dpdk.org>; Sat,  2 Mar 2024 00:54:04 +0100 (CET)
Received: by mail-io1-f100.google.com with SMTP id
 ca18e2360f4ac-7c78573f294so166645639f.0
 for <test-report@dpdk.org>; Fri, 01 Mar 2024 15:54:04 -0800 (PST)
DKIM-Signature: v=1; a=rsa-sha256; c=relaxed/relaxed;
 d=iol.unh.edu; s=unh-iol; t=1709337243; x=1709942043; darn=dpdk.org;
 h=references:in-reply-to:cc:to:from:subject:message-id:date:from:to
 :cc:subject:date:message-id:reply-to;
 bh=pI2TB3ovnKGJksPD3ERYauivmfg0rmhR9MC2Q+u1ZUg=;
 b=WiGh06gXjOn5sLuvGh+4Tpyuu6lJ4DdGeXFYUplAzhXPNxYSOlUg2TiDzL0vNX9Dqy
 Yv4iI0TVOvdtngR6aPlWEBwnqNVkXgE+icqnk4LI7a/V9aeOXkuSSoMP4fXyHrV/8lV+
 b6yLak3Th4Uegq9fGk7EgONLdfnOiMPxt9bZw=
X-Google-DKIM-Signature: v=1; a=rsa-sha256; c=relaxed/relaxed;
 d=1e100.net; s=20230601; t=1709337243; x=1709942043;
 h=references:in-reply-to:cc:to:from:subject:message-id:date
 :x-gm-message-state:from:to:cc:subject:date:message-id:reply-to;
 bh=pI2TB3ovnKGJksPD3ERYauivmfg0rmhR9MC2Q+u1ZUg=;
 b=kZfgjG020td2A4Kflq9AMAYBXfmjf3VVKHt0LFirCSsuu40l5MPDEGSQPMNkGtEjRX
 /R+9+c7CBT0zErPu73eH0LxTZ2O/Q1zsjuVBOleVSqfi82Fveob2HX/wyVRiWUUQ/ugA
 lhZHdaTPDQ0gvjIlTgIfPqeOL9uYqD2GxLDcjBKGtbxzlNaZ06p14k0NMUfZcq9Vw6RS
 eqpQUQyU0Pu7BYVJvwRayJH1u2XLZJC+WVQoO3zOPxZep3Okc+Y/FXuFyrK807PxuzMl
 ukLSqH2TND49BN09TUtpMaRqkn/KoxfBcQ27QfFww2JqkGsmN/yfpyQATqSHykVKGBV8
 42OQ==
X-Gm-Message-State: AOJu0Yx7kF9QzfcSa+jFLbfyGmDS9e4s2AsD14cGyNb9pCL31CCysP5c
 j1/eu7ed7Gfk/CF0Rw+YEr6+FH9/Ah8+M0S6kBP3rGwsWq1G10yLHzQhcxfylNLYjzjR0Tv7fiP
 Ol83oSr3OwJ0vxukcKqeV0OPaX99mQzIVID7QCsO3S2y4sGdgwXO3P2AR
X-Google-Smtp-Source: AGHT+IGiFN/xOTBVfxic7Fw7gXEEnUy9mxendeVW8/0LGFHFXQfv56m5xQLh9wCcDd+Pnf1TCPavO3nlzVrE
X-Received: by 2002:a5e:d50f:0:b0:7c7:ead3:d8a0 with SMTP id
 e15-20020a5ed50f000000b007c7ead3d8a0mr2551851iom.2.1709337243467; 
 Fri, 01 Mar 2024 15:54:03 -0800 (PST)
Received: from postal.iol.unh.edu (postal.iol.unh.edu.
 [2606:4100:3880:1234::84]) by smtp-relay.gmail.com with ESMTPS id
 k8-20020a5e8908000000b007c8340764adsm1627ioj.34.2024.03.01.15.54.03
 (version=TLS1_2 cipher=ECDHE-ECDSA-AES128-GCM-SHA256 bits=128/128);
 Fri, 01 Mar 2024 15:54:03 -0800 (PST)
X-Relaying-Domain: iol.unh.edu
Date: Fri, 01 Mar 2024 15:54:03 -0800 (PST)
Message-ID: <65e26a9b.5e0a0220.c45f5.0181SMTPIN_ADDED_MISSING@mx.google.com>
Received: from [172.21.0.7] (unknown [172.18.0.240])
 by postal.iol.unh.edu (Postfix) with ESMTP id 0687C6052712;
 Fri,  1 Mar 2024 18:54:03 -0500 (EST)
Subject: |SUCCESS| pw137762-137764 [PATCH] [v4,3/3] event/cnxk: support DMA e
From: dpdklab@iol.unh.edu
To: Test Report <test-report@dpdk.org>
Cc: dpdk-test-reports@iol.unh.edu
In-Reply-To: <20240301173202.2782112-3-amitprakashs@marvell.com>
References: <20240301173202.2782112-3-amitprakashs@marvell.com>
Content-Type: text/plain
X-BeenThere: test-report@dpdk.org
X-Mailman-Version: 2.1.29
Precedence: list
List-Id: automatic DPDK test reports <test-report.dpdk.org>
List-Unsubscribe: <https://mails.dpdk.org/options/test-report>,
 <mailto:test-report-request@dpdk.org?subject=unsubscribe>
List-Archive: <http://mails.dpdk.org/archives/test-report/>
List-Post: <mailto:test-report@dpdk.org>
List-Help: <mailto:test-report-request@dpdk.org?subject=help>
List-Subscribe: <https://mails.dpdk.org/listinfo/test-report>,
 <mailto:test-report-request@dpdk.org?subject=subscribe>
Errors-To: test-report-bounces@dpdk.org

Test-Label: iol-unit-arm64-testing
Test-Status: SUCCESS
http://dpdk.org/patch/137764

_Testing PASS_

Submitter: Amit Prakash Shukla <amitprakashs@marvell.com>
Date: Friday, March 01 2024 17:32:02 
DPDK git baseline: Repo:dpdk
  Branch: master
  CommitID:5df34de5808a7b826b8bc035d6ee3161a12be364

137762-137764 --> testing pass

Test environment and result as below:

+--------------------------+----------------+--------------+
|       Environment        | dpdk_unit_test | lpm_autotest |
+==========================+================+==============+
| Debian 11 (Buster) (ARM) | PASS           | SKIPPED      |
+--------------------------+----------------+--------------+
| Fedora 38 (ARM)          | PASS           | SKIPPED      |
+--------------------------+----------------+--------------+
| Fedora 37 (ARM)          | PASS           | SKIPPED      |
+--------------------------+----------------+--------------+
| Debian 12 (arm)          | PASS           | SKIPPED      |
+--------------------------+----------------+--------------+
| CentOS Stream 9 (ARM)    | PASS           | SKIPPED      |
+--------------------------+----------------+--------------+
| Ubuntu 20.04 (ARM)       | PASS           | SKIPPED      |
+--------------------------+----------------+--------------+
| Fedora 38 (ARM Clang)    | PASS           | SKIPPED      |
+--------------------------+----------------+--------------+
| Ubuntu 20.04 ARM SVE     | SKIPPED        | PASS         |
+--------------------------+----------------+--------------+


Debian 11 (Buster) (ARM)
	Kernel: Container Host Kernel
	Compiler: gcc 10.2.1

Fedora 38 (ARM)
	Kernel: Depends on container host
	Compiler: gcc 13.1.1

Fedora 37 (ARM)
	Kernel: Depends on container host
	Compiler: gcc 12.3.1

Debian 12 (arm)
	Kernel: Container Host Kernel
	Compiler: gcc 11

CentOS Stream 9 (ARM)
	Kernel: Container Host Kernel
	Compiler: gcc 11.3.1

Ubuntu 20.04 (ARM)
	Kernel: Container Host Kernel
	Compiler: gcc 9.4.0

Fedora 38 (ARM Clang)
	Kernel: Depends on container host
	Compiler: clang 16.0.3

Ubuntu 20.04 ARM SVE
	Kernel: 5.4.0-80-generic
	Compiler: gcc 10.3.0 (Ubuntu 10.3.0-1ubuntu1~20.04)

To view detailed results, visit:
https://lab.dpdk.org/results/dashboard/patchsets/29381/

UNH-IOL DPDK Community Lab

To manage your email subscriptions, visit: 
https://lab.dpdk.org/results/dashboard/preferences/subscriptions/