From mboxrd@z Thu Jan  1 00:00:00 1970
Return-Path: <test-report-bounces@dpdk.org>
Received: from mails.dpdk.org (mails.dpdk.org [217.70.189.124])
	by inbox.dpdk.org (Postfix) with ESMTP id B4E6743C25
	for <public@inbox.dpdk.org>; Sat,  2 Mar 2024 00:56:53 +0100 (CET)
Received: from mails.dpdk.org (localhost [127.0.0.1])
	by mails.dpdk.org (Postfix) with ESMTP id B06564025D;
	Sat,  2 Mar 2024 00:56:53 +0100 (CET)
Received: from mail-yw1-f228.google.com (mail-yw1-f228.google.com
 [209.85.128.228])
 by mails.dpdk.org (Postfix) with ESMTP id DC3E34025C
 for <test-report@dpdk.org>; Sat,  2 Mar 2024 00:56:51 +0100 (CET)
Received: by mail-yw1-f228.google.com with SMTP id
 00721157ae682-6084e809788so30839127b3.1
 for <test-report@dpdk.org>; Fri, 01 Mar 2024 15:56:51 -0800 (PST)
DKIM-Signature: v=1; a=rsa-sha256; c=relaxed/relaxed;
 d=iol.unh.edu; s=unh-iol; t=1709337411; x=1709942211; darn=dpdk.org;
 h=references:in-reply-to:cc:to:from:subject:message-id:date:from:to
 :cc:subject:date:message-id:reply-to;
 bh=pbXFXYWqAu9iAM+Wr1bofc+gUwNSHqrBopjpDCAvbHI=;
 b=Roo2qDo5qD5HgBCpNSzTlQc5wDgufHRHzOmfwzIsGG6QRG7vHpMko/KDCuHY3UcWux
 QAa/GjsDX0oaVnP3Oic0hxcw5dga1eGjLGownHJnLVxxKOTOVw4bZlB9x5kcAFwXNxnl
 2+kyBwrBzctn7vRPOt8kmAJ/51C8mv12ce3WU=
X-Google-DKIM-Signature: v=1; a=rsa-sha256; c=relaxed/relaxed;
 d=1e100.net; s=20230601; t=1709337411; x=1709942211;
 h=references:in-reply-to:cc:to:from:subject:message-id:date
 :x-gm-message-state:from:to:cc:subject:date:message-id:reply-to;
 bh=pbXFXYWqAu9iAM+Wr1bofc+gUwNSHqrBopjpDCAvbHI=;
 b=G7CEeUsHAecXu6vdQ0ktTXfHXuxbDx4h0d2N0ONVDuRdQBQlu+eOT4u3XaU9bZVNC2
 670i5MeQjZ6MJZLJUFwq/57ZzGs6ep0qxR8ngVY+Fa/R/zx5UgVD4INEOkgicvgta8eI
 eIlrennhX94W+xvsgMYLLwAIQGgriHhTbyVkiRXuHKxfqPLyCOG3EYoawfbTMJVvbxNy
 LB+6Dw+fLiNMlLWnxLAF3dHpjnm+TtAH34eNYuozy8vYVvzhhTu0fagUavPUteVpArBo
 xHnB1T+haYQFagbN+9h7NAkEWWf9HMCTEZjszP9lJZQcoiJOyme58nRBGQfpTp3sSCqB
 DpzA==
X-Gm-Message-State: AOJu0YwZ9PBGwg07wCf/EXtFkj/BBmkOPVaKOCR4oyF3/Iea4FF+ZrSG
 jzCtYolkRVubD/eIfRBQuH+v3qfY1m+qnLqRu2e6NGDPcUgjFsC4hupdnFeOt7wTglRZeGFSP2N
 iSaL+vFdIOiXiThloqW3jqeUZ9AmTSu+DshT/tGvT
X-Google-Smtp-Source: AGHT+IFujFoTaiHTtUTR9sCIhJtNeJGnRsbwIf3JkrOVpNVtMyORmSUhUsyn6BpP5smH4gdDxFE+B+e49aZa
X-Received: by 2002:a81:9154:0:b0:609:8e0e:cfce with SMTP id
 i81-20020a819154000000b006098e0ecfcemr883031ywg.21.1709337411306; 
 Fri, 01 Mar 2024 15:56:51 -0800 (PST)
Received: from postal.iol.unh.edu (postal.iol.unh.edu. [132.177.123.84])
 by smtp-relay.gmail.com with ESMTPS id
 n67-20020a817246000000b00608e1b78b63sm247789ywc.9.2024.03.01.15.56.51
 (version=TLS1_2 cipher=ECDHE-ECDSA-AES128-GCM-SHA256 bits=128/128);
 Fri, 01 Mar 2024 15:56:51 -0800 (PST)
X-Relaying-Domain: iol.unh.edu
Date: Fri, 01 Mar 2024 15:56:51 -0800 (PST)
Message-ID: <65e26b43.810a0220.f7b17.0d6cSMTPIN_ADDED_MISSING@mx.google.com>
Received: from [172.21.0.6] (unknown [172.18.0.240])
 by postal.iol.unh.edu (Postfix) with ESMTP id 0926F6052712;
 Fri,  1 Mar 2024 18:56:51 -0500 (EST)
Subject: |SUCCESS| pw137762-137764 [PATCH] [v4,3/3] event/cnxk: support DMA e
From: dpdklab@iol.unh.edu
To: Test Report <test-report@dpdk.org>
Cc: dpdk-test-reports@iol.unh.edu
In-Reply-To: <20240301173202.2782112-3-amitprakashs@marvell.com>
References: <20240301173202.2782112-3-amitprakashs@marvell.com>
Content-Type: text/plain
X-BeenThere: test-report@dpdk.org
X-Mailman-Version: 2.1.29
Precedence: list
List-Id: automatic DPDK test reports <test-report.dpdk.org>
List-Unsubscribe: <https://mails.dpdk.org/options/test-report>,
 <mailto:test-report-request@dpdk.org?subject=unsubscribe>
List-Archive: <http://mails.dpdk.org/archives/test-report/>
List-Post: <mailto:test-report@dpdk.org>
List-Help: <mailto:test-report-request@dpdk.org?subject=help>
List-Subscribe: <https://mails.dpdk.org/listinfo/test-report>,
 <mailto:test-report-request@dpdk.org?subject=subscribe>
Errors-To: test-report-bounces@dpdk.org

Test-Label: iol-unit-arm64-testing
Test-Status: SUCCESS
http://dpdk.org/patch/137764

_Testing PASS_

Submitter: Amit Prakash Shukla <amitprakashs@marvell.com>
Date: Friday, March 01 2024 17:32:02 
DPDK git baseline: Repo:dpdk
  Branch: master
  CommitID:5df34de5808a7b826b8bc035d6ee3161a12be364

137762-137764 --> testing pass

Test environment and result as below:

+--------------------------+----------------+--------------+------------------------------+
|       Environment        | dpdk_unit_test | lpm_autotest | cryptodev_sw_snow3g_autotest |
+==========================+================+==============+==============================+
| Debian 11 (Buster) (ARM) | PASS           | SKIPPED      | SKIPPED                      |
+--------------------------+----------------+--------------+------------------------------+
| Fedora 38 (ARM)          | PASS           | SKIPPED      | SKIPPED                      |
+--------------------------+----------------+--------------+------------------------------+
| Fedora 37 (ARM)          | PASS           | SKIPPED      | SKIPPED                      |
+--------------------------+----------------+--------------+------------------------------+
| Debian 12 (arm)          | PASS           | SKIPPED      | PASS                         |
+--------------------------+----------------+--------------+------------------------------+
| CentOS Stream 9 (ARM)    | PASS           | SKIPPED      | SKIPPED                      |
+--------------------------+----------------+--------------+------------------------------+
| Ubuntu 20.04 (ARM)       | PASS           | SKIPPED      | SKIPPED                      |
+--------------------------+----------------+--------------+------------------------------+
| Fedora 38 (ARM Clang)    | PASS           | SKIPPED      | SKIPPED                      |
+--------------------------+----------------+--------------+------------------------------+
| Ubuntu 20.04 ARM SVE     | SKIPPED        | PASS         | SKIPPED                      |
+--------------------------+----------------+--------------+------------------------------+


Debian 11 (Buster) (ARM)
	Kernel: Container Host Kernel
	Compiler: gcc 10.2.1

Fedora 38 (ARM)
	Kernel: Depends on container host
	Compiler: gcc 13.1.1

Fedora 37 (ARM)
	Kernel: Depends on container host
	Compiler: gcc 12.3.1

Debian 12 (arm)
	Kernel: Container Host Kernel
	Compiler: gcc 11

CentOS Stream 9 (ARM)
	Kernel: Container Host Kernel
	Compiler: gcc 11.3.1

Ubuntu 20.04 (ARM)
	Kernel: Container Host Kernel
	Compiler: gcc 9.4.0

Fedora 38 (ARM Clang)
	Kernel: Depends on container host
	Compiler: clang 16.0.3

Ubuntu 20.04 ARM SVE
	Kernel: 5.4.0-80-generic
	Compiler: gcc 10.3.0 (Ubuntu 10.3.0-1ubuntu1~20.04)

To view detailed results, visit:
https://lab.dpdk.org/results/dashboard/patchsets/29381/

UNH-IOL DPDK Community Lab

To manage your email subscriptions, visit: 
https://lab.dpdk.org/results/dashboard/preferences/subscriptions/