From mboxrd@z Thu Jan  1 00:00:00 1970
Return-Path: <test-report-bounces@dpdk.org>
Received: from mails.dpdk.org (mails.dpdk.org [217.70.189.124])
	by inbox.dpdk.org (Postfix) with ESMTP id 5B56443C25
	for <public@inbox.dpdk.org>; Sat,  2 Mar 2024 00:58:15 +0100 (CET)
Received: from mails.dpdk.org (localhost [127.0.0.1])
	by mails.dpdk.org (Postfix) with ESMTP id 4CF914325A;
	Sat,  2 Mar 2024 00:58:15 +0100 (CET)
Received: from mail-yw1-f225.google.com (mail-yw1-f225.google.com
 [209.85.128.225])
 by mails.dpdk.org (Postfix) with ESMTP id 8FC894025C
 for <test-report@dpdk.org>; Sat,  2 Mar 2024 00:58:13 +0100 (CET)
Received: by mail-yw1-f225.google.com with SMTP id
 00721157ae682-608342633b8so27657357b3.1
 for <test-report@dpdk.org>; Fri, 01 Mar 2024 15:58:13 -0800 (PST)
DKIM-Signature: v=1; a=rsa-sha256; c=relaxed/relaxed;
 d=iol.unh.edu; s=unh-iol; t=1709337493; x=1709942293; darn=dpdk.org;
 h=references:in-reply-to:cc:to:from:subject:message-id:date:from:to
 :cc:subject:date:message-id:reply-to;
 bh=mz7YsZPpJB2Mg8HY+ZmUcvoLf7gd/GSY2fskjiy9Fac=;
 b=Xx3dd1QUPf9IhjqpLYl1nJ0WapJ2uBaZcy5ciYVsbR7X/E2Ak0irbdhzhPm+rAcwz0
 nt3lj+O8VXyrG2yKeL6jd8AHp6pE1bKIHd2BetsJU1xVKBGj86NhokEz+jZcFX9XC2tG
 5MZsUkMvm/MnqHrvxHZ27kzv9RMJZyog5ART4=
X-Google-DKIM-Signature: v=1; a=rsa-sha256; c=relaxed/relaxed;
 d=1e100.net; s=20230601; t=1709337493; x=1709942293;
 h=references:in-reply-to:cc:to:from:subject:message-id:date
 :x-gm-message-state:from:to:cc:subject:date:message-id:reply-to;
 bh=mz7YsZPpJB2Mg8HY+ZmUcvoLf7gd/GSY2fskjiy9Fac=;
 b=S6oxZl8tvt6TdxtcN/rYfdSf/3wgrkRousv/8EYDuhBl++GfHyDHkgkp/poy3SwreI
 MFT+XB0J4SEn2cLv9L1xdMFJZjMzAvSq/rSKztBs53wTWcmvroylmr0cD6aBuoNHYsdv
 SULwWV2/Y4XVa9MGa29jUqzMsa7+sczDEl8BueYkXwCTtLmTPDn2UVaP5iS1JmSpwp4m
 yH9fTVrsEMsLVoenDvrdsS4bH8nc6Ya2m+UeFA8wdbUllEveklsnCqa2uxlEYmrUQQsA
 HTvK0WrlT6ReI9ARvtcsZ9zC+hb6RmYoNbqfUXdLgEn3vEgiCwMcYBGoWPMrrBUYC2wC
 w1yQ==
X-Gm-Message-State: AOJu0YwuzxgWKPExKoEdtcnBjAkhmIH/p5iV+GFL3611b5h5Zd4flQid
 DctBLdUg6ygSx7quJPiOT5pHEHoeq171CWD9YJqRzPPxxNzcLaLj3Vhqj/u0999DmHV73dbH2ne
 18i8D+XeD7S8uQZGFpG1F4VNZQLaqd6KZD20TWuWqMUcxdik+nRKVk3Ht
X-Google-Smtp-Source: AGHT+IE5ce3OieZFlweM88RlKVlw10h9A0cj6D/c8nSttv3sRvJxbpXq8PQLy1DQDG7EGIhzUC0g6I8qqpjD
X-Received: by 2002:a0d:efc3:0:b0:608:8a6b:b213 with SMTP id
 y186-20020a0defc3000000b006088a6bb213mr3503516ywe.33.1709337493056; 
 Fri, 01 Mar 2024 15:58:13 -0800 (PST)
Received: from postal.iol.unh.edu (postal.iol.unh.edu.
 [2606:4100:3880:1234::84]) by smtp-relay.gmail.com with ESMTPS id
 df9-20020a05690c0f8900b0060784b52b43sm119282ywb.53.2024.03.01.15.58.12
 (version=TLS1_2 cipher=ECDHE-ECDSA-AES128-GCM-SHA256 bits=128/128);
 Fri, 01 Mar 2024 15:58:13 -0800 (PST)
X-Relaying-Domain: iol.unh.edu
Date: Fri, 01 Mar 2024 15:58:13 -0800 (PST)
Message-ID: <65e26b95.050a0220.8b09.7993SMTPIN_ADDED_MISSING@mx.google.com>
Received: from [172.21.0.7] (unknown [172.18.0.240])
 by postal.iol.unh.edu (Postfix) with ESMTP id C15526052712;
 Fri,  1 Mar 2024 18:58:12 -0500 (EST)
Subject: |SUCCESS| pw137762-137764 [PATCH] [v4,3/3] event/cnxk: support DMA e
From: dpdklab@iol.unh.edu
To: Test Report <test-report@dpdk.org>
Cc: dpdk-test-reports@iol.unh.edu
In-Reply-To: <20240301173202.2782112-3-amitprakashs@marvell.com>
References: <20240301173202.2782112-3-amitprakashs@marvell.com>
Content-Type: text/plain
X-BeenThere: test-report@dpdk.org
X-Mailman-Version: 2.1.29
Precedence: list
List-Id: automatic DPDK test reports <test-report.dpdk.org>
List-Unsubscribe: <https://mails.dpdk.org/options/test-report>,
 <mailto:test-report-request@dpdk.org?subject=unsubscribe>
List-Archive: <http://mails.dpdk.org/archives/test-report/>
List-Post: <mailto:test-report@dpdk.org>
List-Help: <mailto:test-report-request@dpdk.org?subject=help>
List-Subscribe: <https://mails.dpdk.org/listinfo/test-report>,
 <mailto:test-report-request@dpdk.org?subject=subscribe>
Errors-To: test-report-bounces@dpdk.org

Test-Label: iol-unit-amd64-testing
Test-Status: SUCCESS
http://dpdk.org/patch/137764

_Testing PASS_

Submitter: Amit Prakash Shukla <amitprakashs@marvell.com>
Date: Friday, March 01 2024 17:32:02 
DPDK git baseline: Repo:dpdk
  Branch: master
  CommitID:5df34de5808a7b826b8bc035d6ee3161a12be364

137762-137764 --> testing pass

Test environment and result as below:

+------------------+----------------+
|   Environment    | dpdk_unit_test |
+==================+================+
| CentOS Stream 8  | PASS           |
+------------------+----------------+
| CentOS Stream 9  | PASS           |
+------------------+----------------+
| Debian 12 (arm)  | PASS           |
+------------------+----------------+
| Debian Bullseye  | PASS           |
+------------------+----------------+
| openSUSE Leap 15 | PASS           |
+------------------+----------------+
| Fedora 37        | PASS           |
+------------------+----------------+
| Fedora 38        | PASS           |
+------------------+----------------+
| RHEL8            | PASS           |
+------------------+----------------+
| Ubuntu 22.04     | PASS           |
+------------------+----------------+
| Ubuntu 20.04     | PASS           |
+------------------+----------------+


CentOS Stream 8
	Kernel: 4.18.0-240.10.1.el8_3.x86_64
	Compiler: gcc 8.4.1 20200928

CentOS Stream 9
	Kernel: 4.18.0-240.10.1.el8_3.x86_64
	Compiler: gcc 11.3.1 20220421

Debian 12 (arm)
	Kernel: Container Host Kernel
	Compiler: gcc 11

Debian Bullseye
	Kernel: 5.4.0-122-generic
	Compiler: gcc 10.2.1-6

openSUSE Leap 15
	Kernel: 4.18.0-240.10.1.el8_3.x86_64
	Compiler: gcc 7.5.0

Fedora 37
	Kernel: Depends on container host system
	Compiler: gcc 12.3.1

Fedora 38
	Kernel: Depends on container host
	Compiler: gcc 13.1.1

RHEL8
	Kernel: 4.18.0-240.10.1.el8_3.x86_64
	Compiler: gcc 8.3.1 20191121 (Red Hat 8.3.1-5)

Ubuntu 22.04
	Kernel: 4.18.0-240.10.1.el8_3.x86_64
	Compiler: gcc 11.3.0

Ubuntu 20.04
	Kernel: 5.4.0-153-generic
	Compiler: gcc 9.4.0-1ubuntu1~20.04.1

To view detailed results, visit:
https://lab.dpdk.org/results/dashboard/patchsets/29381/

UNH-IOL DPDK Community Lab

To manage your email subscriptions, visit: 
https://lab.dpdk.org/results/dashboard/preferences/subscriptions/