From mboxrd@z Thu Jan  1 00:00:00 1970
Return-Path: <test-report-bounces@dpdk.org>
Received: from mails.dpdk.org (mails.dpdk.org [217.70.189.124])
	by inbox.dpdk.org (Postfix) with ESMTP id 7452A43C25
	for <public@inbox.dpdk.org>; Sat,  2 Mar 2024 01:04:18 +0100 (CET)
Received: from mails.dpdk.org (localhost [127.0.0.1])
	by mails.dpdk.org (Postfix) with ESMTP id 6A05F4025D;
	Sat,  2 Mar 2024 01:04:18 +0100 (CET)
Received: from mail-pl1-f225.google.com (mail-pl1-f225.google.com
 [209.85.214.225])
 by mails.dpdk.org (Postfix) with ESMTP id 8B28D4025C
 for <test-report@dpdk.org>; Sat,  2 Mar 2024 01:04:16 +0100 (CET)
Received: by mail-pl1-f225.google.com with SMTP id
 d9443c01a7336-1dc49b00bdbso27572255ad.3
 for <test-report@dpdk.org>; Fri, 01 Mar 2024 16:04:16 -0800 (PST)
DKIM-Signature: v=1; a=rsa-sha256; c=relaxed/relaxed;
 d=iol.unh.edu; s=unh-iol; t=1709337856; x=1709942656; darn=dpdk.org;
 h=references:in-reply-to:cc:to:from:subject:message-id:date:from:to
 :cc:subject:date:message-id:reply-to;
 bh=n4w7csHU4Uwi+45wyzGBGtnE5Qa/PXelUOb7C/KLH9I=;
 b=G4qQnGJ1LyrQ50OXH+zItWBCYqFOqPTKIRjkaF0Zm/sMk55NUdQAf5l4lpO4jGAXhx
 k2VSwnL2Zfo1iA4m6yxzyaTstykM4zgSptgrjgDbGAAuHukevo93rjCn974DVt3OLmPn
 3eq7ZQYPYoOsxaPSDL+jK0vdpIgvNnTGj6z4M=
X-Google-DKIM-Signature: v=1; a=rsa-sha256; c=relaxed/relaxed;
 d=1e100.net; s=20230601; t=1709337856; x=1709942656;
 h=references:in-reply-to:cc:to:from:subject:message-id:date
 :x-gm-message-state:from:to:cc:subject:date:message-id:reply-to;
 bh=n4w7csHU4Uwi+45wyzGBGtnE5Qa/PXelUOb7C/KLH9I=;
 b=qhf/OsUNWtfAWHZIW5IJx8G1hFc3vyQCSz9NByjz+tJ3XjAqTQHo3DyrTDfgJ766Ze
 TYvDAJQvPzlIgsP0inia5F7D53DTs08PBDM31Y4O6qJIDQ0l+cn+hesVDsQG0CgbbwvL
 TOPTIORCGdZcPgCcmUigurCtJqpYSKKrPXfcj6TA1CD2PFfv2huficaFUK/g0iv2L1i7
 AfFeygFmUZNb6dgdvl8ubXjTm7ch8UQqYkMXAewmbPQ3cjsyp7HrgJHCUFN1bjE2aAqp
 +UfLU/5vSsiSx7vtz5d29GTSga6n4Gg02zrfwr/RiIMSVhEYBQfKTzJmrYqUnoXfhK/e
 sRGw==
X-Gm-Message-State: AOJu0YyFFccVCJco0T2R7P68NFzJ0/16ytb9a4I+do7o9xFLHEYbzzU9
 vruK173xj08/GXEgy7lnPC1ifhiJKR+OJZlOE7+k2d38GsL8GjVQpKsEc3Xgqx0qviHN09G9a+O
 wSq0SdpK07HTSc+2H3y9b2SKgHs2b2OZj4ZFb1oxu
X-Google-Smtp-Source: AGHT+IFF7yzjyvPTtSzofN6QyU8Ys4B9bBc34O8xbeMtynKvLh68MwhmDH+ZP45rj4TN1BMFrVUZJJdmTqGg
X-Received: by 2002:a17:902:b281:b0:1dc:1fda:202e with SMTP id
 u1-20020a170902b28100b001dc1fda202emr2982250plr.51.1709337855867; 
 Fri, 01 Mar 2024 16:04:15 -0800 (PST)
Received: from postal.iol.unh.edu (postal.iol.unh.edu. [132.177.123.84])
 by smtp-relay.gmail.com with ESMTPS id
 kw13-20020a170902f90d00b001db6bf43960sm129469plb.10.2024.03.01.16.04.15
 (version=TLS1_2 cipher=ECDHE-ECDSA-AES128-GCM-SHA256 bits=128/128);
 Fri, 01 Mar 2024 16:04:15 -0800 (PST)
X-Relaying-Domain: iol.unh.edu
Date: Fri, 01 Mar 2024 16:04:15 -0800 (PST)
Message-ID: <65e26cff.170a0220.9c0fa.8749SMTPIN_ADDED_MISSING@mx.google.com>
Received: from [172.21.0.6] (unknown [172.18.0.240])
 by postal.iol.unh.edu (Postfix) with ESMTP id 5296A6052712;
 Fri,  1 Mar 2024 19:04:15 -0500 (EST)
Subject: |SUCCESS| pw137674 [PATCH] crypto/mlx5: add max segment assert
From: dpdklab@iol.unh.edu
To: Test Report <test-report@dpdk.org>
Cc: dpdk-test-reports@iol.unh.edu
In-Reply-To: <20240301124246.1216467-1-suanmingm@nvidia.com>
References: <20240301124246.1216467-1-suanmingm@nvidia.com>
Content-Type: text/plain
X-BeenThere: test-report@dpdk.org
X-Mailman-Version: 2.1.29
Precedence: list
List-Id: automatic DPDK test reports <test-report.dpdk.org>
List-Unsubscribe: <https://mails.dpdk.org/options/test-report>,
 <mailto:test-report-request@dpdk.org?subject=unsubscribe>
List-Archive: <http://mails.dpdk.org/archives/test-report/>
List-Post: <mailto:test-report@dpdk.org>
List-Help: <mailto:test-report-request@dpdk.org?subject=help>
List-Subscribe: <https://mails.dpdk.org/listinfo/test-report>,
 <mailto:test-report-request@dpdk.org?subject=subscribe>
Errors-To: test-report-bounces@dpdk.org

Test-Label: iol-unit-amd64-testing
Test-Status: SUCCESS
http://dpdk.org/patch/137674

_Testing PASS_

Submitter: Suanming Mou <suanmingm@nvidia.com>
Date: Friday, March 01 2024 12:42:45 
DPDK git baseline: Repo:dpdk
  Branch: master
  CommitID:5ac50824383c2683c0dfdf24c6dc493f1fa54852

137674 --> testing pass

Test environment and result as below:

+---------------------+----------------+
|     Environment     | dpdk_unit_test |
+=====================+================+
| CentOS Stream 8     | PASS           |
+---------------------+----------------+
| CentOS Stream 9     | PASS           |
+---------------------+----------------+
| Debian Bullseye     | PASS           |
+---------------------+----------------+
| Fedora 37           | PASS           |
+---------------------+----------------+
| openSUSE Leap 15    | PASS           |
+---------------------+----------------+
| Fedora 38           | PASS           |
+---------------------+----------------+
| Debian 12 (arm)     | PASS           |
+---------------------+----------------+
| Ubuntu 20.04        | PASS           |
+---------------------+----------------+
| Ubuntu 22.04        | PASS           |
+---------------------+----------------+
| RHEL8               | PASS           |
+---------------------+----------------+
| Windows Server 2019 | PASS           |
+---------------------+----------------+


CentOS Stream 8
	Kernel: 4.18.0-240.10.1.el8_3.x86_64
	Compiler: gcc 8.4.1 20200928

CentOS Stream 9
	Kernel: 4.18.0-240.10.1.el8_3.x86_64
	Compiler: gcc 11.3.1 20220421

Debian Bullseye
	Kernel: 5.4.0-122-generic
	Compiler: gcc 10.2.1-6

Fedora 37
	Kernel: Depends on container host system
	Compiler: gcc 12.3.1

openSUSE Leap 15
	Kernel: 4.18.0-240.10.1.el8_3.x86_64
	Compiler: gcc 7.5.0

Fedora 38
	Kernel: Depends on container host
	Compiler: gcc 13.1.1

Debian 12 (arm)
	Kernel: Container Host Kernel
	Compiler: gcc 11

Ubuntu 20.04
	Kernel: 5.4.0-153-generic
	Compiler: gcc 9.4.0-1ubuntu1~20.04.1

Ubuntu 22.04
	Kernel: 4.18.0-240.10.1.el8_3.x86_64
	Compiler: gcc 11.3.0

RHEL8
	Kernel: 4.18.0-240.10.1.el8_3.x86_64
	Compiler: gcc 8.3.1 20191121 (Red Hat 8.3.1-5)

Windows Server 2019
	Kernel: 10.0
	Compiler: clang 14.0 and gcc 8.1.0 (MinGW)

To view detailed results, visit:
https://lab.dpdk.org/results/dashboard/patchsets/29371/

UNH-IOL DPDK Community Lab

To manage your email subscriptions, visit: 
https://lab.dpdk.org/results/dashboard/preferences/subscriptions/