From mboxrd@z Thu Jan  1 00:00:00 1970
Return-Path: <test-report-bounces@dpdk.org>
Received: from mails.dpdk.org (mails.dpdk.org [217.70.189.124])
	by inbox.dpdk.org (Postfix) with ESMTP id 6F68B43C25
	for <public@inbox.dpdk.org>; Sat,  2 Mar 2024 01:13:16 +0100 (CET)
Received: from mails.dpdk.org (localhost [127.0.0.1])
	by mails.dpdk.org (Postfix) with ESMTP id 655F64025D;
	Sat,  2 Mar 2024 01:13:16 +0100 (CET)
Received: from mail-qk1-f226.google.com (mail-qk1-f226.google.com
 [209.85.222.226])
 by mails.dpdk.org (Postfix) with ESMTP id 0EDAA4025C
 for <test-report@dpdk.org>; Sat,  2 Mar 2024 01:13:16 +0100 (CET)
Received: by mail-qk1-f226.google.com with SMTP id
 af79cd13be357-787ef8b194dso283941085a.1
 for <test-report@dpdk.org>; Fri, 01 Mar 2024 16:13:16 -0800 (PST)
DKIM-Signature: v=1; a=rsa-sha256; c=relaxed/relaxed;
 d=iol.unh.edu; s=unh-iol; t=1709338395; x=1709943195; darn=dpdk.org;
 h=references:in-reply-to:cc:to:from:subject:message-id:date:from:to
 :cc:subject:date:message-id:reply-to;
 bh=AALeA0zJi0u2aIQExDYD7fORlfP72QSJwJ5V5AG2tKY=;
 b=Ek9NfP1RtoBzde5n5lXuFr1u4obeomej42lC6c56nOnQJlVphF/q1YHAd23YszuwfG
 ndx3/a5xm7EsFdfn5V5koKmSSFV9pv8ZLaQSE1JuGeBRASmhltJ8+1sAOgwYsJjfe05A
 FMFi4sr2VWtdkH0CDQ+zBTzr8hyy00j7u/vJ0=
X-Google-DKIM-Signature: v=1; a=rsa-sha256; c=relaxed/relaxed;
 d=1e100.net; s=20230601; t=1709338395; x=1709943195;
 h=references:in-reply-to:cc:to:from:subject:message-id:date
 :x-gm-message-state:from:to:cc:subject:date:message-id:reply-to;
 bh=AALeA0zJi0u2aIQExDYD7fORlfP72QSJwJ5V5AG2tKY=;
 b=bRmtJfMMXV/I6gQbEN2qFmHElq2d7STVMntz5W+S/nCkEVJNGD39udedFzVcKJkxYM
 aNTbBSZddCjPx2m4ewpeShDrQluyhCwMDWyXgy6qb8CzoX9ZNjmLND81lrRqJMm1mXnO
 IV2BzZLyhgl46ZqsdloRcV4irIc/pEZcXECabhVqnMrY3+WTkZw/n8Z5LxU9vjlmu7N9
 exhFlzAtJIwQ3R0/990l2cyYkhZC2EZo6BOCSRDZJ+97Lm2uCCD7cuJZkRRLhJEfC6a1
 Cts+1pEn22iSSkACMAQaCD6ifrLijMgqDXjjwSc6LN2Hj5ACETBnI7fKyoW0EpH9SxFi
 Ltwg==
X-Gm-Message-State: AOJu0YysxGgg6IK+MFayGWRyeTbeRDwAnte838PTpR/5QJuN8tQFsatd
 4w0ikKDdAW4Afu3NdaM/D7CBJjnDqWI/YRfHeT6hL4nbJEa/+YMj9sJR+N7GH51vTtL7+1EKJnN
 E5oE8dR69QBeQzATQqzblbwyaaJHGcq9EwKozlrncJ1x2RdVyEBM+6iyI
X-Google-Smtp-Source: AGHT+IEF6rXu/4OvlS9XC4ofuxffsVyJU/MIi1aOYD2aGh2V4ji/hcX4Rd+xiXiTUN4UCDTRepCPpCMkkIez
X-Received: by 2002:a0c:e343:0:b0:68f:6c38:c4b0 with SMTP id
 a3-20020a0ce343000000b0068f6c38c4b0mr4791565qvm.23.1709338395545; 
 Fri, 01 Mar 2024 16:13:15 -0800 (PST)
Received: from postal.iol.unh.edu (postal.iol.unh.edu.
 [2606:4100:3880:1234::84]) by smtp-relay.gmail.com with ESMTPS id
 gm2-20020a056214268200b0068fa33effcbsm214717qvb.39.2024.03.01.16.13.15
 (version=TLS1_2 cipher=ECDHE-ECDSA-AES128-GCM-SHA256 bits=128/128);
 Fri, 01 Mar 2024 16:13:15 -0800 (PST)
X-Relaying-Domain: iol.unh.edu
Date: Fri, 01 Mar 2024 16:13:15 -0800 (PST)
Message-ID: <65e26f1b.050a0220.5ce05.e9aeSMTPIN_ADDED_MISSING@mx.google.com>
Received: from [172.21.0.6] (unknown [172.18.0.240])
 by postal.iol.unh.edu (Postfix) with ESMTP id 97C476052712;
 Fri,  1 Mar 2024 19:13:14 -0500 (EST)
Subject: |SUCCESS| pw137762-137764 [PATCH] [v4,3/3] event/cnxk: support DMA e
From: dpdklab@iol.unh.edu
To: Test Report <test-report@dpdk.org>
Cc: dpdk-test-reports@iol.unh.edu
In-Reply-To: <20240301173202.2782112-3-amitprakashs@marvell.com>
References: <20240301173202.2782112-3-amitprakashs@marvell.com>
Content-Type: text/plain
X-BeenThere: test-report@dpdk.org
X-Mailman-Version: 2.1.29
Precedence: list
List-Id: automatic DPDK test reports <test-report.dpdk.org>
List-Unsubscribe: <https://mails.dpdk.org/options/test-report>,
 <mailto:test-report-request@dpdk.org?subject=unsubscribe>
List-Archive: <http://mails.dpdk.org/archives/test-report/>
List-Post: <mailto:test-report@dpdk.org>
List-Help: <mailto:test-report-request@dpdk.org?subject=help>
List-Subscribe: <https://mails.dpdk.org/listinfo/test-report>,
 <mailto:test-report-request@dpdk.org?subject=subscribe>
Errors-To: test-report-bounces@dpdk.org

Test-Label: iol-unit-arm64-testing
Test-Status: SUCCESS
http://dpdk.org/patch/137764

_Testing PASS_

Submitter: Amit Prakash Shukla <amitprakashs@marvell.com>
Date: Friday, March 01 2024 17:32:02 
DPDK git baseline: Repo:dpdk
  Branch: master
  CommitID:5df34de5808a7b826b8bc035d6ee3161a12be364

137762-137764 --> testing pass

Test environment and result as below:

+--------------------------+----------------+--------------+------------------------------+---------------------------+
|       Environment        | dpdk_unit_test | lpm_autotest | cryptodev_sw_snow3g_autotest | cryptodev_sw_zuc_autotest |
+==========================+================+==============+==============================+===========================+
| Debian 11 (Buster) (ARM) | PASS           | SKIPPED      | SKIPPED                      | SKIPPED                   |
+--------------------------+----------------+--------------+------------------------------+---------------------------+
| Fedora 38 (ARM)          | PASS           | SKIPPED      | SKIPPED                      | SKIPPED                   |
+--------------------------+----------------+--------------+------------------------------+---------------------------+
| Fedora 37 (ARM)          | PASS           | SKIPPED      | SKIPPED                      | SKIPPED                   |
+--------------------------+----------------+--------------+------------------------------+---------------------------+
| Debian 12 (arm)          | PASS           | SKIPPED      | PASS                         | PASS                      |
+--------------------------+----------------+--------------+------------------------------+---------------------------+
| CentOS Stream 9 (ARM)    | PASS           | SKIPPED      | SKIPPED                      | SKIPPED                   |
+--------------------------+----------------+--------------+------------------------------+---------------------------+
| Ubuntu 20.04 (ARM)       | PASS           | SKIPPED      | SKIPPED                      | SKIPPED                   |
+--------------------------+----------------+--------------+------------------------------+---------------------------+
| Fedora 38 (ARM Clang)    | PASS           | SKIPPED      | SKIPPED                      | SKIPPED                   |
+--------------------------+----------------+--------------+------------------------------+---------------------------+
| Ubuntu 20.04 ARM SVE     | SKIPPED        | PASS         | SKIPPED                      | SKIPPED                   |
+--------------------------+----------------+--------------+------------------------------+---------------------------+


Debian 11 (Buster) (ARM)
	Kernel: Container Host Kernel
	Compiler: gcc 10.2.1

Fedora 38 (ARM)
	Kernel: Depends on container host
	Compiler: gcc 13.1.1

Fedora 37 (ARM)
	Kernel: Depends on container host
	Compiler: gcc 12.3.1

Debian 12 (arm)
	Kernel: Container Host Kernel
	Compiler: gcc 11

CentOS Stream 9 (ARM)
	Kernel: Container Host Kernel
	Compiler: gcc 11.3.1

Ubuntu 20.04 (ARM)
	Kernel: Container Host Kernel
	Compiler: gcc 9.4.0

Fedora 38 (ARM Clang)
	Kernel: Depends on container host
	Compiler: clang 16.0.3

Ubuntu 20.04 ARM SVE
	Kernel: 5.4.0-80-generic
	Compiler: gcc 10.3.0 (Ubuntu 10.3.0-1ubuntu1~20.04)

To view detailed results, visit:
https://lab.dpdk.org/results/dashboard/patchsets/29381/

UNH-IOL DPDK Community Lab

To manage your email subscriptions, visit: 
https://lab.dpdk.org/results/dashboard/preferences/subscriptions/