From mboxrd@z Thu Jan  1 00:00:00 1970
Return-Path: <test-report-bounces@dpdk.org>
Received: from mails.dpdk.org (mails.dpdk.org [217.70.189.124])
	by inbox.dpdk.org (Postfix) with ESMTP id AEF0243C25
	for <public@inbox.dpdk.org>; Sat,  2 Mar 2024 01:15:32 +0100 (CET)
Received: from mails.dpdk.org (localhost [127.0.0.1])
	by mails.dpdk.org (Postfix) with ESMTP id A73C84025D;
	Sat,  2 Mar 2024 01:15:32 +0100 (CET)
Received: from mail-io1-f100.google.com (mail-io1-f100.google.com
 [209.85.166.100])
 by mails.dpdk.org (Postfix) with ESMTP id 5C69E4025E
 for <test-report@dpdk.org>; Sat,  2 Mar 2024 01:15:30 +0100 (CET)
Received: by mail-io1-f100.google.com with SMTP id
 ca18e2360f4ac-7c48fc56752so112570039f.3
 for <test-report@dpdk.org>; Fri, 01 Mar 2024 16:15:30 -0800 (PST)
DKIM-Signature: v=1; a=rsa-sha256; c=relaxed/relaxed;
 d=iol.unh.edu; s=unh-iol; t=1709338529; x=1709943329; darn=dpdk.org;
 h=references:in-reply-to:cc:to:from:subject:message-id:date:from:to
 :cc:subject:date:message-id:reply-to;
 bh=RaLvwf9uOhhBrQEQMZD5c5kURdKKX8JItXAd9uYOUEM=;
 b=BV9u5ydpYnEv0zobkBVzWNMkiH44Odre4eIA1DcBvJw6l9JeNCTLThqZHy2PyHdHzi
 UClx+k0BD5nsZXYBj43KdKZwdLM6vbUmPuNaH0VPPItgRpVxmWnrEOhDgG/wF25uYo6K
 KrcKKXTK0rrcyzkQjccCJs0YIfc5XmsGSUgNg=
X-Google-DKIM-Signature: v=1; a=rsa-sha256; c=relaxed/relaxed;
 d=1e100.net; s=20230601; t=1709338529; x=1709943329;
 h=references:in-reply-to:cc:to:from:subject:message-id:date
 :x-gm-message-state:from:to:cc:subject:date:message-id:reply-to;
 bh=RaLvwf9uOhhBrQEQMZD5c5kURdKKX8JItXAd9uYOUEM=;
 b=GGxKVWg3RZPn1nGGb0BQC4nVizR0AezLPB88smVv6/XuJbMu0t0rDd2Q3krt5nq9Wf
 4+PCXDd9ZVd9EGEAR4Hv08yGzE1AYbXCRxww79qMw5UJEiutLfvmU3zwAf3XYyxXsZ39
 f8VF5Eg/riMJxQetsstCVEvN4XKatUM87ZEWgU96lL8S9kqIWiN+P4sNpGqmEHq+571E
 LOY/PItTO5/vOvlAW4KeU1gw+Y1306nuWYZjZVQrUcGLMLSxT2XDpf5kZLyGeQgMdKcG
 ejV+NWOex+/r0OxxWW8gR1EuRS14QLYGqQy457CCwEdjrjCqqCO+liRZ1CHs64sbDfI7
 txgA==
X-Gm-Message-State: AOJu0YxGpWrMvO+xoBGyAtAGcw4IIbcVUua1R0AeHLNkgjfDnOc8ceIy
 X6bmwJT6g2BDaBTfYwTuF7hrUtp4tcv9RrgDyY6eWWyH8RP2W1Hiw7AgUUAb0JjHjrsCvbN4p7+
 CCl0muLv7kz2jj9jK1H1iheFF9qLt+WnwOoEeS7Ox
X-Google-Smtp-Source: AGHT+IGIM1OE0UwXN8pNASMDSgAoFbYUPMjTJDLP9EVVSR/fz7xQ53MBCh5nsYONNS9hu2fHQb5EcfFLify7
X-Received: by 2002:a6b:f203:0:b0:7c7:a437:74bd with SMTP id
 q3-20020a6bf203000000b007c7a43774bdmr3419696ioh.2.1709338529756; 
 Fri, 01 Mar 2024 16:15:29 -0800 (PST)
Received: from postal.iol.unh.edu (postal.iol.unh.edu. [132.177.123.84])
 by smtp-relay.gmail.com with ESMTPS id
 q21-20020a6bf215000000b007c7b54b19adsm159215ioh.35.2024.03.01.16.15.29
 (version=TLS1_2 cipher=ECDHE-ECDSA-AES128-GCM-SHA256 bits=128/128);
 Fri, 01 Mar 2024 16:15:29 -0800 (PST)
X-Relaying-Domain: iol.unh.edu
Date: Fri, 01 Mar 2024 16:15:29 -0800 (PST)
Message-ID: <65e26fa1.6b0a0220.1d9c3.9bc5SMTPIN_ADDED_MISSING@mx.google.com>
Received: from [172.17.0.8] (unknown [172.18.0.215])
 by postal.iol.unh.edu (Postfix) with ESMTP id 981896052712;
 Fri,  1 Mar 2024 19:15:28 -0500 (EST)
Subject: |SUCCESS| pw137762-137764 [PATCH] [v4,3/3] event/cnxk: support DMA e
From: dpdklab@iol.unh.edu
To: Test Report <test-report@dpdk.org>
Cc: dpdk-test-reports@iol.unh.edu
In-Reply-To: <20240301173202.2782112-3-amitprakashs@marvell.com>
References: <20240301173202.2782112-3-amitprakashs@marvell.com>
Content-Type: text/plain
X-BeenThere: test-report@dpdk.org
X-Mailman-Version: 2.1.29
Precedence: list
List-Id: automatic DPDK test reports <test-report.dpdk.org>
List-Unsubscribe: <https://mails.dpdk.org/options/test-report>,
 <mailto:test-report-request@dpdk.org?subject=unsubscribe>
List-Archive: <http://mails.dpdk.org/archives/test-report/>
List-Post: <mailto:test-report@dpdk.org>
List-Help: <mailto:test-report-request@dpdk.org?subject=help>
List-Subscribe: <https://mails.dpdk.org/listinfo/test-report>,
 <mailto:test-report-request@dpdk.org?subject=subscribe>
Errors-To: test-report-bounces@dpdk.org

Test-Label: iol-compile-arm64-testing
Test-Status: SUCCESS
http://dpdk.org/patch/137764

_Testing PASS_

Submitter: Amit Prakash Shukla <amitprakashs@marvell.com>
Date: Friday, March 01 2024 17:32:02 
DPDK git baseline: Repo:dpdk
  Branch: master
  CommitID:5df34de5808a7b826b8bc035d6ee3161a12be364

137762-137764 --> testing pass

Test environment and result as below:

+----------------------------------------+--------------------+
|              Environment               | dpdk_meson_compile |
+========================================+====================+
| Ubuntu 20.04 ARM SVE                   | PASS               |
+----------------------------------------+--------------------+
| Debian 12 (arm)                        | PASS               |
+----------------------------------------+--------------------+
| CentOS Stream 9 (ARM)                  | PASS               |
+----------------------------------------+--------------------+
| Ubuntu 20.04 aarch32 GCC Cross Compile | PASS               |
+----------------------------------------+--------------------+
| Fedora 38 (ARM)                        | PASS               |
+----------------------------------------+--------------------+
| Ubuntu 20.04 (ARM)                     | PASS               |
+----------------------------------------+--------------------+
| Ubuntu 20.04 ARM Clang Cross Compile   | PASS               |
+----------------------------------------+--------------------+


Ubuntu 20.04 ARM SVE
	Kernel: 5.4.0-80-generic
	Compiler: gcc 10.3.0 (Ubuntu 10.3.0-1ubuntu1~20.04)

Debian 12 (arm)
	Kernel: Container Host Kernel
	Compiler: gcc 11

CentOS Stream 9 (ARM)
	Kernel: Container Host Kernel
	Compiler: gcc 11.3.1

Ubuntu 20.04 aarch32 GCC Cross Compile
	Kernel: 5.4.0-72-generic
	Compiler: gcc 9.3.0

Fedora 38 (ARM)
	Kernel: Depends on container host
	Compiler: gcc 13.1.1

Ubuntu 20.04 (ARM)
	Kernel: Container Host Kernel
	Compiler: gcc 9.4.0

Ubuntu 20.04 ARM Clang Cross Compile
	Kernel: 5.4.0-72-generic
	Compiler: clang version 10.0.0-4ubuntu1

To view detailed results, visit:
https://lab.dpdk.org/results/dashboard/patchsets/29381/

UNH-IOL DPDK Community Lab

To manage your email subscriptions, visit: 
https://lab.dpdk.org/results/dashboard/preferences/subscriptions/