From mboxrd@z Thu Jan  1 00:00:00 1970
Return-Path: <test-report-bounces@dpdk.org>
Received: from mails.dpdk.org (mails.dpdk.org [217.70.189.124])
	by inbox.dpdk.org (Postfix) with ESMTP id 15DA943C25
	for <public@inbox.dpdk.org>; Sat,  2 Mar 2024 01:16:27 +0100 (CET)
Received: from mails.dpdk.org (localhost [127.0.0.1])
	by mails.dpdk.org (Postfix) with ESMTP id 103574025D;
	Sat,  2 Mar 2024 01:16:27 +0100 (CET)
Received: from mail-ot1-f99.google.com (mail-ot1-f99.google.com
 [209.85.210.99]) by mails.dpdk.org (Postfix) with ESMTP id 9F0D74025C
 for <test-report@dpdk.org>; Sat,  2 Mar 2024 01:16:25 +0100 (CET)
Received: by mail-ot1-f99.google.com with SMTP id
 46e09a7af769-6ddf26eba3cso1864331a34.0
 for <test-report@dpdk.org>; Fri, 01 Mar 2024 16:16:25 -0800 (PST)
DKIM-Signature: v=1; a=rsa-sha256; c=relaxed/relaxed;
 d=iol.unh.edu; s=unh-iol; t=1709338585; x=1709943385; darn=dpdk.org;
 h=references:in-reply-to:cc:to:from:subject:message-id:date:from:to
 :cc:subject:date:message-id:reply-to;
 bh=xwYuXxdqF4jixaLwcdTPqlxPiOFRZ+LwWBkOHiJwyBY=;
 b=DvVc0hdxttV0mt1/ztWXnUQ5z6uVICnLUOSGUR7jyp3euE9WHYpwaN7nxOs7EK3mvs
 rDTujj653uWwC2MymCo1nJZ6zcUebKKupiDT4stdGtqeQTCv6j6Yj+bXbFzpHJL4wmpS
 uyOeHbsnnud22RYFi3h/pqgZmaCU5nTA5i5AU=
X-Google-DKIM-Signature: v=1; a=rsa-sha256; c=relaxed/relaxed;
 d=1e100.net; s=20230601; t=1709338585; x=1709943385;
 h=references:in-reply-to:cc:to:from:subject:message-id:date
 :x-gm-message-state:from:to:cc:subject:date:message-id:reply-to;
 bh=xwYuXxdqF4jixaLwcdTPqlxPiOFRZ+LwWBkOHiJwyBY=;
 b=N67bZAozfJGhcWGriwI2SpkzNKNynJrC92CtqB58iOS8HBXtFYnBxtfbZ2tt5npCtf
 Fr886Db1tm+LP1w1pHCQUMJIw6BqR+iXkBJRq09S69Ea3kPHwR6tNGwQg0gE7UaG+CI/
 ZRafyte8VrSPJckBFRR47UFdf+fLP/6l0OYXhqWpNB/OW5t1GMcH124N2rYGljy0jHOq
 1bLZVGzx69y4csBNaPBTPbzE3P7EOko1c9+4gWdLHdz8vG0fwzysLkHyzhqhy2FA+Yl5
 1KmWumE2ev9anRDRN1+ywd4mK+eBmNbdV7jY/jxaKFXGaP4zX4yzSBURLkUkv6ab/oLf
 0arQ==
X-Gm-Message-State: AOJu0YyDgbWVOcXfvxe9+1qwHlMfsB5Jdu9sRKMPMWUK2Hs//dBwWCTf
 chbD1SBf6HbxQNvdToTa1jytNGjkcKo4NewA0jYSbs/8A6CyS5KG+pGvGkgWa9siVhGFVG6SNAa
 HEOmTLDRX9euT+XEe3keWCakuj01y5wCT01F+qplL7yT4F7SC0QoTs9B3
X-Google-Smtp-Source: AGHT+IG/vP5BcLblRHnbfcpU2rScouJguPTf3TIBDWzypDjhTm7I0gK2Tztdttr0KydOlFXjo9iddHOHzPTv
X-Received: by 2002:a05:6830:438e:b0:6e4:cfe3:6ce5 with SMTP id
 s14-20020a056830438e00b006e4cfe36ce5mr2638745otv.1.1709338584933; 
 Fri, 01 Mar 2024 16:16:24 -0800 (PST)
Received: from postal.iol.unh.edu (postal.iol.unh.edu.
 [2606:4100:3880:1234::84]) by smtp-relay.gmail.com with ESMTPS id
 bg43-20020a056820082b00b005a0e830ad39sm81933oob.11.2024.03.01.16.16.24
 (version=TLS1_2 cipher=ECDHE-ECDSA-AES128-GCM-SHA256 bits=128/128);
 Fri, 01 Mar 2024 16:16:24 -0800 (PST)
X-Relaying-Domain: iol.unh.edu
Date: Fri, 01 Mar 2024 16:16:24 -0800 (PST)
Message-ID: <65e26fd8.050a0220.4a225.4a01SMTPIN_ADDED_MISSING@mx.google.com>
Received: from [172.21.0.9] (unknown [172.18.0.240])
 by postal.iol.unh.edu (Postfix) with ESMTP id 7A8D66052712;
 Fri,  1 Mar 2024 19:16:23 -0500 (EST)
Subject: |SUCCESS| pw137691-137761 [PATCH] [v2,71/71] examples: replace use o
From: dpdklab@iol.unh.edu
To: Test Report <test-report@dpdk.org>
Cc: dpdk-test-reports@iol.unh.edu
In-Reply-To: <20240301171707.95242-72-stephen@networkplumber.org>
References: <20240301171707.95242-72-stephen@networkplumber.org>
Content-Type: text/plain
X-BeenThere: test-report@dpdk.org
X-Mailman-Version: 2.1.29
Precedence: list
List-Id: automatic DPDK test reports <test-report.dpdk.org>
List-Unsubscribe: <https://mails.dpdk.org/options/test-report>,
 <mailto:test-report-request@dpdk.org?subject=unsubscribe>
List-Archive: <http://mails.dpdk.org/archives/test-report/>
List-Post: <mailto:test-report@dpdk.org>
List-Help: <mailto:test-report-request@dpdk.org?subject=help>
List-Subscribe: <https://mails.dpdk.org/listinfo/test-report>,
 <mailto:test-report-request@dpdk.org?subject=subscribe>
Errors-To: test-report-bounces@dpdk.org

Test-Label: iol-unit-amd64-testing
Test-Status: SUCCESS
http://dpdk.org/patch/137761

_Testing PASS_

Submitter: Stephen Hemminger <stephen@networkplumber.org>
Date: Friday, March 01 2024 17:16:07 
DPDK git baseline: Repo:dpdk
  Branch: master
  CommitID:5df34de5808a7b826b8bc035d6ee3161a12be364

137691-137761 --> testing pass

Test environment and result as below:

+------------------+----------------+
|   Environment    | dpdk_unit_test |
+==================+================+
| CentOS Stream 9  | PASS           |
+------------------+----------------+
| CentOS Stream 8  | PASS           |
+------------------+----------------+
| Fedora 37        | PASS           |
+------------------+----------------+
| Debian 12 (arm)  | PASS           |
+------------------+----------------+
| Debian Bullseye  | PASS           |
+------------------+----------------+
| openSUSE Leap 15 | PASS           |
+------------------+----------------+
| Ubuntu 22.04     | PASS           |
+------------------+----------------+
| Fedora 38        | PASS           |
+------------------+----------------+


CentOS Stream 9
	Kernel: 4.18.0-240.10.1.el8_3.x86_64
	Compiler: gcc 11.3.1 20220421

CentOS Stream 8
	Kernel: 4.18.0-240.10.1.el8_3.x86_64
	Compiler: gcc 8.4.1 20200928

Fedora 37
	Kernel: Depends on container host system
	Compiler: gcc 12.3.1

Debian 12 (arm)
	Kernel: Container Host Kernel
	Compiler: gcc 11

Debian Bullseye
	Kernel: 5.4.0-122-generic
	Compiler: gcc 10.2.1-6

openSUSE Leap 15
	Kernel: 4.18.0-240.10.1.el8_3.x86_64
	Compiler: gcc 7.5.0

Ubuntu 22.04
	Kernel: 4.18.0-240.10.1.el8_3.x86_64
	Compiler: gcc 11.3.0

Fedora 38
	Kernel: Depends on container host
	Compiler: gcc 13.1.1

To view detailed results, visit:
https://lab.dpdk.org/results/dashboard/patchsets/29380/

UNH-IOL DPDK Community Lab

To manage your email subscriptions, visit: 
https://lab.dpdk.org/results/dashboard/preferences/subscriptions/