From mboxrd@z Thu Jan  1 00:00:00 1970
Return-Path: <test-report-bounces@dpdk.org>
Received: from mails.dpdk.org (mails.dpdk.org [217.70.189.124])
	by inbox.dpdk.org (Postfix) with ESMTP id 7D1A343C25
	for <public@inbox.dpdk.org>; Sat,  2 Mar 2024 01:17:04 +0100 (CET)
Received: from mails.dpdk.org (localhost [127.0.0.1])
	by mails.dpdk.org (Postfix) with ESMTP id 747EB4025D;
	Sat,  2 Mar 2024 01:17:04 +0100 (CET)
Received: from mail-oo1-f99.google.com (mail-oo1-f99.google.com
 [209.85.161.99]) by mails.dpdk.org (Postfix) with ESMTP id 078AC4025C
 for <test-report@dpdk.org>; Sat,  2 Mar 2024 01:17:02 +0100 (CET)
Received: by mail-oo1-f99.google.com with SMTP id
 006d021491bc7-5a0e5c2d339so1428429eaf.3
 for <test-report@dpdk.org>; Fri, 01 Mar 2024 16:17:02 -0800 (PST)
DKIM-Signature: v=1; a=rsa-sha256; c=relaxed/relaxed;
 d=iol.unh.edu; s=unh-iol; t=1709338622; x=1709943422; darn=dpdk.org;
 h=references:in-reply-to:cc:to:from:subject:message-id:date:from:to
 :cc:subject:date:message-id:reply-to;
 bh=xwYuXxdqF4jixaLwcdTPqlxPiOFRZ+LwWBkOHiJwyBY=;
 b=LA8UWXBcYh2LdWbOOYvCZCsa1QnhODa10VEH4wLpgbZVKbHVdqYd/LKqd81VA3DEJF
 LdXr1zSnnMnNs8GR1SJncJvT5n4p/j/kQsEjeUdb+NOG9p/pdRQajJ3UnRxxVcAdVKHc
 OFDWxD8HhkNKtNyADHPZ02nZmbS2BJ6SvwGrY=
X-Google-DKIM-Signature: v=1; a=rsa-sha256; c=relaxed/relaxed;
 d=1e100.net; s=20230601; t=1709338622; x=1709943422;
 h=references:in-reply-to:cc:to:from:subject:message-id:date
 :x-gm-message-state:from:to:cc:subject:date:message-id:reply-to;
 bh=xwYuXxdqF4jixaLwcdTPqlxPiOFRZ+LwWBkOHiJwyBY=;
 b=pzQIc0gNSUQk9SGEIKTaV3xDKinEAmUwwqEvmrpbQ1fDdKgWC0CjW3nZLRwBNclv3G
 m7xuSs12mieBbVLYqR15Koopsocnj1xKuGpEztMSohM7XD6ZdcQnce5QA0W/czmbZREe
 Q1Q1PiM6WYtPu6ZoA48NgGMZcP6Fij5NQL5PeIttzIz7RxHW1lc2xPXPsp9BJOqW8QpZ
 ePrENTKivXmGfGQVUNQXlp4uee8W3vZSTGwXatCRpuue+MFRYhd3Aqk/Ia6OBFnj+UUW
 mCVQwhQpxiK62YA4VslSH1id8oP1IgLsiWwhrTk+Bbk1UyJ4O0k8Xz4pSUVkwGC576cX
 52zA==
X-Gm-Message-State: AOJu0YwVu4AU3bzisHGALDsaP5CoY6Ob/5cBRKFhQfJ2W8wb9kuAmRh+
 zI+ArX6x3yPZU+pRzHkMr5+8+/+fxkzyeHlv/a0Qwu7FHURlFLHAE155kFILWq1lhvsKGa4XUiL
 XMRSN6t8z/dGAV2x3q8ZUs4XaJve5knQoAqFN87u9NKIk5V+6n4E46m/7
X-Google-Smtp-Source: AGHT+IHaO0tHq5nJalSQ4/JccbMVp9554vXlqGvsoAm0O6JyOIndYjBmZrwLMYtnorC7ftz5rYElRoET84py
X-Received: by 2002:a05:6820:2224:b0:5a1:17ba:4937 with SMTP id
 cj36-20020a056820222400b005a117ba4937mr144873oob.2.1709338622189; 
 Fri, 01 Mar 2024 16:17:02 -0800 (PST)
Received: from postal.iol.unh.edu (postal.iol.unh.edu.
 [2606:4100:3880:1234::84]) by smtp-relay.gmail.com with ESMTPS id
 6-20020a4a0006000000b005a05c7e5d14sm235146ooh.21.2024.03.01.16.17.02
 (version=TLS1_2 cipher=ECDHE-ECDSA-AES128-GCM-SHA256 bits=128/128);
 Fri, 01 Mar 2024 16:17:02 -0800 (PST)
X-Relaying-Domain: iol.unh.edu
Date: Fri, 01 Mar 2024 16:17:02 -0800 (PST)
Message-ID: <65e26ffe.4a0a0220.bcbb5.f46dSMTPIN_ADDED_MISSING@mx.google.com>
Received: from [172.21.0.9] (unknown [172.18.0.240])
 by postal.iol.unh.edu (Postfix) with ESMTP id 59C826052712;
 Fri,  1 Mar 2024 19:17:01 -0500 (EST)
Subject: |SUCCESS| pw137691-137761 [PATCH] [v2,71/71] examples: replace use o
From: dpdklab@iol.unh.edu
To: Test Report <test-report@dpdk.org>
Cc: dpdk-test-reports@iol.unh.edu
In-Reply-To: <20240301171707.95242-72-stephen@networkplumber.org>
References: <20240301171707.95242-72-stephen@networkplumber.org>
Content-Type: text/plain
X-BeenThere: test-report@dpdk.org
X-Mailman-Version: 2.1.29
Precedence: list
List-Id: automatic DPDK test reports <test-report.dpdk.org>
List-Unsubscribe: <https://mails.dpdk.org/options/test-report>,
 <mailto:test-report-request@dpdk.org?subject=unsubscribe>
List-Archive: <http://mails.dpdk.org/archives/test-report/>
List-Post: <mailto:test-report@dpdk.org>
List-Help: <mailto:test-report-request@dpdk.org?subject=help>
List-Subscribe: <https://mails.dpdk.org/listinfo/test-report>,
 <mailto:test-report-request@dpdk.org?subject=subscribe>
Errors-To: test-report-bounces@dpdk.org

Test-Label: iol-unit-amd64-testing
Test-Status: SUCCESS
http://dpdk.org/patch/137761

_Testing PASS_

Submitter: Stephen Hemminger <stephen@networkplumber.org>
Date: Friday, March 01 2024 17:16:07 
DPDK git baseline: Repo:dpdk
  Branch: master
  CommitID:5df34de5808a7b826b8bc035d6ee3161a12be364

137691-137761 --> testing pass

Test environment and result as below:

+------------------+----------------+
|   Environment    | dpdk_unit_test |
+==================+================+
| CentOS Stream 9  | PASS           |
+------------------+----------------+
| CentOS Stream 8  | PASS           |
+------------------+----------------+
| Fedora 37        | PASS           |
+------------------+----------------+
| Debian 12 (arm)  | PASS           |
+------------------+----------------+
| Debian Bullseye  | PASS           |
+------------------+----------------+
| openSUSE Leap 15 | PASS           |
+------------------+----------------+
| Ubuntu 22.04     | PASS           |
+------------------+----------------+
| Fedora 38        | PASS           |
+------------------+----------------+


CentOS Stream 9
	Kernel: 4.18.0-240.10.1.el8_3.x86_64
	Compiler: gcc 11.3.1 20220421

CentOS Stream 8
	Kernel: 4.18.0-240.10.1.el8_3.x86_64
	Compiler: gcc 8.4.1 20200928

Fedora 37
	Kernel: Depends on container host system
	Compiler: gcc 12.3.1

Debian 12 (arm)
	Kernel: Container Host Kernel
	Compiler: gcc 11

Debian Bullseye
	Kernel: 5.4.0-122-generic
	Compiler: gcc 10.2.1-6

openSUSE Leap 15
	Kernel: 4.18.0-240.10.1.el8_3.x86_64
	Compiler: gcc 7.5.0

Ubuntu 22.04
	Kernel: 4.18.0-240.10.1.el8_3.x86_64
	Compiler: gcc 11.3.0

Fedora 38
	Kernel: Depends on container host
	Compiler: gcc 13.1.1

To view detailed results, visit:
https://lab.dpdk.org/results/dashboard/patchsets/29380/

UNH-IOL DPDK Community Lab

To manage your email subscriptions, visit: 
https://lab.dpdk.org/results/dashboard/preferences/subscriptions/