From mboxrd@z Thu Jan  1 00:00:00 1970
Return-Path: <test-report-bounces@dpdk.org>
Received: from mails.dpdk.org (mails.dpdk.org [217.70.189.124])
	by inbox.dpdk.org (Postfix) with ESMTP id C523B43C25
	for <public@inbox.dpdk.org>; Sat,  2 Mar 2024 01:46:45 +0100 (CET)
Received: from mails.dpdk.org (localhost [127.0.0.1])
	by mails.dpdk.org (Postfix) with ESMTP id BE58F4025D;
	Sat,  2 Mar 2024 01:46:45 +0100 (CET)
Received: from mail-yw1-f225.google.com (mail-yw1-f225.google.com
 [209.85.128.225])
 by mails.dpdk.org (Postfix) with ESMTP id 50A024025C
 for <test-report@dpdk.org>; Sat,  2 Mar 2024 01:46:45 +0100 (CET)
Received: by mail-yw1-f225.google.com with SMTP id
 00721157ae682-6096ab005c0so23763807b3.1
 for <test-report@dpdk.org>; Fri, 01 Mar 2024 16:46:45 -0800 (PST)
DKIM-Signature: v=1; a=rsa-sha256; c=relaxed/relaxed;
 d=iol.unh.edu; s=unh-iol; t=1709340404; x=1709945204; darn=dpdk.org;
 h=references:in-reply-to:cc:to:from:subject:message-id:date:from:to
 :cc:subject:date:message-id:reply-to;
 bh=8VAN6pTY8mHFnryf9ryJbnA7ypdxdg907EXfYlGP3nk=;
 b=Kqnws3fMHbc8k0UzEMpJiMdih0piFHVG4qXoRmie1y9AS4iuuPSS5qulrGGYOsLez7
 soKQV+4wffsZvMMMReT60FHpCVXnFVkNj0CWNq+PG580HSlXh8xsiT1wP2lnemRzK4Dy
 +1hEXhmoXZr3xblddlJoQpgG7jI4c1b4H9JP8=
X-Google-DKIM-Signature: v=1; a=rsa-sha256; c=relaxed/relaxed;
 d=1e100.net; s=20230601; t=1709340404; x=1709945204;
 h=references:in-reply-to:cc:to:from:subject:message-id:date
 :x-gm-message-state:from:to:cc:subject:date:message-id:reply-to;
 bh=8VAN6pTY8mHFnryf9ryJbnA7ypdxdg907EXfYlGP3nk=;
 b=rLAND3IZ7FEpF2p8dHe83cBEa2GL637+0eniHjISQ4hcjR2NzF/oKjQTe1kBXmdayI
 /MW+uFD16OOS8I0a2UoL6fPqao8TqgcKzj9w0hGwqv0RDTns6M3nmvdf9kJaD+sPQPHw
 hiYWbz1S0zWlvy4XbrpJRcMKt9REFlZSg0YQWwRVxFw+nrNHDbRu8fC3kyrmp/A3CZM1
 w36B8yA34y3SnCSDpU3TSL1cWpXLlot3wxr+2nueINiEUGycvm02Gkh2v/qWyIdAH9Dp
 9zN9Tb1XkTkDNHjXFRPkpv+vvzFZ+ycD9CHLz0+mpjWqdvP4NEv3VvgKzkwQiIFjogmC
 C9Rw==
X-Gm-Message-State: AOJu0Yweuywggy4ZaP3uMcb/IKt3HZf4uG55FSoe5fLbwcxBtlnU/IQ0
 2G/W0+Qrrh83MBCjgqjB2rTinPMAPX4GGWcD4UQ3GcsLyImTLO4PwkTp//fL8qVOyFwEBOINTpy
 5LqxToBfSD7ZsLMyxgtLiRt2VTUMLZH4cHzt3sH0W
X-Google-Smtp-Source: AGHT+IFEEGdAVeRY3kKGwUcbfkmCyEPEAw7gEYP9fAK6bpcjoXMM0YQcN4x+aGxySpBhvDJvXlNZRfjVN3eN
X-Received: by 2002:a81:e945:0:b0:604:a9c2:2a17 with SMTP id
 e5-20020a81e945000000b00604a9c22a17mr3583832ywm.45.1709340404809; 
 Fri, 01 Mar 2024 16:46:44 -0800 (PST)
Received: from postal.iol.unh.edu (postal.iol.unh.edu. [132.177.123.84])
 by smtp-relay.gmail.com with ESMTPS id
 u128-20020a816086000000b006093c2c7542sm248213ywb.39.2024.03.01.16.46.44
 (version=TLS1_2 cipher=ECDHE-ECDSA-AES128-GCM-SHA256 bits=128/128);
 Fri, 01 Mar 2024 16:46:44 -0800 (PST)
X-Relaying-Domain: iol.unh.edu
Date: Fri, 01 Mar 2024 16:46:44 -0800 (PST)
Message-ID: <65e276f4.810a0220.c670d.0a2eSMTPIN_ADDED_MISSING@mx.google.com>
Received: from [172.17.0.6] (unknown [172.18.0.217])
 by postal.iol.unh.edu (Postfix) with ESMTP id 76A296052712;
 Fri,  1 Mar 2024 19:46:44 -0500 (EST)
Subject: |SUCCESS| pw137691-137761 [PATCH] [v2,71/71] examples: replace use o
From: dpdklab@iol.unh.edu
To: Test Report <test-report@dpdk.org>
Cc: dpdk-test-reports@iol.unh.edu
In-Reply-To: <20240301171707.95242-72-stephen@networkplumber.org>
References: <20240301171707.95242-72-stephen@networkplumber.org>
Content-Type: text/plain
X-BeenThere: test-report@dpdk.org
X-Mailman-Version: 2.1.29
Precedence: list
List-Id: automatic DPDK test reports <test-report.dpdk.org>
List-Unsubscribe: <https://mails.dpdk.org/options/test-report>,
 <mailto:test-report-request@dpdk.org?subject=unsubscribe>
List-Archive: <http://mails.dpdk.org/archives/test-report/>
List-Post: <mailto:test-report@dpdk.org>
List-Help: <mailto:test-report-request@dpdk.org?subject=help>
List-Subscribe: <https://mails.dpdk.org/listinfo/test-report>,
 <mailto:test-report-request@dpdk.org?subject=subscribe>
Errors-To: test-report-bounces@dpdk.org

Test-Label: iol-unit-amd64-testing
Test-Status: SUCCESS
http://dpdk.org/patch/137761

_Testing PASS_

Submitter: Stephen Hemminger <stephen@networkplumber.org>
Date: Friday, March 01 2024 17:16:07 
DPDK git baseline: Repo:dpdk
  Branch: master
  CommitID:5df34de5808a7b826b8bc035d6ee3161a12be364

137691-137761 --> testing pass

Test environment and result as below:

+------------------+----------------+
|   Environment    | dpdk_unit_test |
+==================+================+
| CentOS Stream 9  | PASS           |
+------------------+----------------+
| CentOS Stream 8  | PASS           |
+------------------+----------------+
| Fedora 37        | PASS           |
+------------------+----------------+
| Debian 12 (arm)  | PASS           |
+------------------+----------------+
| Debian Bullseye  | PASS           |
+------------------+----------------+
| openSUSE Leap 15 | PASS           |
+------------------+----------------+
| Ubuntu 22.04     | PASS           |
+------------------+----------------+
| Fedora 38        | PASS           |
+------------------+----------------+
| RHEL8            | PASS           |
+------------------+----------------+
| Ubuntu 20.04     | PASS           |
+------------------+----------------+


CentOS Stream 9
	Kernel: 4.18.0-240.10.1.el8_3.x86_64
	Compiler: gcc 11.3.1 20220421

CentOS Stream 8
	Kernel: 4.18.0-240.10.1.el8_3.x86_64
	Compiler: gcc 8.4.1 20200928

Fedora 37
	Kernel: Depends on container host system
	Compiler: gcc 12.3.1

Debian 12 (arm)
	Kernel: Container Host Kernel
	Compiler: gcc 11

Debian Bullseye
	Kernel: 5.4.0-122-generic
	Compiler: gcc 10.2.1-6

openSUSE Leap 15
	Kernel: 4.18.0-240.10.1.el8_3.x86_64
	Compiler: gcc 7.5.0

Ubuntu 22.04
	Kernel: 4.18.0-240.10.1.el8_3.x86_64
	Compiler: gcc 11.3.0

Fedora 38
	Kernel: Depends on container host
	Compiler: gcc 13.1.1

RHEL8
	Kernel: 4.18.0-240.10.1.el8_3.x86_64
	Compiler: gcc 8.3.1 20191121 (Red Hat 8.3.1-5)

Ubuntu 20.04
	Kernel: 5.4.0-153-generic
	Compiler: gcc 9.4.0-1ubuntu1~20.04.1

To view detailed results, visit:
https://lab.dpdk.org/results/dashboard/patchsets/29380/

UNH-IOL DPDK Community Lab

To manage your email subscriptions, visit: 
https://lab.dpdk.org/results/dashboard/preferences/subscriptions/