From mboxrd@z Thu Jan  1 00:00:00 1970
Return-Path: <test-report-bounces@dpdk.org>
Received: from mails.dpdk.org (mails.dpdk.org [217.70.189.124])
	by inbox.dpdk.org (Postfix) with ESMTP id AA6BB43C27
	for <public@inbox.dpdk.org>; Sat,  2 Mar 2024 02:00:15 +0100 (CET)
Received: from mails.dpdk.org (localhost [127.0.0.1])
	by mails.dpdk.org (Postfix) with ESMTP id A1E8F4025D;
	Sat,  2 Mar 2024 02:00:15 +0100 (CET)
Received: from mail-io1-f99.google.com (mail-io1-f99.google.com
 [209.85.166.99]) by mails.dpdk.org (Postfix) with ESMTP id 565BD4025C
 for <test-report@dpdk.org>; Sat,  2 Mar 2024 02:00:14 +0100 (CET)
Received: by mail-io1-f99.google.com with SMTP id
 ca18e2360f4ac-7c79664c71fso86361839f.0
 for <test-report@dpdk.org>; Fri, 01 Mar 2024 17:00:14 -0800 (PST)
DKIM-Signature: v=1; a=rsa-sha256; c=relaxed/relaxed;
 d=iol.unh.edu; s=unh-iol; t=1709341213; x=1709946013; darn=dpdk.org;
 h=references:in-reply-to:cc:to:from:subject:message-id:date:from:to
 :cc:subject:date:message-id:reply-to;
 bh=niTyUhmEwt6aXEkpWZofPUd1nOYJDqR63ALz8bs+PVQ=;
 b=e6edp4tpyvS6X+kE648h1tZPZfm7ShQCKnpnyyxEbGRqJr1hV918R8+bDcCWoq33XG
 f3u9V/hxJNgMuaeQmBh2j4LtVT5Sq/G2iqUMvcZ0n5rnkUoGpqe8M/KdMGWiG+VbLh1k
 ZbKv/KZjQ+ecBAenS6c3euNjkbFAxJpm8IzCQ=
X-Google-DKIM-Signature: v=1; a=rsa-sha256; c=relaxed/relaxed;
 d=1e100.net; s=20230601; t=1709341213; x=1709946013;
 h=references:in-reply-to:cc:to:from:subject:message-id:date
 :x-gm-message-state:from:to:cc:subject:date:message-id:reply-to;
 bh=niTyUhmEwt6aXEkpWZofPUd1nOYJDqR63ALz8bs+PVQ=;
 b=k+2DLGjoskvXbc26ZHpkjsAWUb8H63WdGVyJMGHqGoUDtfgEpurIbDhNkOyFMsI0Eb
 JLzpZPk3yg1U4/3Yt35/1GpJqDc1DL8M05Kb3lsstbKtZJTN0wbzyIQ6CotMOzNDcaYP
 St8VcZUDC3/dXMvLhcmVQ9YWtTD4m0ieKB6B7/j+hv9/eDHba+sj8ZKLlJz9N22iMyCI
 4xteLTDsCNLIxfDEuDMbMLo03tH0XYgqwn5pKjUW5Wlc2hM9F6JNOayiSJoR82PFKzRW
 tFQv6v2M1K0TMiiijmeTz6PT88nyD5mbX5ixIGVVunxbl4tuvUMKaJStI7D5XyfYIizT
 zFtg==
X-Gm-Message-State: AOJu0Yx50gaFuFqF+dSBp4Kpsr8Mjb7SKBTZ3QQk3AzfPiycGopB6VJd
 Ktp2v3/CYDQSXAfwW1/FszqEcwM9R9JeOcYAT19Y+bjLaHkX1WfpXhAbUX8w07OMUfzOf7tjmZl
 lf9hdNFWl9HFPLlg/5hNS5DMYfOxPmiS2R0Q7jw3Qnc+GxcnmHswiXkgX
X-Google-Smtp-Source: AGHT+IH1YgSM88JzYTrqNAcZ9L0hkK7XpK0EypwjS6kA+n1S2dEIocRYYcgcf83lHSdwr4KQ3jGO79IpuCd+
X-Received: by 2002:a5e:de01:0:b0:7c8:1ac7:a653 with SMTP id
 e1-20020a5ede01000000b007c81ac7a653mr1736365iok.2.1709341213753; 
 Fri, 01 Mar 2024 17:00:13 -0800 (PST)
Received: from postal.iol.unh.edu (postal.iol.unh.edu.
 [2606:4100:3880:1234::84]) by smtp-relay.gmail.com with ESMTPS id
 g19-20020a056602151300b007c7b1ff9eaesm155800iow.21.2024.03.01.17.00.13
 (version=TLS1_2 cipher=ECDHE-ECDSA-AES128-GCM-SHA256 bits=128/128);
 Fri, 01 Mar 2024 17:00:13 -0800 (PST)
X-Relaying-Domain: iol.unh.edu
Date: Fri, 01 Mar 2024 17:00:13 -0800 (PST)
Message-ID: <65e27a1d.050a0220.6835.9946SMTPIN_ADDED_MISSING@mx.google.com>
Received: from [172.21.0.6] (unknown [172.18.0.240])
 by postal.iol.unh.edu (Postfix) with ESMTP id 441266052712;
 Fri,  1 Mar 2024 20:00:13 -0500 (EST)
Subject: |SUCCESS| pw137762-137764 [PATCH] [v4,3/3] event/cnxk: support DMA e
From: dpdklab@iol.unh.edu
To: Test Report <test-report@dpdk.org>
Cc: dpdk-test-reports@iol.unh.edu
In-Reply-To: <20240301173202.2782112-3-amitprakashs@marvell.com>
References: <20240301173202.2782112-3-amitprakashs@marvell.com>
Content-Type: text/plain
X-BeenThere: test-report@dpdk.org
X-Mailman-Version: 2.1.29
Precedence: list
List-Id: automatic DPDK test reports <test-report.dpdk.org>
List-Unsubscribe: <https://mails.dpdk.org/options/test-report>,
 <mailto:test-report-request@dpdk.org?subject=unsubscribe>
List-Archive: <http://mails.dpdk.org/archives/test-report/>
List-Post: <mailto:test-report@dpdk.org>
List-Help: <mailto:test-report-request@dpdk.org?subject=help>
List-Subscribe: <https://mails.dpdk.org/listinfo/test-report>,
 <mailto:test-report-request@dpdk.org?subject=subscribe>
Errors-To: test-report-bounces@dpdk.org

Test-Label: iol-compile-arm64-testing
Test-Status: SUCCESS
http://dpdk.org/patch/137764

_Testing PASS_

Submitter: Amit Prakash Shukla <amitprakashs@marvell.com>
Date: Friday, March 01 2024 17:32:02 
DPDK git baseline: Repo:dpdk
  Branch: master
  CommitID:5df34de5808a7b826b8bc035d6ee3161a12be364

137762-137764 --> testing pass

Test environment and result as below:

+----------------------------------------+--------------------+
|              Environment               | dpdk_meson_compile |
+========================================+====================+
| Ubuntu 20.04 ARM SVE                   | PASS               |
+----------------------------------------+--------------------+
| Debian 12 (arm)                        | PASS               |
+----------------------------------------+--------------------+
| CentOS Stream 9 (ARM)                  | PASS               |
+----------------------------------------+--------------------+
| Ubuntu 20.04 aarch32 GCC Cross Compile | PASS               |
+----------------------------------------+--------------------+
| Fedora 38 (ARM)                        | PASS               |
+----------------------------------------+--------------------+
| Ubuntu 20.04 (ARM)                     | PASS               |
+----------------------------------------+--------------------+
| Ubuntu 20.04 ARM Clang Cross Compile   | PASS               |
+----------------------------------------+--------------------+
| Fedora 37 (ARM)                        | PASS               |
+----------------------------------------+--------------------+
| Ubuntu 20.04 ARM GCC Cross Compile     | PASS               |
+----------------------------------------+--------------------+
| Debian 11 (Buster) (ARM)               | PASS               |
+----------------------------------------+--------------------+


Ubuntu 20.04 ARM SVE
	Kernel: 5.4.0-80-generic
	Compiler: gcc 10.3.0 (Ubuntu 10.3.0-1ubuntu1~20.04)

Debian 12 (arm)
	Kernel: Container Host Kernel
	Compiler: gcc 11

CentOS Stream 9 (ARM)
	Kernel: Container Host Kernel
	Compiler: gcc 11.3.1

Ubuntu 20.04 aarch32 GCC Cross Compile
	Kernel: 5.4.0-72-generic
	Compiler: gcc 9.3.0

Fedora 38 (ARM)
	Kernel: Depends on container host
	Compiler: gcc 13.1.1

Ubuntu 20.04 (ARM)
	Kernel: Container Host Kernel
	Compiler: gcc 9.4.0

Ubuntu 20.04 ARM Clang Cross Compile
	Kernel: 5.4.0-72-generic
	Compiler: clang version 10.0.0-4ubuntu1

Fedora 37 (ARM)
	Kernel: Depends on container host
	Compiler: gcc 12.3.1

Ubuntu 20.04 ARM GCC Cross Compile
	Kernel: 5.4.0-72-generic
	Compiler: aarch64-linux-gnu-gcc (Ubuntu 9.3.0-17ubuntu1~20.04) 9.3.0

Debian 11 (Buster) (ARM)
	Kernel: Container Host Kernel
	Compiler: gcc 10.2.1

To view detailed results, visit:
https://lab.dpdk.org/results/dashboard/patchsets/29381/

UNH-IOL DPDK Community Lab

To manage your email subscriptions, visit: 
https://lab.dpdk.org/results/dashboard/preferences/subscriptions/