From mboxrd@z Thu Jan  1 00:00:00 1970
Return-Path: <test-report-bounces@dpdk.org>
Received: from mails.dpdk.org (mails.dpdk.org [217.70.189.124])
	by inbox.dpdk.org (Postfix) with ESMTP id 37B6643C27
	for <public@inbox.dpdk.org>; Sat,  2 Mar 2024 02:00:49 +0100 (CET)
Received: from mails.dpdk.org (localhost [127.0.0.1])
	by mails.dpdk.org (Postfix) with ESMTP id 2F2604025D;
	Sat,  2 Mar 2024 02:00:49 +0100 (CET)
Received: from mail-io1-f97.google.com (mail-io1-f97.google.com
 [209.85.166.97]) by mails.dpdk.org (Postfix) with ESMTP id 357494025C
 for <test-report@dpdk.org>; Sat,  2 Mar 2024 02:00:47 +0100 (CET)
Received: by mail-io1-f97.google.com with SMTP id
 ca18e2360f4ac-7c79664c71fso86371139f.0
 for <test-report@dpdk.org>; Fri, 01 Mar 2024 17:00:47 -0800 (PST)
DKIM-Signature: v=1; a=rsa-sha256; c=relaxed/relaxed;
 d=iol.unh.edu; s=unh-iol; t=1709341246; x=1709946046; darn=dpdk.org;
 h=references:in-reply-to:cc:to:from:subject:message-id:date:from:to
 :cc:subject:date:message-id:reply-to;
 bh=niTyUhmEwt6aXEkpWZofPUd1nOYJDqR63ALz8bs+PVQ=;
 b=CaSV8205qCyAE1EAk+v720LnkYT8/XmpBLHkEOf8A+0Smsw5Zy7fr94FUEg5ASlBpY
 yrWop68HOjPTRY7YalSCcQszMDcAVHBh8rZh5NfvfZdh7a3HIW633Ocz91pbWZRGL9Pp
 Ld62FOnItvX/2kvz8Z/3biQqwesZx7spL/gQ0=
X-Google-DKIM-Signature: v=1; a=rsa-sha256; c=relaxed/relaxed;
 d=1e100.net; s=20230601; t=1709341246; x=1709946046;
 h=references:in-reply-to:cc:to:from:subject:message-id:date
 :x-gm-message-state:from:to:cc:subject:date:message-id:reply-to;
 bh=niTyUhmEwt6aXEkpWZofPUd1nOYJDqR63ALz8bs+PVQ=;
 b=UbhNfa3M2igpu/7z7IsT13u6wel6EjTfYBW40xHAEiLnHG5p3pzhBX2+8t5VSYyYjt
 96MENKeDvRN+yR8u3HreRMhSerZ5DRc8dcu19pQcUQ+NojF5ffCq6vcGbTVkZ/b7izs3
 dsnoyyScHcZMfA8x2PAly0GHD/uUEoOvarkFV+OPbUijYlQta6Bk6duvsBHAJzFTwJiD
 3FEiWaukwa0aNRDgWRMFM4uijt6tu9BL280pBF1W/T1i7wntoYKm3xueNm/KAXSawsIM
 ffULZX96tb2m18MSe8f3TdME9BRkIxSGySB/bd8VXA307wPOss7LcTRixIxdPCHGqrhh
 vbdg==
X-Gm-Message-State: AOJu0Yyv5wWx7b75Sgyik74Z99mGoGh+5BB+9DfWnZEVD08Qv5C1i3uP
 YOzR0G4vBePRG3uh0l3oGZqvCEGO8d2soxAxUZHFAZ2H21+PUaev95m8QfyF5X2tjCrHsiDS30s
 mYwFxY1NjGdVS1aj/lzQWvhbzZh33FjISJYHjzOdDwkNsz+UKMMXlKTR7
X-Google-Smtp-Source: AGHT+IHeQp7uwW3kW0tATPX/BE1ka9Isy7Ccyr97CYN3AHBgon9eYcPlloQ/Clmh/omHKLt/rIY8ZDUmoTmI
X-Received: by 2002:a5e:de01:0:b0:7c8:1ac7:a653 with SMTP id
 e1-20020a5ede01000000b007c81ac7a653mr1736926iok.2.1709341246686; 
 Fri, 01 Mar 2024 17:00:46 -0800 (PST)
Received: from postal.iol.unh.edu (postal.iol.unh.edu.
 [2606:4100:3880:1234::84]) by smtp-relay.gmail.com with ESMTPS id
 w4-20020a05660205c400b007c76d5e2ba7sm172938iox.19.2024.03.01.17.00.46
 (version=TLS1_2 cipher=ECDHE-ECDSA-AES128-GCM-SHA256 bits=128/128);
 Fri, 01 Mar 2024 17:00:46 -0800 (PST)
X-Relaying-Domain: iol.unh.edu
Date: Fri, 01 Mar 2024 17:00:46 -0800 (PST)
Message-ID: <65e27a3e.050a0220.29386.aeefSMTPIN_ADDED_MISSING@mx.google.com>
Received: from [172.21.0.7] (unknown [172.18.0.240])
 by postal.iol.unh.edu (Postfix) with ESMTP id 3D6F16052712;
 Fri,  1 Mar 2024 20:00:46 -0500 (EST)
Subject: |SUCCESS| pw137762-137764 [PATCH] [v4,3/3] event/cnxk: support DMA e
From: dpdklab@iol.unh.edu
To: Test Report <test-report@dpdk.org>
Cc: dpdk-test-reports@iol.unh.edu
In-Reply-To: <20240301173202.2782112-3-amitprakashs@marvell.com>
References: <20240301173202.2782112-3-amitprakashs@marvell.com>
Content-Type: text/plain
X-BeenThere: test-report@dpdk.org
X-Mailman-Version: 2.1.29
Precedence: list
List-Id: automatic DPDK test reports <test-report.dpdk.org>
List-Unsubscribe: <https://mails.dpdk.org/options/test-report>,
 <mailto:test-report-request@dpdk.org?subject=unsubscribe>
List-Archive: <http://mails.dpdk.org/archives/test-report/>
List-Post: <mailto:test-report@dpdk.org>
List-Help: <mailto:test-report-request@dpdk.org?subject=help>
List-Subscribe: <https://mails.dpdk.org/listinfo/test-report>,
 <mailto:test-report-request@dpdk.org?subject=subscribe>
Errors-To: test-report-bounces@dpdk.org

Test-Label: iol-compile-arm64-testing
Test-Status: SUCCESS
http://dpdk.org/patch/137764

_Testing PASS_

Submitter: Amit Prakash Shukla <amitprakashs@marvell.com>
Date: Friday, March 01 2024 17:32:02 
DPDK git baseline: Repo:dpdk
  Branch: master
  CommitID:5df34de5808a7b826b8bc035d6ee3161a12be364

137762-137764 --> testing pass

Test environment and result as below:

+----------------------------------------+--------------------+
|              Environment               | dpdk_meson_compile |
+========================================+====================+
| Ubuntu 20.04 ARM SVE                   | PASS               |
+----------------------------------------+--------------------+
| Debian 12 (arm)                        | PASS               |
+----------------------------------------+--------------------+
| CentOS Stream 9 (ARM)                  | PASS               |
+----------------------------------------+--------------------+
| Ubuntu 20.04 aarch32 GCC Cross Compile | PASS               |
+----------------------------------------+--------------------+
| Fedora 38 (ARM)                        | PASS               |
+----------------------------------------+--------------------+
| Ubuntu 20.04 (ARM)                     | PASS               |
+----------------------------------------+--------------------+
| Ubuntu 20.04 ARM Clang Cross Compile   | PASS               |
+----------------------------------------+--------------------+
| Fedora 37 (ARM)                        | PASS               |
+----------------------------------------+--------------------+
| Ubuntu 20.04 ARM GCC Cross Compile     | PASS               |
+----------------------------------------+--------------------+
| Debian 11 (Buster) (ARM)               | PASS               |
+----------------------------------------+--------------------+


Ubuntu 20.04 ARM SVE
	Kernel: 5.4.0-80-generic
	Compiler: gcc 10.3.0 (Ubuntu 10.3.0-1ubuntu1~20.04)

Debian 12 (arm)
	Kernel: Container Host Kernel
	Compiler: gcc 11

CentOS Stream 9 (ARM)
	Kernel: Container Host Kernel
	Compiler: gcc 11.3.1

Ubuntu 20.04 aarch32 GCC Cross Compile
	Kernel: 5.4.0-72-generic
	Compiler: gcc 9.3.0

Fedora 38 (ARM)
	Kernel: Depends on container host
	Compiler: gcc 13.1.1

Ubuntu 20.04 (ARM)
	Kernel: Container Host Kernel
	Compiler: gcc 9.4.0

Ubuntu 20.04 ARM Clang Cross Compile
	Kernel: 5.4.0-72-generic
	Compiler: clang version 10.0.0-4ubuntu1

Fedora 37 (ARM)
	Kernel: Depends on container host
	Compiler: gcc 12.3.1

Ubuntu 20.04 ARM GCC Cross Compile
	Kernel: 5.4.0-72-generic
	Compiler: aarch64-linux-gnu-gcc (Ubuntu 9.3.0-17ubuntu1~20.04) 9.3.0

Debian 11 (Buster) (ARM)
	Kernel: Container Host Kernel
	Compiler: gcc 10.2.1

To view detailed results, visit:
https://lab.dpdk.org/results/dashboard/patchsets/29381/

UNH-IOL DPDK Community Lab

To manage your email subscriptions, visit: 
https://lab.dpdk.org/results/dashboard/preferences/subscriptions/