From mboxrd@z Thu Jan  1 00:00:00 1970
Return-Path: <test-report-bounces@dpdk.org>
Received: from mails.dpdk.org (mails.dpdk.org [217.70.189.124])
	by inbox.dpdk.org (Postfix) with ESMTP id 6DA8943C27
	for <public@inbox.dpdk.org>; Sat,  2 Mar 2024 02:05:31 +0100 (CET)
Received: from mails.dpdk.org (localhost [127.0.0.1])
	by mails.dpdk.org (Postfix) with ESMTP id 64BA94025D;
	Sat,  2 Mar 2024 02:05:31 +0100 (CET)
Received: from mail-pf1-f225.google.com (mail-pf1-f225.google.com
 [209.85.210.225])
 by mails.dpdk.org (Postfix) with ESMTP id 01EB34025C
 for <test-report@dpdk.org>; Sat,  2 Mar 2024 02:05:29 +0100 (CET)
Received: by mail-pf1-f225.google.com with SMTP id
 d2e1a72fcca58-6e59bbdd8c7so2117434b3a.3
 for <test-report@dpdk.org>; Fri, 01 Mar 2024 17:05:29 -0800 (PST)
DKIM-Signature: v=1; a=rsa-sha256; c=relaxed/relaxed;
 d=iol.unh.edu; s=unh-iol; t=1709341529; x=1709946329; darn=dpdk.org;
 h=references:in-reply-to:cc:to:from:subject:message-id:date:from:to
 :cc:subject:date:message-id:reply-to;
 bh=wA5ID3STW8aFu4V4ha33PoYz8XwymG0On+GdtGGEleI=;
 b=A8bedaW29wPZileQnW8Cf4hrJl2z1ACWhHeL5YG1M7cVurpAdYSn2FKr0E+7/rBSbQ
 F7mtpPdcT3U0oW5T19dBYzbD0PR94qa0bxw3989hiBLSY8ofR+DlbZU+pfklMLvHAF3D
 lHQxLxxWrSeMfqTS8VfeGvBIvcE9Q1wfelyzY=
X-Google-DKIM-Signature: v=1; a=rsa-sha256; c=relaxed/relaxed;
 d=1e100.net; s=20230601; t=1709341529; x=1709946329;
 h=references:in-reply-to:cc:to:from:subject:message-id:date
 :x-gm-message-state:from:to:cc:subject:date:message-id:reply-to;
 bh=wA5ID3STW8aFu4V4ha33PoYz8XwymG0On+GdtGGEleI=;
 b=tD/e75SUhL4UXc4MCGZqEGWCurtL2nVrT6Jz9K1zPWVEBabIQsCf/bzS/dWOaWb+qS
 hr3h9CZWkEyIFfOeTJwNkdyxZAF2SOyfIcPBVMs7iuaEfi0Yn/g3VlCYkJx9eRYv3DgL
 GJd7ECnmXptOIZBo8AdghJIFTRSsd8M6xJE0q3FUIFiBFt7qFBPlAtOLJa8I+CaGHutl
 idD5UdazFHgArIdjNKXRTlksPZ/ydIrzqnhBGPTSL65I+w3Chr7T1rLTyNyySrQ6N7bI
 YkCgqxN5x6L2eaNUH1b/uUQ0xDA9VFld94P+DyQaQDL/dPstN0Elu+2W+DU9KZCmwRxK
 cCFQ==
X-Gm-Message-State: AOJu0YzjeRtB/w+GvXnSfNYJrOj6KaBhpr+yyX0Pqld1rEVHrK5XY/TU
 kN5rGHu/tjIP46ploMX+4pHy7xWPMRuLoowEF2pLLZZPGZOECKX+dE7M5DbNHAWEFHISw+XDKfn
 bwptYQ6wKVPdJuWke/4g9gRhbkTW9rfCs/SISTvkv
X-Google-Smtp-Source: AGHT+IE5++O5iUib9KH4PieFbaXApEjMcAjTCKPxt62cevK3NMMp2Qc6qxrxzodlbaN9oB+BiZ+ijgMCYt+M
X-Received: by 2002:a05:6a20:d908:b0:19e:bca3:213f with SMTP id
 jd8-20020a056a20d90800b0019ebca3213fmr3320856pzb.52.1709341529258; 
 Fri, 01 Mar 2024 17:05:29 -0800 (PST)
Received: from postal.iol.unh.edu (postal.iol.unh.edu. [132.177.123.84])
 by smtp-relay.gmail.com with ESMTPS id
 t2-20020a17090abc4200b0029b1ba25708sm118507pjv.10.2024.03.01.17.05.29
 (version=TLS1_2 cipher=ECDHE-ECDSA-AES128-GCM-SHA256 bits=128/128);
 Fri, 01 Mar 2024 17:05:29 -0800 (PST)
X-Relaying-Domain: iol.unh.edu
Date: Fri, 01 Mar 2024 17:05:29 -0800 (PST)
Message-ID: <65e27b59.170a0220.6e59f.72e3SMTPIN_ADDED_MISSING@mx.google.com>
Received: from [172.21.0.6] (unknown [172.18.0.240])
 by postal.iol.unh.edu (Postfix) with ESMTP id 723826052712;
 Fri,  1 Mar 2024 20:05:28 -0500 (EST)
Subject: |SUCCESS| pw137690 [PATCH] examples/l3fwd: fix Rx over not ready por
From: dpdklab@iol.unh.edu
To: Test Report <test-report@dpdk.org>
Cc: dpdk-test-reports@iol.unh.edu
In-Reply-To: <20240301163931.107036-1-konstantin.v.ananyev@yandex.ru>
References: <20240301163931.107036-1-konstantin.v.ananyev@yandex.ru>
Content-Type: text/plain
X-BeenThere: test-report@dpdk.org
X-Mailman-Version: 2.1.29
Precedence: list
List-Id: automatic DPDK test reports <test-report.dpdk.org>
List-Unsubscribe: <https://mails.dpdk.org/options/test-report>,
 <mailto:test-report-request@dpdk.org?subject=unsubscribe>
List-Archive: <http://mails.dpdk.org/archives/test-report/>
List-Post: <mailto:test-report@dpdk.org>
List-Help: <mailto:test-report-request@dpdk.org?subject=help>
List-Subscribe: <https://mails.dpdk.org/listinfo/test-report>,
 <mailto:test-report-request@dpdk.org?subject=subscribe>
Errors-To: test-report-bounces@dpdk.org

Test-Label: iol-compile-amd64-testing
Test-Status: SUCCESS
http://dpdk.org/patch/137690

_Testing PASS_

Submitter: Konstantin Ananyev <konstantin.v.ananyev@yandex.ru>
Date: Friday, March 01 2024 16:39:31 
DPDK git baseline: Repo:dpdk
  Branch: master
  CommitID:5df34de5808a7b826b8bc035d6ee3161a12be364

137690 --> testing pass

Test environment and result as below:

+------------------+--------------------+
|   Environment    | dpdk_meson_compile |
+==================+====================+
| FreeBSD 13.2     | PASS               |
+------------------+--------------------+
| CentOS Stream 9  | PASS               |
+------------------+--------------------+
| Debian 12 (arm)  | PASS               |
+------------------+--------------------+
| Fedora 37        | PASS               |
+------------------+--------------------+
| CentOS Stream 8  | PASS               |
+------------------+--------------------+
| openSUSE Leap 15 | PASS               |
+------------------+--------------------+
| Ubuntu 22.04     | PASS               |
+------------------+--------------------+
| Fedora 38        | PASS               |
+------------------+--------------------+
| Ubuntu 20.04     | PASS               |
+------------------+--------------------+
| RHEL8            | PASS               |
+------------------+--------------------+
| Alpine           | PASS               |
+------------------+--------------------+
| Debian Bullseye  | PASS               |
+------------------+--------------------+


FreeBSD 13.2
	Kernel: 13.2
	Compiler: clang 11.3.0

CentOS Stream 9
	Kernel: 4.18.0-240.10.1.el8_3.x86_64
	Compiler: gcc 11.3.1 20220421

Debian 12 (arm)
	Kernel: Container Host Kernel
	Compiler: gcc 11

Fedora 37
	Kernel: Depends on container host system
	Compiler: gcc 12.3.1

CentOS Stream 8
	Kernel: 4.18.0-240.10.1.el8_3.x86_64
	Compiler: gcc 8.4.1 20200928

openSUSE Leap 15
	Kernel: 4.18.0-240.10.1.el8_3.x86_64
	Compiler: gcc 7.5.0

Ubuntu 22.04
	Kernel: 4.18.0-240.10.1.el8_3.x86_64
	Compiler: gcc 11.3.0

Fedora 38
	Kernel: Depends on container host
	Compiler: gcc 13.1.1

Ubuntu 20.04
	Kernel: 5.4.0-153-generic
	Compiler: gcc 9.4.0-1ubuntu1~20.04.1

RHEL8
	Kernel: 4.18.0-240.10.1.el8_3.x86_64
	Compiler: gcc 8.3.1 20191121 (Red Hat 8.3.1-5)

Alpine
	Kernel: 5.4.0-73-generic
	Compiler: gcc (Alpine 10.3.1_git20210424) 10.3.1 20210424

Debian Bullseye
	Kernel: 5.4.0-122-generic
	Compiler: gcc 10.2.1-6

To view detailed results, visit:
https://lab.dpdk.org/results/dashboard/patchsets/29379/

UNH-IOL DPDK Community Lab

To manage your email subscriptions, visit: 
https://lab.dpdk.org/results/dashboard/preferences/subscriptions/