From mboxrd@z Thu Jan  1 00:00:00 1970
Return-Path: <test-report-bounces@dpdk.org>
Received: from mails.dpdk.org (mails.dpdk.org [217.70.189.124])
	by inbox.dpdk.org (Postfix) with ESMTP id 8837743C27
	for <public@inbox.dpdk.org>; Sat,  2 Mar 2024 02:06:48 +0100 (CET)
Received: from mails.dpdk.org (localhost [127.0.0.1])
	by mails.dpdk.org (Postfix) with ESMTP id 844D14025D;
	Sat,  2 Mar 2024 02:06:48 +0100 (CET)
Received: from mail-pj1-f100.google.com (mail-pj1-f100.google.com
 [209.85.216.100])
 by mails.dpdk.org (Postfix) with ESMTP id 200644025C
 for <test-report@dpdk.org>; Sat,  2 Mar 2024 02:06:47 +0100 (CET)
Received: by mail-pj1-f100.google.com with SMTP id
 98e67ed59e1d1-299b818d63aso2119973a91.0
 for <test-report@dpdk.org>; Fri, 01 Mar 2024 17:06:47 -0800 (PST)
DKIM-Signature: v=1; a=rsa-sha256; c=relaxed/relaxed;
 d=iol.unh.edu; s=unh-iol; t=1709341606; x=1709946406; darn=dpdk.org;
 h=references:in-reply-to:cc:to:from:subject:message-id:date:from:to
 :cc:subject:date:message-id:reply-to;
 bh=IWIN0R5apUQ8tV3sqlgAgMlkucvv9ARqbS4+HaD41n4=;
 b=DuHvQDVXRU+Hpk0c4bHk9gx638kLdYe9svKE2f4F+YkRVf9AFvFoxytm8FBCDlk+WJ
 0lshAqud2803imexz17YD0vrTGS/LN0ndeCW9dXeT16TDvpCUeqJGo9D6f4CEEeQZ4qm
 Sew6z3rlYeBCdzw0BthkHHNiNNhjUne1SN7T0=
X-Google-DKIM-Signature: v=1; a=rsa-sha256; c=relaxed/relaxed;
 d=1e100.net; s=20230601; t=1709341606; x=1709946406;
 h=references:in-reply-to:cc:to:from:subject:message-id:date
 :x-gm-message-state:from:to:cc:subject:date:message-id:reply-to;
 bh=IWIN0R5apUQ8tV3sqlgAgMlkucvv9ARqbS4+HaD41n4=;
 b=goYqxDypiQjn8yhRQZL6eh3WtW9Q/b897IZ7qupTQX/8dUwwcStFhO3w3gv0nsV+CI
 jm9ClgGVYHHW8/ZfseB0rdz4EvMoOMOGjauYD9CloreN7DHrymw3Ga9qP4YV4oBchQ0u
 u+6FSd4mcwTVUCoAX27vKY7W9Jpz/k61LGhAAXgPbO8Omq/1K0MSSVyytE2iWT5J4OR/
 DApgVVvNek7FUYshZxVCpeO0XmgEIMue/yXTw4eWN7xNWIATdIakpbv1MON4dqRKCsPb
 YUgiqZmACmw911Xd5R7sVuMRudolJVSnHrMMRKFSZdxZ+vTEDYbicoCXZS3WjsgTcGn1
 n9LA==
X-Gm-Message-State: AOJu0YzOEjJIgFNp189nsuOg/B+Jrvjic6cFyk6JS+GfrS65sFdJM+sg
 2/OZ0YosmjZQdhSCw47ZMSjFgET/FPKTx8ozdwTtpbfTEoysIhSG3wiUxaGht502rwyCof8izGr
 R0RRNCgfxz+H9dYOVuyr0dis+lIZtMfxQ0pRzstwu
X-Google-Smtp-Source: AGHT+IGIjcWAi0gfdE0M0Ul60H0Df9/d9TwPm6+FEixhupTFU5OEA6hqwh1e3xFchsmya5ong3K7wuVnv4o1
X-Received: by 2002:a17:90b:1084:b0:29a:525f:4c5 with SMTP id
 gj4-20020a17090b108400b0029a525f04c5mr5211986pjb.12.1709341606300; 
 Fri, 01 Mar 2024 17:06:46 -0800 (PST)
Received: from postal.iol.unh.edu (postal.iol.unh.edu. [132.177.123.84])
 by smtp-relay.gmail.com with ESMTPS id
 i2-20020a17090a838200b0029b01dc28b3sm177716pjn.8.2024.03.01.17.06.46
 (version=TLS1_2 cipher=ECDHE-ECDSA-AES128-GCM-SHA256 bits=128/128);
 Fri, 01 Mar 2024 17:06:46 -0800 (PST)
X-Relaying-Domain: iol.unh.edu
Date: Fri, 01 Mar 2024 17:06:46 -0800 (PST)
Message-ID: <65e27ba6.170a0220.bf57.afdaSMTPIN_ADDED_MISSING@mx.google.com>
Received: from [172.17.0.7] (unknown [172.18.0.217])
 by postal.iol.unh.edu (Postfix) with ESMTP id 7A66C6052712;
 Fri,  1 Mar 2024 20:06:45 -0500 (EST)
Subject: |SUCCESS| pw137690 [PATCH] examples/l3fwd: fix Rx over not ready por
From: dpdklab@iol.unh.edu
To: Test Report <test-report@dpdk.org>
Cc: dpdk-test-reports@iol.unh.edu
In-Reply-To: <20240301163931.107036-1-konstantin.v.ananyev@yandex.ru>
References: <20240301163931.107036-1-konstantin.v.ananyev@yandex.ru>
Content-Type: text/plain
X-BeenThere: test-report@dpdk.org
X-Mailman-Version: 2.1.29
Precedence: list
List-Id: automatic DPDK test reports <test-report.dpdk.org>
List-Unsubscribe: <https://mails.dpdk.org/options/test-report>,
 <mailto:test-report-request@dpdk.org?subject=unsubscribe>
List-Archive: <http://mails.dpdk.org/archives/test-report/>
List-Post: <mailto:test-report@dpdk.org>
List-Help: <mailto:test-report-request@dpdk.org?subject=help>
List-Subscribe: <https://mails.dpdk.org/listinfo/test-report>,
 <mailto:test-report-request@dpdk.org?subject=subscribe>
Errors-To: test-report-bounces@dpdk.org

Test-Label: iol-unit-arm64-testing
Test-Status: SUCCESS
http://dpdk.org/patch/137690

_Testing PASS_

Submitter: Konstantin Ananyev <konstantin.v.ananyev@yandex.ru>
Date: Friday, March 01 2024 16:39:31 
DPDK git baseline: Repo:dpdk
  Branch: master
  CommitID:5df34de5808a7b826b8bc035d6ee3161a12be364

137690 --> testing pass

Test environment and result as below:

+--------------------------+---------------------------+------------------------------+----------------+--------------+
|       Environment        | cryptodev_sw_zuc_autotest | cryptodev_sw_snow3g_autotest | dpdk_unit_test | lpm_autotest |
+==========================+===========================+==============================+================+==============+
| Debian 12 (arm)          | PASS                      | PASS                         | PASS           | SKIPPED      |
+--------------------------+---------------------------+------------------------------+----------------+--------------+
| Debian 11 (Buster) (ARM) | SKIPPED                   | SKIPPED                      | PASS           | SKIPPED      |
+--------------------------+---------------------------+------------------------------+----------------+--------------+
| CentOS Stream 9 (ARM)    | SKIPPED                   | SKIPPED                      | PASS           | SKIPPED      |
+--------------------------+---------------------------+------------------------------+----------------+--------------+
| Fedora 37 (ARM)          | SKIPPED                   | SKIPPED                      | PASS           | SKIPPED      |
+--------------------------+---------------------------+------------------------------+----------------+--------------+
| Ubuntu 20.04 (ARM)       | SKIPPED                   | SKIPPED                      | PASS           | SKIPPED      |
+--------------------------+---------------------------+------------------------------+----------------+--------------+
| Fedora 38 (ARM)          | SKIPPED                   | SKIPPED                      | PASS           | SKIPPED      |
+--------------------------+---------------------------+------------------------------+----------------+--------------+
| Fedora 38 (ARM Clang)    | SKIPPED                   | SKIPPED                      | PASS           | SKIPPED      |
+--------------------------+---------------------------+------------------------------+----------------+--------------+
| Ubuntu 20.04 ARM SVE     | SKIPPED                   | SKIPPED                      | SKIPPED        | PASS         |
+--------------------------+---------------------------+------------------------------+----------------+--------------+


Debian 12 (arm)
	Kernel: Container Host Kernel
	Compiler: gcc 11

Debian 11 (Buster) (ARM)
	Kernel: Container Host Kernel
	Compiler: gcc 10.2.1

CentOS Stream 9 (ARM)
	Kernel: Container Host Kernel
	Compiler: gcc 11.3.1

Fedora 37 (ARM)
	Kernel: Depends on container host
	Compiler: gcc 12.3.1

Ubuntu 20.04 (ARM)
	Kernel: Container Host Kernel
	Compiler: gcc 9.4.0

Fedora 38 (ARM)
	Kernel: Depends on container host
	Compiler: gcc 13.1.1

Fedora 38 (ARM Clang)
	Kernel: Depends on container host
	Compiler: clang 16.0.3

Ubuntu 20.04 ARM SVE
	Kernel: 5.4.0-80-generic
	Compiler: gcc 10.3.0 (Ubuntu 10.3.0-1ubuntu1~20.04)

To view detailed results, visit:
https://lab.dpdk.org/results/dashboard/patchsets/29379/

UNH-IOL DPDK Community Lab

To manage your email subscriptions, visit: 
https://lab.dpdk.org/results/dashboard/preferences/subscriptions/