From mboxrd@z Thu Jan  1 00:00:00 1970
Return-Path: <test-report-bounces@dpdk.org>
Received: from mails.dpdk.org (mails.dpdk.org [217.70.189.124])
	by inbox.dpdk.org (Postfix) with ESMTP id F1CFB43C27
	for <public@inbox.dpdk.org>; Sat,  2 Mar 2024 02:07:24 +0100 (CET)
Received: from mails.dpdk.org (localhost [127.0.0.1])
	by mails.dpdk.org (Postfix) with ESMTP id E754C4025D;
	Sat,  2 Mar 2024 02:07:24 +0100 (CET)
Received: from mail-qv1-f100.google.com (mail-qv1-f100.google.com
 [209.85.219.100])
 by mails.dpdk.org (Postfix) with ESMTP id 552694025C
 for <test-report@dpdk.org>; Sat,  2 Mar 2024 02:07:23 +0100 (CET)
Received: by mail-qv1-f100.google.com with SMTP id
 6a1803df08f44-68facd7ea4bso12173276d6.0
 for <test-report@dpdk.org>; Fri, 01 Mar 2024 17:07:23 -0800 (PST)
DKIM-Signature: v=1; a=rsa-sha256; c=relaxed/relaxed;
 d=iol.unh.edu; s=unh-iol; t=1709341643; x=1709946443; darn=dpdk.org;
 h=references:in-reply-to:cc:to:from:subject:message-id:date:from:to
 :cc:subject:date:message-id:reply-to;
 bh=/lJfA8k/X7HgfkbZ2faigQj+1Efi+XxyfK79QGDQFAk=;
 b=FJv/wT8rFcSGFJnlS/WGjPU9ZlOUbUoekWsZV3fYgs2jVIAiFpzeqTCvGyg/VAKHeM
 1JJqeNPp9UZ5QLk1KHtKEXTddKUzP7sC2g8vGOeXUA8JBkrA6ilePgRl1FupQ3eUAv+C
 fIs1AHqlF975ZIMK5IDJlXb39eh+yltlDu5a8=
X-Google-DKIM-Signature: v=1; a=rsa-sha256; c=relaxed/relaxed;
 d=1e100.net; s=20230601; t=1709341643; x=1709946443;
 h=references:in-reply-to:cc:to:from:subject:message-id:date
 :x-gm-message-state:from:to:cc:subject:date:message-id:reply-to;
 bh=/lJfA8k/X7HgfkbZ2faigQj+1Efi+XxyfK79QGDQFAk=;
 b=WKfznK807kONwG/HYeo54ghA/EymDO4VNiNcVZDh74UczbK3UB3MrbLGegBzDzfW5g
 NFcuikLRGoVEVUjvbpQnGr8gVK/3Q7iFavVgfuM4B//SOdqDF60AbDso++H39GzvcAOq
 z40n/1Wf3cshCwTLHiVDynLVUD0Mk4i9Sb/h0+8pehtGIoQJvD+TYMT2CLjLqwtHN4eF
 RGT1lfeHte6QTjNAtMo5dNjyryn8JSEcAv9h8g2//Q9wAifr/x6rvJZlUb7oYLZBDSui
 NsohLCz453Ukh0xRUkV+9p5wCHne0tIpkEsO0i8BTOTFFLORLoFq1dIGbkCttr48t/rZ
 MLrA==
X-Gm-Message-State: AOJu0YxxJn1sJfpLhm0bZTlDilo9zyyAjlv5U0gDkmCDvfjvbKFtNrv1
 sqeDOYzPdQNVSyw2i13FyeoC4gY9MdN2Z1T8mrsO7biD9wv16bkvCwZzz14ADsjvnM8JjRyILgK
 7enpgPo9j9Gvri4LU1NHDONzv1LCcR/L/bjLJeCedCSvyy+/f9jC62sCu
X-Google-Smtp-Source: AGHT+IFLwWIoul3Z0Zo+VoVQfxxdTdigYqMgjR0VAIgGnXPpy2gmPuaDLfF1RfqB/ph/uIcCg7iKYKdJRfpJ
X-Received: by 2002:ad4:5912:0:b0:68c:a83b:b1ba with SMTP id
 ez18-20020ad45912000000b0068ca83bb1bamr2982520qvb.38.1709341642788; 
 Fri, 01 Mar 2024 17:07:22 -0800 (PST)
Received: from postal.iol.unh.edu (postal.iol.unh.edu.
 [2606:4100:3880:1234::84]) by smtp-relay.gmail.com with ESMTPS id
 c4-20020ad45ae4000000b0069019f40c92sm244396qvh.61.2024.03.01.17.07.22
 (version=TLS1_2 cipher=ECDHE-ECDSA-AES128-GCM-SHA256 bits=128/128);
 Fri, 01 Mar 2024 17:07:22 -0800 (PST)
X-Relaying-Domain: iol.unh.edu
Date: Fri, 01 Mar 2024 17:07:22 -0800 (PST)
Message-ID: <65e27bca.d40a0220.1013e.1a41SMTPIN_ADDED_MISSING@mx.google.com>
Received: from [172.21.0.6] (unknown [172.18.0.240])
 by postal.iol.unh.edu (Postfix) with ESMTP id 88BCB6052712;
 Fri,  1 Mar 2024 20:07:22 -0500 (EST)
Subject: |SUCCESS| pw137690 [PATCH] examples/l3fwd: fix Rx over not ready por
From: dpdklab@iol.unh.edu
To: Test Report <test-report@dpdk.org>
Cc: dpdk-test-reports@iol.unh.edu
In-Reply-To: <20240301163931.107036-1-konstantin.v.ananyev@yandex.ru>
References: <20240301163931.107036-1-konstantin.v.ananyev@yandex.ru>
Content-Type: text/plain
X-BeenThere: test-report@dpdk.org
X-Mailman-Version: 2.1.29
Precedence: list
List-Id: automatic DPDK test reports <test-report.dpdk.org>
List-Unsubscribe: <https://mails.dpdk.org/options/test-report>,
 <mailto:test-report-request@dpdk.org?subject=unsubscribe>
List-Archive: <http://mails.dpdk.org/archives/test-report/>
List-Post: <mailto:test-report@dpdk.org>
List-Help: <mailto:test-report-request@dpdk.org?subject=help>
List-Subscribe: <https://mails.dpdk.org/listinfo/test-report>,
 <mailto:test-report-request@dpdk.org?subject=subscribe>
Errors-To: test-report-bounces@dpdk.org

Test-Label: iol-compile-amd64-testing
Test-Status: SUCCESS
http://dpdk.org/patch/137690

_Testing PASS_

Submitter: Konstantin Ananyev <konstantin.v.ananyev@yandex.ru>
Date: Friday, March 01 2024 16:39:31 
DPDK git baseline: Repo:dpdk
  Branch: master
  CommitID:5df34de5808a7b826b8bc035d6ee3161a12be364

137690 --> testing pass

Test environment and result as below:

+---------------------+--------------------+
|     Environment     | dpdk_meson_compile |
+=====================+====================+
| FreeBSD 13.2        | PASS               |
+---------------------+--------------------+
| CentOS Stream 9     | PASS               |
+---------------------+--------------------+
| Debian 12 (arm)     | PASS               |
+---------------------+--------------------+
| Fedora 37           | PASS               |
+---------------------+--------------------+
| CentOS Stream 8     | PASS               |
+---------------------+--------------------+
| openSUSE Leap 15    | PASS               |
+---------------------+--------------------+
| Ubuntu 22.04        | PASS               |
+---------------------+--------------------+
| Fedora 38           | PASS               |
+---------------------+--------------------+
| Ubuntu 20.04        | PASS               |
+---------------------+--------------------+
| RHEL8               | PASS               |
+---------------------+--------------------+
| Alpine              | PASS               |
+---------------------+--------------------+
| Debian Bullseye     | PASS               |
+---------------------+--------------------+
| Windows Server 2022 | PASS               |
+---------------------+--------------------+


FreeBSD 13.2
	Kernel: 13.2
	Compiler: clang 11.3.0

CentOS Stream 9
	Kernel: 4.18.0-240.10.1.el8_3.x86_64
	Compiler: gcc 11.3.1 20220421

Debian 12 (arm)
	Kernel: Container Host Kernel
	Compiler: gcc 11

Fedora 37
	Kernel: Depends on container host system
	Compiler: gcc 12.3.1

CentOS Stream 8
	Kernel: 4.18.0-240.10.1.el8_3.x86_64
	Compiler: gcc 8.4.1 20200928

openSUSE Leap 15
	Kernel: 4.18.0-240.10.1.el8_3.x86_64
	Compiler: gcc 7.5.0

Ubuntu 22.04
	Kernel: 4.18.0-240.10.1.el8_3.x86_64
	Compiler: gcc 11.3.0

Fedora 38
	Kernel: Depends on container host
	Compiler: gcc 13.1.1

Ubuntu 20.04
	Kernel: 5.4.0-153-generic
	Compiler: gcc 9.4.0-1ubuntu1~20.04.1

RHEL8
	Kernel: 4.18.0-240.10.1.el8_3.x86_64
	Compiler: gcc 8.3.1 20191121 (Red Hat 8.3.1-5)

Alpine
	Kernel: 5.4.0-73-generic
	Compiler: gcc (Alpine 10.3.1_git20210424) 10.3.1 20210424

Debian Bullseye
	Kernel: 5.4.0-122-generic
	Compiler: gcc 10.2.1-6

Windows Server 2022
	Kernel: OS Build 20348.2031
	Compiler: MSVC VS-Preview

To view detailed results, visit:
https://lab.dpdk.org/results/dashboard/patchsets/29379/

UNH-IOL DPDK Community Lab

To manage your email subscriptions, visit: 
https://lab.dpdk.org/results/dashboard/preferences/subscriptions/