From mboxrd@z Thu Jan  1 00:00:00 1970
Return-Path: <test-report-bounces@dpdk.org>
Received: from mails.dpdk.org (mails.dpdk.org [217.70.189.124])
	by inbox.dpdk.org (Postfix) with ESMTP id 9EB8443C27
	for <public@inbox.dpdk.org>; Sat,  2 Mar 2024 02:07:58 +0100 (CET)
Received: from mails.dpdk.org (localhost [127.0.0.1])
	by mails.dpdk.org (Postfix) with ESMTP id 95687432CC;
	Sat,  2 Mar 2024 02:07:58 +0100 (CET)
Received: from mail-pl1-f225.google.com (mail-pl1-f225.google.com
 [209.85.214.225])
 by mails.dpdk.org (Postfix) with ESMTP id 2AF1D432BC
 for <test-report@dpdk.org>; Sat,  2 Mar 2024 02:07:57 +0100 (CET)
Received: by mail-pl1-f225.google.com with SMTP id
 d9443c01a7336-1d94b222a3aso28908385ad.2
 for <test-report@dpdk.org>; Fri, 01 Mar 2024 17:07:57 -0800 (PST)
DKIM-Signature: v=1; a=rsa-sha256; c=relaxed/relaxed;
 d=iol.unh.edu; s=unh-iol; t=1709341676; x=1709946476; darn=dpdk.org;
 h=references:in-reply-to:cc:to:from:subject:message-id:date:from:to
 :cc:subject:date:message-id:reply-to;
 bh=p1dYlw1ZSnneEZfRP0IU3zzcJ4x5v4MBnPyZKV2y3ws=;
 b=Fbmy5o4++m2hVuJbwL/0Y5vc/aSAadmuYm7P4OM/p97mrsLl4HmN+7Pds4dVaOG4lE
 x92kT0qbB/s6vWU9xUxJWvNKW4G2tvs+39yg0AjvrXUTtIW43lX/tIP5EiTjtNe6M10J
 WwvI8SUsz3jcMHTO+Wplx0k6BdYzAbAl831aA=
X-Google-DKIM-Signature: v=1; a=rsa-sha256; c=relaxed/relaxed;
 d=1e100.net; s=20230601; t=1709341676; x=1709946476;
 h=references:in-reply-to:cc:to:from:subject:message-id:date
 :x-gm-message-state:from:to:cc:subject:date:message-id:reply-to;
 bh=p1dYlw1ZSnneEZfRP0IU3zzcJ4x5v4MBnPyZKV2y3ws=;
 b=nKkhUqhhrxSH1TF+voas6qozAh2cFskwNeFbGABPybzXs10Zov843h1fMfJ+X5sdr9
 P4A15oM/7Wpvx99Qbd82XWoIZS2bohANddwOgA4Xj7NJ70Il85+cQxrH6DrzcO47SU0B
 S21syRNTbRFBikYmRHIfWHjHyIgzS1ruY4PngD4WxL8u+3xUcYOwGJB4V86+mhyAW5io
 IFPbGlEEfvZgQUfzRgMfoqSjhSrslleQrz5gIo9VJeUeQq3lNqiKeRHwETN9zOw3PgJE
 HP6VSTF33UW9xyD5SWXMe5N3hZ/IpTQ1nz6uS6fk8pJtEZfyMabq7au/QS9cl5mUYzAS
 o/4g==
X-Gm-Message-State: AOJu0YzEwgY+pTtmPfp9fuPcDbuCPcSXKbL0e+R8F4FJscEkkKbYEqxm
 5LZYkI1ntnS6nvS68KgJ9HwfTh9yU35kVHg2XJw59Z3zhsuoqhMEN9+cJPu/Ro53GuHFu4KqS23
 QMiCSATyDWM7avrsSQgdhFKGHyf3L6yH/AkPVavTBbs+F3ArZGdNlXZ9K
X-Google-Smtp-Source: AGHT+IGbzCEYJi/Up8qttWQv8QzB6BUoqc6hhrWHtti33R3eTO6YWZXoj2556zaJZD+KN6xZwYUOh6ICMquE
X-Received: by 2002:a17:902:ce87:b0:1dc:ca74:79a7 with SMTP id
 f7-20020a170902ce8700b001dcca7479a7mr3757600plg.52.1709341676408; 
 Fri, 01 Mar 2024 17:07:56 -0800 (PST)
Received: from postal.iol.unh.edu (postal.iol.unh.edu.
 [2606:4100:3880:1234::84]) by smtp-relay.gmail.com with ESMTPS id
 f19-20020a170902e99300b001dcc28544e0sm131168plb.51.2024.03.01.17.07.56
 (version=TLS1_2 cipher=ECDHE-ECDSA-AES128-GCM-SHA256 bits=128/128);
 Fri, 01 Mar 2024 17:07:56 -0800 (PST)
X-Relaying-Domain: iol.unh.edu
Date: Fri, 01 Mar 2024 17:07:56 -0800 (PST)
Message-ID: <65e27bec.170a0220.94967.8734SMTPIN_ADDED_MISSING@mx.google.com>
Received: from [172.17.0.7] (unknown [172.18.0.217])
 by postal.iol.unh.edu (Postfix) with ESMTP id D5F6A6052712;
 Fri,  1 Mar 2024 20:07:55 -0500 (EST)
Subject: |SUCCESS| pw137690 [PATCH] examples/l3fwd: fix Rx over not ready por
From: dpdklab@iol.unh.edu
To: Test Report <test-report@dpdk.org>
Cc: dpdk-test-reports@iol.unh.edu
In-Reply-To: <20240301163931.107036-1-konstantin.v.ananyev@yandex.ru>
References: <20240301163931.107036-1-konstantin.v.ananyev@yandex.ru>
Content-Type: text/plain
X-BeenThere: test-report@dpdk.org
X-Mailman-Version: 2.1.29
Precedence: list
List-Id: automatic DPDK test reports <test-report.dpdk.org>
List-Unsubscribe: <https://mails.dpdk.org/options/test-report>,
 <mailto:test-report-request@dpdk.org?subject=unsubscribe>
List-Archive: <http://mails.dpdk.org/archives/test-report/>
List-Post: <mailto:test-report@dpdk.org>
List-Help: <mailto:test-report-request@dpdk.org?subject=help>
List-Subscribe: <https://mails.dpdk.org/listinfo/test-report>,
 <mailto:test-report-request@dpdk.org?subject=subscribe>
Errors-To: test-report-bounces@dpdk.org

Test-Label: iol-compile-amd64-testing
Test-Status: SUCCESS
http://dpdk.org/patch/137690

_Testing PASS_

Submitter: Konstantin Ananyev <konstantin.v.ananyev@yandex.ru>
Date: Friday, March 01 2024 16:39:31 
DPDK git baseline: Repo:dpdk
  Branch: master
  CommitID:5df34de5808a7b826b8bc035d6ee3161a12be364

137690 --> testing pass

Test environment and result as below:

+---------------------+--------------------+----------------------+
|     Environment     | dpdk_meson_compile | dpdk_mingw64_compile |
+=====================+====================+======================+
| FreeBSD 13.2        | PASS               | SKIPPED              |
+---------------------+--------------------+----------------------+
| CentOS Stream 9     | PASS               | SKIPPED              |
+---------------------+--------------------+----------------------+
| Debian 12 (arm)     | PASS               | SKIPPED              |
+---------------------+--------------------+----------------------+
| Fedora 37           | PASS               | SKIPPED              |
+---------------------+--------------------+----------------------+
| CentOS Stream 8     | PASS               | SKIPPED              |
+---------------------+--------------------+----------------------+
| openSUSE Leap 15    | PASS               | SKIPPED              |
+---------------------+--------------------+----------------------+
| Ubuntu 22.04        | PASS               | SKIPPED              |
+---------------------+--------------------+----------------------+
| Fedora 38           | PASS               | SKIPPED              |
+---------------------+--------------------+----------------------+
| Ubuntu 20.04        | PASS               | SKIPPED              |
+---------------------+--------------------+----------------------+
| RHEL8               | PASS               | SKIPPED              |
+---------------------+--------------------+----------------------+
| Alpine              | PASS               | SKIPPED              |
+---------------------+--------------------+----------------------+
| Debian Bullseye     | PASS               | SKIPPED              |
+---------------------+--------------------+----------------------+
| Windows Server 2022 | PASS               | SKIPPED              |
+---------------------+--------------------+----------------------+
| Windows Server 2019 | SKIPPED            | PASS                 |
+---------------------+--------------------+----------------------+


FreeBSD 13.2
	Kernel: 13.2
	Compiler: clang 11.3.0

CentOS Stream 9
	Kernel: 4.18.0-240.10.1.el8_3.x86_64
	Compiler: gcc 11.3.1 20220421

Debian 12 (arm)
	Kernel: Container Host Kernel
	Compiler: gcc 11

Fedora 37
	Kernel: Depends on container host system
	Compiler: gcc 12.3.1

CentOS Stream 8
	Kernel: 4.18.0-240.10.1.el8_3.x86_64
	Compiler: gcc 8.4.1 20200928

openSUSE Leap 15
	Kernel: 4.18.0-240.10.1.el8_3.x86_64
	Compiler: gcc 7.5.0

Ubuntu 22.04
	Kernel: 4.18.0-240.10.1.el8_3.x86_64
	Compiler: gcc 11.3.0

Fedora 38
	Kernel: Depends on container host
	Compiler: gcc 13.1.1

Ubuntu 20.04
	Kernel: 5.4.0-153-generic
	Compiler: gcc 9.4.0-1ubuntu1~20.04.1

RHEL8
	Kernel: 4.18.0-240.10.1.el8_3.x86_64
	Compiler: gcc 8.3.1 20191121 (Red Hat 8.3.1-5)

Alpine
	Kernel: 5.4.0-73-generic
	Compiler: gcc (Alpine 10.3.1_git20210424) 10.3.1 20210424

Debian Bullseye
	Kernel: 5.4.0-122-generic
	Compiler: gcc 10.2.1-6

Windows Server 2022
	Kernel: OS Build 20348.2031
	Compiler: MSVC VS-Preview

Windows Server 2019
	Kernel: 10.0
	Compiler: clang 14.0 and gcc 8.1.0 (MinGW)

To view detailed results, visit:
https://lab.dpdk.org/results/dashboard/patchsets/29379/

UNH-IOL DPDK Community Lab

To manage your email subscriptions, visit: 
https://lab.dpdk.org/results/dashboard/preferences/subscriptions/