From mboxrd@z Thu Jan  1 00:00:00 1970
Return-Path: <test-report-bounces@dpdk.org>
Received: from mails.dpdk.org (mails.dpdk.org [217.70.189.124])
	by inbox.dpdk.org (Postfix) with ESMTP id 3C3B143C27
	for <public@inbox.dpdk.org>; Sat,  2 Mar 2024 02:10:19 +0100 (CET)
Received: from mails.dpdk.org (localhost [127.0.0.1])
	by mails.dpdk.org (Postfix) with ESMTP id 336EA4025D;
	Sat,  2 Mar 2024 02:10:19 +0100 (CET)
Received: from mail-qv1-f99.google.com (mail-qv1-f99.google.com
 [209.85.219.99]) by mails.dpdk.org (Postfix) with ESMTP id DE9FD4025C
 for <test-report@dpdk.org>; Sat,  2 Mar 2024 02:10:17 +0100 (CET)
Received: by mail-qv1-f99.google.com with SMTP id
 6a1803df08f44-6869233d472so12685856d6.2
 for <test-report@dpdk.org>; Fri, 01 Mar 2024 17:10:17 -0800 (PST)
DKIM-Signature: v=1; a=rsa-sha256; c=relaxed/relaxed;
 d=iol.unh.edu; s=unh-iol; t=1709341817; x=1709946617; darn=dpdk.org;
 h=references:in-reply-to:cc:to:from:subject:message-id:date:from:to
 :cc:subject:date:message-id:reply-to;
 bh=LloPSW6Rj6zwriUNAkaIvby6Unc7850E8wcLqE+LuEk=;
 b=XUu+WANQo3mx+j2TtJ7WYRMmoP97l4aqgrh8za5btmotrSmd8pBgjAwab+RuLgjcw6
 FUvm5cyXAW5o0ZYS+SxmCINOit2Zxd/DLXCj3tmPgJ/DU4/RsTXKoQI2RTQ5uv+tgBHM
 RwhTxowQV3GVISk39qhrs8bEyD643L84BjfHI=
X-Google-DKIM-Signature: v=1; a=rsa-sha256; c=relaxed/relaxed;
 d=1e100.net; s=20230601; t=1709341817; x=1709946617;
 h=references:in-reply-to:cc:to:from:subject:message-id:date
 :x-gm-message-state:from:to:cc:subject:date:message-id:reply-to;
 bh=LloPSW6Rj6zwriUNAkaIvby6Unc7850E8wcLqE+LuEk=;
 b=F4CZpR/qBs/2hikyQ4DiuOc30hewgeSt+vxlOJXx4dCbhSQ2olazZPxhx4xjdtS7rQ
 OEXDSjNFKecSqsPCOmZ9fH4fR4TY1mHJAUGIzh+hlky6e3668kFcTWXj33GFFX1jLpc5
 djNXGaHjtLhJscoNnuZi3VMv0Yf/won7YWPuoZ3bxcpbsuYV/ht0BbmXQNUwvlwFRc+A
 SmSHWKdbpwf9jre7jAkmJn9z1Gb5xBuqIGiOXhfYEKRNvWwbtl5U4gt6b7LEoSXdBSy7
 VHHLxV5aeWUe01ljE4HPFedDVheqE6yIwCCHKqYb8EE2r6Xu7pFmy7JhbcKkOxd8/wqm
 hltQ==
X-Gm-Message-State: AOJu0Yyp6+ptbiG8PfAQ22zUABVMDv+rcZi1l1YX3cqbFH6ZsZkgaOYg
 zPQV3EsFVo6/YQAaSDllCj5RlRenBYiUcQU2E54muKuAzS/gngIksihA+7AHg2+HQ3c2xqrBjrj
 ubwG06EqweQwHpwdhZu4gpcFXZWahCxTIVb4/HYanJnFqNq+oH+G0xt9P
X-Google-Smtp-Source: AGHT+IFGHlNSvIZQNGvGln262AeXiD2hGrAkyGQ7xmS2W3PPwtpIbkwjgl7811HU/TOJEwcDqCFapNNU+znS
X-Received: by 2002:a05:6214:5653:b0:690:71e:c588 with SMTP id
 mh19-20020a056214565300b00690071ec588mr2977045qvb.62.1709341817400; 
 Fri, 01 Mar 2024 17:10:17 -0800 (PST)
Received: from postal.iol.unh.edu (postal.iol.unh.edu.
 [2606:4100:3880:1234::84]) by smtp-relay.gmail.com with ESMTPS id
 dv4-20020ad44ee4000000b0068fb96267a8sm212575qvb.25.2024.03.01.17.10.17
 (version=TLS1_2 cipher=ECDHE-ECDSA-AES128-GCM-SHA256 bits=128/128);
 Fri, 01 Mar 2024 17:10:17 -0800 (PST)
X-Relaying-Domain: iol.unh.edu
Date: Fri, 01 Mar 2024 17:10:17 -0800 (PST)
Message-ID: <65e27c79.d40a0220.778a1.ed9fSMTPIN_ADDED_MISSING@mx.google.com>
Received: from [172.17.0.7] (unknown [172.18.0.217])
 by postal.iol.unh.edu (Postfix) with ESMTP id 1D94C6052712;
 Fri,  1 Mar 2024 20:10:17 -0500 (EST)
Subject: |SUCCESS| pw137690 [PATCH] examples/l3fwd: fix Rx over not ready por
From: dpdklab@iol.unh.edu
To: Test Report <test-report@dpdk.org>
Cc: dpdk-test-reports@iol.unh.edu
In-Reply-To: <20240301163931.107036-1-konstantin.v.ananyev@yandex.ru>
References: <20240301163931.107036-1-konstantin.v.ananyev@yandex.ru>
Content-Type: text/plain
X-BeenThere: test-report@dpdk.org
X-Mailman-Version: 2.1.29
Precedence: list
List-Id: automatic DPDK test reports <test-report.dpdk.org>
List-Unsubscribe: <https://mails.dpdk.org/options/test-report>,
 <mailto:test-report-request@dpdk.org?subject=unsubscribe>
List-Archive: <http://mails.dpdk.org/archives/test-report/>
List-Post: <mailto:test-report@dpdk.org>
List-Help: <mailto:test-report-request@dpdk.org?subject=help>
List-Subscribe: <https://mails.dpdk.org/listinfo/test-report>,
 <mailto:test-report-request@dpdk.org?subject=subscribe>
Errors-To: test-report-bounces@dpdk.org

Test-Label: iol-unit-amd64-testing
Test-Status: SUCCESS
http://dpdk.org/patch/137690

_Testing PASS_

Submitter: Konstantin Ananyev <konstantin.v.ananyev@yandex.ru>
Date: Friday, March 01 2024 16:39:31 
DPDK git baseline: Repo:dpdk
  Branch: master
  CommitID:5df34de5808a7b826b8bc035d6ee3161a12be364

137690 --> testing pass

Test environment and result as below:

+------------------+----------------+
|   Environment    | dpdk_unit_test |
+==================+================+
| CentOS Stream 9  | PASS           |
+------------------+----------------+
| CentOS Stream 8  | PASS           |
+------------------+----------------+
| Debian Bullseye  | PASS           |
+------------------+----------------+
| Fedora 37        | PASS           |
+------------------+----------------+
| Fedora 38        | PASS           |
+------------------+----------------+
| openSUSE Leap 15 | PASS           |
+------------------+----------------+
| RHEL8            | PASS           |
+------------------+----------------+
| Debian 12 (arm)  | PASS           |
+------------------+----------------+
| Ubuntu 20.04     | PASS           |
+------------------+----------------+
| Ubuntu 22.04     | PASS           |
+------------------+----------------+


CentOS Stream 9
	Kernel: 4.18.0-240.10.1.el8_3.x86_64
	Compiler: gcc 11.3.1 20220421

CentOS Stream 8
	Kernel: 4.18.0-240.10.1.el8_3.x86_64
	Compiler: gcc 8.4.1 20200928

Debian Bullseye
	Kernel: 5.4.0-122-generic
	Compiler: gcc 10.2.1-6

Fedora 37
	Kernel: Depends on container host system
	Compiler: gcc 12.3.1

Fedora 38
	Kernel: Depends on container host
	Compiler: gcc 13.1.1

openSUSE Leap 15
	Kernel: 4.18.0-240.10.1.el8_3.x86_64
	Compiler: gcc 7.5.0

RHEL8
	Kernel: 4.18.0-240.10.1.el8_3.x86_64
	Compiler: gcc 8.3.1 20191121 (Red Hat 8.3.1-5)

Debian 12 (arm)
	Kernel: Container Host Kernel
	Compiler: gcc 11

Ubuntu 20.04
	Kernel: 5.4.0-153-generic
	Compiler: gcc 9.4.0-1ubuntu1~20.04.1

Ubuntu 22.04
	Kernel: 4.18.0-240.10.1.el8_3.x86_64
	Compiler: gcc 11.3.0

To view detailed results, visit:
https://lab.dpdk.org/results/dashboard/patchsets/29379/

UNH-IOL DPDK Community Lab

To manage your email subscriptions, visit: 
https://lab.dpdk.org/results/dashboard/preferences/subscriptions/