From mboxrd@z Thu Jan  1 00:00:00 1970
Return-Path: <test-report-bounces@dpdk.org>
Received: from mails.dpdk.org (mails.dpdk.org [217.70.189.124])
	by inbox.dpdk.org (Postfix) with ESMTP id C162443C27
	for <public@inbox.dpdk.org>; Sat,  2 Mar 2024 02:12:40 +0100 (CET)
Received: from mails.dpdk.org (localhost [127.0.0.1])
	by mails.dpdk.org (Postfix) with ESMTP id B69B34025D;
	Sat,  2 Mar 2024 02:12:40 +0100 (CET)
Received: from mail-yw1-f226.google.com (mail-yw1-f226.google.com
 [209.85.128.226])
 by mails.dpdk.org (Postfix) with ESMTP id 122934025C
 for <test-report@dpdk.org>; Sat,  2 Mar 2024 02:12:39 +0100 (CET)
Received: by mail-yw1-f226.google.com with SMTP id
 00721157ae682-609241c2696so28558907b3.0
 for <test-report@dpdk.org>; Fri, 01 Mar 2024 17:12:39 -0800 (PST)
DKIM-Signature: v=1; a=rsa-sha256; c=relaxed/relaxed;
 d=iol.unh.edu; s=unh-iol; t=1709341958; x=1709946758; darn=dpdk.org;
 h=references:in-reply-to:cc:to:from:subject:message-id:date:from:to
 :cc:subject:date:message-id:reply-to;
 bh=ykAMy3ldrTlL2yg82YC5pYAejtxaY3JvABwcOoNNjMY=;
 b=XhzEHYlFXOnImT6ow+AYP+uhELe8mvItyZjg7SI5ySd/Vtkq3UmxIbsITq2/QliX6U
 PlM3+tWO0Re9Oo8zdR9g4G4ZstkembRtsKSWgoSjITA82RzyZfiY80TGCzQFIeKSFTOy
 /94h9ddUGpnQk4rzr5dHsdYq2ZQkDdspFCQ38=
X-Google-DKIM-Signature: v=1; a=rsa-sha256; c=relaxed/relaxed;
 d=1e100.net; s=20230601; t=1709341958; x=1709946758;
 h=references:in-reply-to:cc:to:from:subject:message-id:date
 :x-gm-message-state:from:to:cc:subject:date:message-id:reply-to;
 bh=ykAMy3ldrTlL2yg82YC5pYAejtxaY3JvABwcOoNNjMY=;
 b=GN4qRt90ATZAYoVje77MRknfGIbXy9+3cTEAnbCA7W1QSktF8TXfdLfeodG/2DKJjs
 zw+F82E0CU0YnjHvG609qZgG1lO0f7CpiUW+YrO7FxSmosSZrsTJgQSL1uvCkGhk8SWD
 Fppc0NON/+3qR1EPRteuZHqKlQfjuYnhWqqzu6qv7tLSqooUQa45DNCC8SY9F6vSwArJ
 guhpTSwbQhudrbgr1WRAFzPQX9bnDHj0R4X9aEZgKJm0JtRlpBY/UUbgWJ26+XRJ0FzQ
 X0Vu1HvuhSu0uj9gSJblDXodooYzEXPPTYPxo5trRq7nobXM53SQO4yPNTkJLkr+xIvx
 aP8A==
X-Gm-Message-State: AOJu0YzR0UqPB+kua23sgNda8PUVMUMp239GTO0g862QeW7xq1KYRy+2
 Mg/MRTqpGgt4gkKgARZGcHMlrfQxF8R3e1dYKTfgZon4QoH4TawZS/JKQyBQoZjiDfqixGRugE5
 vFG+DUl4FTwtufnIWN+TSACciH6FXHbkKhadwpNnd
X-Google-Smtp-Source: AGHT+IEQOAjz5z/Ilgv7O/5qaQ4DKQNwnY9iV4OxutLZm7I7Ou4kZIUCVA+1SU7E+FUbVqhqzReG49k5qfx1
X-Received: by 2002:a05:690c:fc3:b0:608:c42f:9080 with SMTP id
 dg3-20020a05690c0fc300b00608c42f9080mr4270290ywb.15.1709341958549; 
 Fri, 01 Mar 2024 17:12:38 -0800 (PST)
Received: from postal.iol.unh.edu (postal.iol.unh.edu. [132.177.123.84])
 by smtp-relay.gmail.com with ESMTPS id
 j25-20020a056122091900b004b73ade624fsm183908vka.7.2024.03.01.17.12.38
 (version=TLS1_2 cipher=ECDHE-ECDSA-AES128-GCM-SHA256 bits=128/128);
 Fri, 01 Mar 2024 17:12:38 -0800 (PST)
X-Relaying-Domain: iol.unh.edu
Date: Fri, 01 Mar 2024 17:12:38 -0800 (PST)
Message-ID: <65e27d06.050a0220.ba786.af63SMTPIN_ADDED_MISSING@mx.google.com>
Received: from [172.17.0.6] (unknown [172.18.0.217])
 by postal.iol.unh.edu (Postfix) with ESMTP id 319646052712;
 Fri,  1 Mar 2024 20:12:38 -0500 (EST)
Subject: |SUCCESS| pw137691-137761 [PATCH] [v2,71/71] examples: replace use o
From: dpdklab@iol.unh.edu
To: Test Report <test-report@dpdk.org>
Cc: dpdk-test-reports@iol.unh.edu
In-Reply-To: <20240301171707.95242-72-stephen@networkplumber.org>
References: <20240301171707.95242-72-stephen@networkplumber.org>
Content-Type: text/plain
X-BeenThere: test-report@dpdk.org
X-Mailman-Version: 2.1.29
Precedence: list
List-Id: automatic DPDK test reports <test-report.dpdk.org>
List-Unsubscribe: <https://mails.dpdk.org/options/test-report>,
 <mailto:test-report-request@dpdk.org?subject=unsubscribe>
List-Archive: <http://mails.dpdk.org/archives/test-report/>
List-Post: <mailto:test-report@dpdk.org>
List-Help: <mailto:test-report-request@dpdk.org?subject=help>
List-Subscribe: <https://mails.dpdk.org/listinfo/test-report>,
 <mailto:test-report-request@dpdk.org?subject=subscribe>
Errors-To: test-report-bounces@dpdk.org

Test-Label: iol-unit-arm64-testing
Test-Status: SUCCESS
http://dpdk.org/patch/137761

_Testing PASS_

Submitter: Stephen Hemminger <stephen@networkplumber.org>
Date: Friday, March 01 2024 17:16:07 
DPDK git baseline: Repo:dpdk
  Branch: master
  CommitID:5df34de5808a7b826b8bc035d6ee3161a12be364

137691-137761 --> testing pass

Test environment and result as below:

+--------------------------+------------------------------+----------------+--------------+---------------------------+
|       Environment        | cryptodev_sw_snow3g_autotest | dpdk_unit_test | lpm_autotest | cryptodev_sw_zuc_autotest |
+==========================+==============================+================+==============+===========================+
| Debian 12 (arm)          | PASS                         | PASS           | SKIPPED      | PASS                      |
+--------------------------+------------------------------+----------------+--------------+---------------------------+
| Debian 11 (Buster) (ARM) | SKIPPED                      | PASS           | SKIPPED      | SKIPPED                   |
+--------------------------+------------------------------+----------------+--------------+---------------------------+
| Fedora 38 (ARM)          | SKIPPED                      | PASS           | SKIPPED      | SKIPPED                   |
+--------------------------+------------------------------+----------------+--------------+---------------------------+
| Fedora 37 (ARM)          | SKIPPED                      | PASS           | SKIPPED      | SKIPPED                   |
+--------------------------+------------------------------+----------------+--------------+---------------------------+
| CentOS Stream 9 (ARM)    | SKIPPED                      | PASS           | SKIPPED      | SKIPPED                   |
+--------------------------+------------------------------+----------------+--------------+---------------------------+
| Ubuntu 20.04 (ARM)       | SKIPPED                      | PASS           | SKIPPED      | SKIPPED                   |
+--------------------------+------------------------------+----------------+--------------+---------------------------+
| Fedora 38 (ARM Clang)    | SKIPPED                      | PASS           | SKIPPED      | SKIPPED                   |
+--------------------------+------------------------------+----------------+--------------+---------------------------+
| Ubuntu 20.04 ARM SVE     | SKIPPED                      | SKIPPED        | PASS         | SKIPPED                   |
+--------------------------+------------------------------+----------------+--------------+---------------------------+


Debian 12 (arm)
	Kernel: Container Host Kernel
	Compiler: gcc 11

Debian 11 (Buster) (ARM)
	Kernel: Container Host Kernel
	Compiler: gcc 10.2.1

Fedora 38 (ARM)
	Kernel: Depends on container host
	Compiler: gcc 13.1.1

Fedora 37 (ARM)
	Kernel: Depends on container host
	Compiler: gcc 12.3.1

CentOS Stream 9 (ARM)
	Kernel: Container Host Kernel
	Compiler: gcc 11.3.1

Ubuntu 20.04 (ARM)
	Kernel: Container Host Kernel
	Compiler: gcc 9.4.0

Fedora 38 (ARM Clang)
	Kernel: Depends on container host
	Compiler: clang 16.0.3

Ubuntu 20.04 ARM SVE
	Kernel: 5.4.0-80-generic
	Compiler: gcc 10.3.0 (Ubuntu 10.3.0-1ubuntu1~20.04)

To view detailed results, visit:
https://lab.dpdk.org/results/dashboard/patchsets/29380/

UNH-IOL DPDK Community Lab

To manage your email subscriptions, visit: 
https://lab.dpdk.org/results/dashboard/preferences/subscriptions/