From mboxrd@z Thu Jan  1 00:00:00 1970
Return-Path: <test-report-bounces@dpdk.org>
Received: from mails.dpdk.org (mails.dpdk.org [217.70.189.124])
	by inbox.dpdk.org (Postfix) with ESMTP id ADA0443C27
	for <public@inbox.dpdk.org>; Sat,  2 Mar 2024 02:19:08 +0100 (CET)
Received: from mails.dpdk.org (localhost [127.0.0.1])
	by mails.dpdk.org (Postfix) with ESMTP id A88CF4025D;
	Sat,  2 Mar 2024 02:19:08 +0100 (CET)
Received: from mail-pl1-f226.google.com (mail-pl1-f226.google.com
 [209.85.214.226])
 by mails.dpdk.org (Postfix) with ESMTP id 64E964025C
 for <test-report@dpdk.org>; Sat,  2 Mar 2024 02:19:06 +0100 (CET)
Received: by mail-pl1-f226.google.com with SMTP id
 d9443c01a7336-1d944e8f367so20967655ad.0
 for <test-report@dpdk.org>; Fri, 01 Mar 2024 17:19:06 -0800 (PST)
DKIM-Signature: v=1; a=rsa-sha256; c=relaxed/relaxed;
 d=iol.unh.edu; s=unh-iol; t=1709342345; x=1709947145; darn=dpdk.org;
 h=references:in-reply-to:cc:to:from:subject:message-id:date:from:to
 :cc:subject:date:message-id:reply-to;
 bh=I5VNw/a+Mk2VWhWgsdcETaqwnR428ZG4dcGfCw4+wtE=;
 b=Nr3fI3CW20QpYikBOpZ3sAX192pOUUPESFDEUjfg4dXaYf9bRq9lQn7EyKNazqKfPE
 ZLhmjFFX8o+k598kg5riy8gw0LclckyvMAGZbMnCNJb9RPVbrmeUXWOpP4Ug7r62IKcH
 i60EDxKfqPMOjeKVn7x1LagK24Y0A94B4ivwI=
X-Google-DKIM-Signature: v=1; a=rsa-sha256; c=relaxed/relaxed;
 d=1e100.net; s=20230601; t=1709342345; x=1709947145;
 h=references:in-reply-to:cc:to:from:subject:message-id:date
 :x-gm-message-state:from:to:cc:subject:date:message-id:reply-to;
 bh=I5VNw/a+Mk2VWhWgsdcETaqwnR428ZG4dcGfCw4+wtE=;
 b=CudahfgQF4YJbJ4kpaKFlW3wugb49P3XGEscsLs9iapNqxKYYAxzwrnEt53mbumvWY
 BTm/gGhtjOWaFW7jxiYMA5KwVdbTv1Stxn6oW8EkVrl0Eb6XK3R0ntHRy8/TaTPZoe5E
 cdAmH037Fvtzgqdkgrcfl7FnnY4kKLiBvvCnCrzuUGRkNWXFHO5l2X3Gqc0TcVzYBDkv
 dIWBYw5ALxWZoFX5YSuPLYYxlf3y7UeUTDypLO0MmJGPiZY/tKU4fZg1N+SIvbF4xMEc
 LDkrQtwXwe/iKJw2ZiTDev8YpSX+t2WZsT9q/f1lBinV9gZVE/xypT3W8e4ifAeVeFLH
 o2HQ==
X-Gm-Message-State: AOJu0YwcNXsn8rOX6mi/BkQzWo5bjwOnZ+FjjAu45ezhUscLY3fV+UDz
 TASMdOL93B8u9NazcVEFWqNFjNFV6qtt4XAXCsYN5hNgEyamv5WZaRfGy4Ycbdpzf9k3MC/TyKB
 IT0rQMuUvWiviW3R75UaYJzspEZfCWyGeDIBs92aU
X-Google-Smtp-Source: AGHT+IETt15JdGZjenfoYX1qmEtW1WYCDQzG76vz0zftzPCJuXJHYmNn6h1CqcKuZufM1oIOKlm+5nVAeTMP
X-Received: by 2002:a17:903:1c7:b0:1dc:a60a:a7c7 with SMTP id
 e7-20020a17090301c700b001dca60aa7c7mr4059640plh.25.1709342345592; 
 Fri, 01 Mar 2024 17:19:05 -0800 (PST)
Received: from postal.iol.unh.edu (postal.iol.unh.edu. [132.177.123.84])
 by smtp-relay.gmail.com with ESMTPS id
 g6-20020a170902868600b001d942b7602csm124821plo.107.2024.03.01.17.19.05
 (version=TLS1_2 cipher=ECDHE-ECDSA-AES128-GCM-SHA256 bits=128/128);
 Fri, 01 Mar 2024 17:19:05 -0800 (PST)
X-Relaying-Domain: iol.unh.edu
Date: Fri, 01 Mar 2024 17:19:05 -0800 (PST)
Message-ID: <65e27e89.170a0220.65342.81ccSMTPIN_ADDED_MISSING@mx.google.com>
Received: from [172.21.0.6] (unknown [172.18.0.240])
 by postal.iol.unh.edu (Postfix) with ESMTP id 153C46052712;
 Fri,  1 Mar 2024 20:19:05 -0500 (EST)
Subject: |SUCCESS| pw137683-137689 [PATCH] [v4,7/7] compress/nitrox: support 
From: dpdklab@iol.unh.edu
To: Test Report <test-report@dpdk.org>
Cc: dpdk-test-reports@iol.unh.edu
In-Reply-To: <20240301162553.30523-8-rnagadheeraj@marvell.com>
References: <20240301162553.30523-8-rnagadheeraj@marvell.com>
Content-Type: text/plain
X-BeenThere: test-report@dpdk.org
X-Mailman-Version: 2.1.29
Precedence: list
List-Id: automatic DPDK test reports <test-report.dpdk.org>
List-Unsubscribe: <https://mails.dpdk.org/options/test-report>,
 <mailto:test-report-request@dpdk.org?subject=unsubscribe>
List-Archive: <http://mails.dpdk.org/archives/test-report/>
List-Post: <mailto:test-report@dpdk.org>
List-Help: <mailto:test-report-request@dpdk.org?subject=help>
List-Subscribe: <https://mails.dpdk.org/listinfo/test-report>,
 <mailto:test-report-request@dpdk.org?subject=subscribe>
Errors-To: test-report-bounces@dpdk.org

Test-Label: iol-unit-amd64-testing
Test-Status: SUCCESS
http://dpdk.org/patch/137689

_Testing PASS_

Submitter: Nagadheeraj Rottela <rnagadheeraj@marvell.com>
Date: Friday, March 01 2024 16:25:53 
DPDK git baseline: Repo:dpdk
  Branch: master
  CommitID:5ac50824383c2683c0dfdf24c6dc493f1fa54852

137683-137689 --> testing pass

Test environment and result as below:

+------------------+----------------+
|   Environment    | dpdk_unit_test |
+==================+================+
| CentOS Stream 8  | PASS           |
+------------------+----------------+
| CentOS Stream 9  | PASS           |
+------------------+----------------+
| Debian Bullseye  | PASS           |
+------------------+----------------+
| Fedora 38        | PASS           |
+------------------+----------------+
| Debian 12 (arm)  | PASS           |
+------------------+----------------+
| Fedora 37        | PASS           |
+------------------+----------------+
| Ubuntu 20.04     | PASS           |
+------------------+----------------+
| RHEL8            | PASS           |
+------------------+----------------+
| Ubuntu 22.04     | PASS           |
+------------------+----------------+
| openSUSE Leap 15 | PASS           |
+------------------+----------------+


CentOS Stream 8
	Kernel: 4.18.0-240.10.1.el8_3.x86_64
	Compiler: gcc 8.4.1 20200928

CentOS Stream 9
	Kernel: 4.18.0-240.10.1.el8_3.x86_64
	Compiler: gcc 11.3.1 20220421

Debian Bullseye
	Kernel: 5.4.0-122-generic
	Compiler: gcc 10.2.1-6

Fedora 38
	Kernel: Depends on container host
	Compiler: gcc 13.1.1

Debian 12 (arm)
	Kernel: Container Host Kernel
	Compiler: gcc 11

Fedora 37
	Kernel: Depends on container host system
	Compiler: gcc 12.3.1

Ubuntu 20.04
	Kernel: 5.4.0-153-generic
	Compiler: gcc 9.4.0-1ubuntu1~20.04.1

RHEL8
	Kernel: 4.18.0-240.10.1.el8_3.x86_64
	Compiler: gcc 8.3.1 20191121 (Red Hat 8.3.1-5)

Ubuntu 22.04
	Kernel: 4.18.0-240.10.1.el8_3.x86_64
	Compiler: gcc 11.3.0

openSUSE Leap 15
	Kernel: 4.18.0-240.10.1.el8_3.x86_64
	Compiler: gcc 7.5.0

To view detailed results, visit:
https://lab.dpdk.org/results/dashboard/patchsets/29378/

UNH-IOL DPDK Community Lab

To manage your email subscriptions, visit: 
https://lab.dpdk.org/results/dashboard/preferences/subscriptions/