From mboxrd@z Thu Jan  1 00:00:00 1970
Return-Path: <test-report-bounces@dpdk.org>
Received: from mails.dpdk.org (mails.dpdk.org [217.70.189.124])
	by inbox.dpdk.org (Postfix) with ESMTP id 7E50D43C27
	for <public@inbox.dpdk.org>; Sat,  2 Mar 2024 02:20:18 +0100 (CET)
Received: from mails.dpdk.org (localhost [127.0.0.1])
	by mails.dpdk.org (Postfix) with ESMTP id 796714025D;
	Sat,  2 Mar 2024 02:20:18 +0100 (CET)
Received: from mail-io1-f98.google.com (mail-io1-f98.google.com
 [209.85.166.98]) by mails.dpdk.org (Postfix) with ESMTP id 6242A4025C
 for <test-report@dpdk.org>; Sat,  2 Mar 2024 02:20:17 +0100 (CET)
Received: by mail-io1-f98.google.com with SMTP id
 ca18e2360f4ac-7bb5fda069bso152914439f.0
 for <test-report@dpdk.org>; Fri, 01 Mar 2024 17:20:17 -0800 (PST)
DKIM-Signature: v=1; a=rsa-sha256; c=relaxed/relaxed;
 d=iol.unh.edu; s=unh-iol; t=1709342417; x=1709947217; darn=dpdk.org;
 h=references:in-reply-to:cc:to:from:subject:message-id:date:from:to
 :cc:subject:date:message-id:reply-to;
 bh=IWIN0R5apUQ8tV3sqlgAgMlkucvv9ARqbS4+HaD41n4=;
 b=IYoDkvgJbrvq/mObQ5XqBS8QKGnUzvwwPqISXURc+2IW/fkb9fKIQ0eUXDhMupNe/V
 Q42J5SH/GdS4F66WZM8J7puh7N4MCHLn2JhcKrkUl8zEOlHycYKZldSqDQdJsWF+MLfZ
 oeWmJ+mBANrdOFIfP/2YhWJqqSS0KBTwjaLZA=
X-Google-DKIM-Signature: v=1; a=rsa-sha256; c=relaxed/relaxed;
 d=1e100.net; s=20230601; t=1709342417; x=1709947217;
 h=references:in-reply-to:cc:to:from:subject:message-id:date
 :x-gm-message-state:from:to:cc:subject:date:message-id:reply-to;
 bh=IWIN0R5apUQ8tV3sqlgAgMlkucvv9ARqbS4+HaD41n4=;
 b=S0hvXWOPPOEqLkD20Cj6UmQFbqG1gJDS7bQEkr4xYkApGphA58oW4ZTeRV81kkvB5u
 2OdgoTwzNMdJ10xXaCt0OEC8Lbg8A3s0pmqJtQMDZhUrVy423IcpqGfnXVt8WWF76EvL
 /wpz63jPiki32uDT8GKZDAkYtWMZAbzL6um12T1BQnu9+5jFnFzvAKtAFq+TD+kuiZqk
 8oGi7maFWEyWcPVwBodhmAkEoxI3RDOkUUNKkGcti92Af5r2EYbHxq50fRrKfltsCrLQ
 VgydwU8iUpddrL8luzB3kkIfqVlwUZxMEyCrJKUP0p3QrKpOuZmIJqO5MHjmWcS82jK9
 8S3A==
X-Gm-Message-State: AOJu0Yxy9XQHuSxofNJfuGxA62DdGG6dHWgk0nnVzRSAzOFWF2ebMIPZ
 qAa2kCBaX5TTKwuPY73zIx/1Q+AqtKeGnhaFxfwDn/ksBJLJXCW9eMATw+NHi7kK44Jo9y8xRMU
 zxzoBASm5dYmYEt3l+4Fj1ywHld7nT+Iu0ECdpBVh
X-Google-Smtp-Source: AGHT+IHk3kOhag0nGB7wysPyR544PnOP6zX5tgZFcR3zK6OAB9DILLB4a3gIXloiLVY+EGqIEjFwK7OkqTiz
X-Received: by 2002:a6b:7f0a:0:b0:7c7:a571:eacd with SMTP id
 l10-20020a6b7f0a000000b007c7a571eacdmr3463258ioq.5.1709342416837; 
 Fri, 01 Mar 2024 17:20:16 -0800 (PST)
Received: from postal.iol.unh.edu (postal.iol.unh.edu. [132.177.123.84])
 by smtp-relay.gmail.com with ESMTPS id
 c24-20020a05660221d800b007c809fef2afsm165266ioc.33.2024.03.01.17.20.16
 (version=TLS1_2 cipher=ECDHE-ECDSA-AES128-GCM-SHA256 bits=128/128);
 Fri, 01 Mar 2024 17:20:16 -0800 (PST)
X-Relaying-Domain: iol.unh.edu
Date: Fri, 01 Mar 2024 17:20:16 -0800 (PST)
Message-ID: <65e27ed0.050a0220.74b60.a5a2SMTPIN_ADDED_MISSING@mx.google.com>
Received: from [172.17.0.8] (unknown [172.18.0.217])
 by postal.iol.unh.edu (Postfix) with ESMTP id 5F5A26052712;
 Fri,  1 Mar 2024 20:20:16 -0500 (EST)
Subject: |SUCCESS| pw137690 [PATCH] examples/l3fwd: fix Rx over not ready por
From: dpdklab@iol.unh.edu
To: Test Report <test-report@dpdk.org>
Cc: dpdk-test-reports@iol.unh.edu
In-Reply-To: <20240301163931.107036-1-konstantin.v.ananyev@yandex.ru>
References: <20240301163931.107036-1-konstantin.v.ananyev@yandex.ru>
Content-Type: text/plain
X-BeenThere: test-report@dpdk.org
X-Mailman-Version: 2.1.29
Precedence: list
List-Id: automatic DPDK test reports <test-report.dpdk.org>
List-Unsubscribe: <https://mails.dpdk.org/options/test-report>,
 <mailto:test-report-request@dpdk.org?subject=unsubscribe>
List-Archive: <http://mails.dpdk.org/archives/test-report/>
List-Post: <mailto:test-report@dpdk.org>
List-Help: <mailto:test-report-request@dpdk.org?subject=help>
List-Subscribe: <https://mails.dpdk.org/listinfo/test-report>,
 <mailto:test-report-request@dpdk.org?subject=subscribe>
Errors-To: test-report-bounces@dpdk.org

Test-Label: iol-unit-arm64-testing
Test-Status: SUCCESS
http://dpdk.org/patch/137690

_Testing PASS_

Submitter: Konstantin Ananyev <konstantin.v.ananyev@yandex.ru>
Date: Friday, March 01 2024 16:39:31 
DPDK git baseline: Repo:dpdk
  Branch: master
  CommitID:5df34de5808a7b826b8bc035d6ee3161a12be364

137690 --> testing pass

Test environment and result as below:

+--------------------------+---------------------------+------------------------------+----------------+--------------+
|       Environment        | cryptodev_sw_zuc_autotest | cryptodev_sw_snow3g_autotest | dpdk_unit_test | lpm_autotest |
+==========================+===========================+==============================+================+==============+
| Debian 12 (arm)          | PASS                      | PASS                         | PASS           | SKIPPED      |
+--------------------------+---------------------------+------------------------------+----------------+--------------+
| Debian 11 (Buster) (ARM) | SKIPPED                   | SKIPPED                      | PASS           | SKIPPED      |
+--------------------------+---------------------------+------------------------------+----------------+--------------+
| CentOS Stream 9 (ARM)    | SKIPPED                   | SKIPPED                      | PASS           | SKIPPED      |
+--------------------------+---------------------------+------------------------------+----------------+--------------+
| Fedora 37 (ARM)          | SKIPPED                   | SKIPPED                      | PASS           | SKIPPED      |
+--------------------------+---------------------------+------------------------------+----------------+--------------+
| Ubuntu 20.04 (ARM)       | SKIPPED                   | SKIPPED                      | PASS           | SKIPPED      |
+--------------------------+---------------------------+------------------------------+----------------+--------------+
| Fedora 38 (ARM)          | SKIPPED                   | SKIPPED                      | PASS           | SKIPPED      |
+--------------------------+---------------------------+------------------------------+----------------+--------------+
| Fedora 38 (ARM Clang)    | SKIPPED                   | SKIPPED                      | PASS           | SKIPPED      |
+--------------------------+---------------------------+------------------------------+----------------+--------------+
| Ubuntu 20.04 ARM SVE     | SKIPPED                   | SKIPPED                      | SKIPPED        | PASS         |
+--------------------------+---------------------------+------------------------------+----------------+--------------+


Debian 12 (arm)
	Kernel: Container Host Kernel
	Compiler: gcc 11

Debian 11 (Buster) (ARM)
	Kernel: Container Host Kernel
	Compiler: gcc 10.2.1

CentOS Stream 9 (ARM)
	Kernel: Container Host Kernel
	Compiler: gcc 11.3.1

Fedora 37 (ARM)
	Kernel: Depends on container host
	Compiler: gcc 12.3.1

Ubuntu 20.04 (ARM)
	Kernel: Container Host Kernel
	Compiler: gcc 9.4.0

Fedora 38 (ARM)
	Kernel: Depends on container host
	Compiler: gcc 13.1.1

Fedora 38 (ARM Clang)
	Kernel: Depends on container host
	Compiler: clang 16.0.3

Ubuntu 20.04 ARM SVE
	Kernel: 5.4.0-80-generic
	Compiler: gcc 10.3.0 (Ubuntu 10.3.0-1ubuntu1~20.04)

To view detailed results, visit:
https://lab.dpdk.org/results/dashboard/patchsets/29379/

UNH-IOL DPDK Community Lab

To manage your email subscriptions, visit: 
https://lab.dpdk.org/results/dashboard/preferences/subscriptions/