From mboxrd@z Thu Jan  1 00:00:00 1970
Return-Path: <test-report-bounces@dpdk.org>
Received: from mails.dpdk.org (mails.dpdk.org [217.70.189.124])
	by inbox.dpdk.org (Postfix) with ESMTP id B3ACE43C27
	for <public@inbox.dpdk.org>; Sat,  2 Mar 2024 02:21:50 +0100 (CET)
Received: from mails.dpdk.org (localhost [127.0.0.1])
	by mails.dpdk.org (Postfix) with ESMTP id ABF714025D;
	Sat,  2 Mar 2024 02:21:50 +0100 (CET)
Received: from mail-il1-f225.google.com (mail-il1-f225.google.com
 [209.85.166.225])
 by mails.dpdk.org (Postfix) with ESMTP id B1F864025C
 for <test-report@dpdk.org>; Sat,  2 Mar 2024 02:21:48 +0100 (CET)
Received: by mail-il1-f225.google.com with SMTP id
 e9e14a558f8ab-3651edae0a1so11023425ab.0
 for <test-report@dpdk.org>; Fri, 01 Mar 2024 17:21:48 -0800 (PST)
DKIM-Signature: v=1; a=rsa-sha256; c=relaxed/relaxed;
 d=iol.unh.edu; s=unh-iol; t=1709342508; x=1709947308; darn=dpdk.org;
 h=references:in-reply-to:cc:to:from:subject:message-id:date:from:to
 :cc:subject:date:message-id:reply-to;
 bh=3Mv7AKMkS3IEQMh4KLqBupUrPQpj7M0xzVfGpYq8SwI=;
 b=K9lcH/lDhRugi2saC2AYma6DgYEHrOBminaNk1mi5c1ksVGnxg1n0AeTni5VBZY6ck
 pMn4DoHc47YXhyoAS+1unmlv56voCzGpChiZAJsu+CeKQRHFGKO0JjHu1bZFNFBZ9wHf
 T+BRi/eFvh92jHsIytOW1U33n4I3SqvBrcrsI=
X-Google-DKIM-Signature: v=1; a=rsa-sha256; c=relaxed/relaxed;
 d=1e100.net; s=20230601; t=1709342508; x=1709947308;
 h=references:in-reply-to:cc:to:from:subject:message-id:date
 :x-gm-message-state:from:to:cc:subject:date:message-id:reply-to;
 bh=3Mv7AKMkS3IEQMh4KLqBupUrPQpj7M0xzVfGpYq8SwI=;
 b=v5w6kPOJ6pNbwsXpkcV0hziwE9jJs8Q5WtaxnTDGxpQfqIAzPl6oOSCDcTG4f+H7bm
 GvOxyMzpVl9TSJvfucSQv+wCvEPGo/tp/cBLOVOz0kfck30HnB0rjcKK2mVULLvQYxNw
 YHaXMwdIxhAVgwtMZAOFqnP2x8L9zJIO0UhxrfaMlQddOfL94/OTt+bUZDZXj2TsP3mj
 fwmtwOKXFiIN+WzO30gIiknaTrsealLtPeFzpF05Z2T8zeQKF+tyMRinkcOiE0eXkX+a
 HXvNqnFdb/qYVMjR4oU6gW4SPE0FlIWX6NBAcTbIfmF/e8wL73Hw5Kst07YdkN0/CRZR
 MjXg==
X-Gm-Message-State: AOJu0Yy8+auXYjfGC6XV1AEgVqxu88SNpSXlqIchK5aLG+68euAc6E8Y
 yIwJu0tDUOyy7JkiIn37MUjsncV05T3Z2RdVDkrI2QLkk6tEP8C6zPM7mzYnwuL5kgKb4t5PKGH
 7ARjmKMEg9lCRawbPyevwAU7LV188fMRAgJwRAhIr
X-Google-Smtp-Source: AGHT+IHt1jebkAEyYBcHs9HnbRRtO9YrsiLSxLj0OkE9XiZbJ0MI+YemHXltcf9pKn1XAEcs/JeOpi0p23hM
X-Received: by 2002:a05:6e02:170d:b0:365:1d33:3d1e with SMTP id
 u13-20020a056e02170d00b003651d333d1emr3085755ill.31.1709342508081; 
 Fri, 01 Mar 2024 17:21:48 -0800 (PST)
Received: from postal.iol.unh.edu (postal.iol.unh.edu. [132.177.123.84])
 by smtp-relay.gmail.com with ESMTPS id
 f13-20020a056e02168d00b003657e75d662sm205638ila.46.2024.03.01.17.21.48
 (version=TLS1_2 cipher=ECDHE-ECDSA-AES128-GCM-SHA256 bits=128/128);
 Fri, 01 Mar 2024 17:21:48 -0800 (PST)
X-Relaying-Domain: iol.unh.edu
Date: Fri, 01 Mar 2024 17:21:48 -0800 (PST)
Message-ID: <65e27f2c.050a0220.e5e3a.dbe9SMTPIN_ADDED_MISSING@mx.google.com>
Received: from [172.17.0.7] (unknown [172.18.0.217])
 by postal.iol.unh.edu (Postfix) with ESMTP id 9BE0A6052712;
 Fri,  1 Mar 2024 20:21:47 -0500 (EST)
Subject: |SUCCESS| pw137678 [PATCH] [v5] common/qat: add virtual qat device (
From: dpdklab@iol.unh.edu
To: Test Report <test-report@dpdk.org>
Cc: dpdk-test-reports@iol.unh.edu
In-Reply-To: <20240301151923.4906-1-arkadiuszx.kusztal@intel.com>
References: <20240301151923.4906-1-arkadiuszx.kusztal@intel.com>
Content-Type: text/plain
X-BeenThere: test-report@dpdk.org
X-Mailman-Version: 2.1.29
Precedence: list
List-Id: automatic DPDK test reports <test-report.dpdk.org>
List-Unsubscribe: <https://mails.dpdk.org/options/test-report>,
 <mailto:test-report-request@dpdk.org?subject=unsubscribe>
List-Archive: <http://mails.dpdk.org/archives/test-report/>
List-Post: <mailto:test-report@dpdk.org>
List-Help: <mailto:test-report-request@dpdk.org?subject=help>
List-Subscribe: <https://mails.dpdk.org/listinfo/test-report>,
 <mailto:test-report-request@dpdk.org?subject=subscribe>
Errors-To: test-report-bounces@dpdk.org

Test-Label: iol-compile-amd64-testing
Test-Status: SUCCESS
http://dpdk.org/patch/137678

_Testing PASS_

Submitter: Arkadiusz Kusztal <arkadiuszx.kusztal@intel.com>
Date: Friday, March 01 2024 15:19:23 
DPDK git baseline: Repo:dpdk
  Branch: master
  CommitID:5ac50824383c2683c0dfdf24c6dc493f1fa54852

137678 --> testing pass

Test environment and result as below:

+------------------+--------------------+
|   Environment    | dpdk_meson_compile |
+==================+====================+
| CentOS Stream 8  | PASS               |
+------------------+--------------------+
| Fedora 37        | PASS               |
+------------------+--------------------+
| FreeBSD 13.2     | PASS               |
+------------------+--------------------+
| Debian Bullseye  | PASS               |
+------------------+--------------------+
| Debian 12 (arm)  | PASS               |
+------------------+--------------------+
| RHEL8            | PASS               |
+------------------+--------------------+
| openSUSE Leap 15 | PASS               |
+------------------+--------------------+
| Fedora 38        | PASS               |
+------------------+--------------------+
| Ubuntu 20.04     | PASS               |
+------------------+--------------------+
| Ubuntu 22.04     | PASS               |
+------------------+--------------------+
| CentOS Stream 9  | PASS               |
+------------------+--------------------+


CentOS Stream 8
	Kernel: 4.18.0-240.10.1.el8_3.x86_64
	Compiler: gcc 8.4.1 20200928

Fedora 37
	Kernel: Depends on container host system
	Compiler: gcc 12.3.1

FreeBSD 13.2
	Kernel: 13.2
	Compiler: clang 11.3.0

Debian Bullseye
	Kernel: 5.4.0-122-generic
	Compiler: gcc 10.2.1-6

Debian 12 (arm)
	Kernel: Container Host Kernel
	Compiler: gcc 11

RHEL8
	Kernel: 4.18.0-240.10.1.el8_3.x86_64
	Compiler: gcc 8.3.1 20191121 (Red Hat 8.3.1-5)

openSUSE Leap 15
	Kernel: 4.18.0-240.10.1.el8_3.x86_64
	Compiler: gcc 7.5.0

Fedora 38
	Kernel: Depends on container host
	Compiler: gcc 13.1.1

Ubuntu 20.04
	Kernel: 5.4.0-153-generic
	Compiler: gcc 9.4.0-1ubuntu1~20.04.1

Ubuntu 22.04
	Kernel: 4.18.0-240.10.1.el8_3.x86_64
	Compiler: gcc 11.3.0

CentOS Stream 9
	Kernel: 4.18.0-240.10.1.el8_3.x86_64
	Compiler: gcc 11.3.1 20220421

To view detailed results, visit:
https://lab.dpdk.org/results/dashboard/patchsets/29375/

UNH-IOL DPDK Community Lab

To manage your email subscriptions, visit: 
https://lab.dpdk.org/results/dashboard/preferences/subscriptions/