From mboxrd@z Thu Jan  1 00:00:00 1970
Return-Path: <test-report-bounces@dpdk.org>
Received: from mails.dpdk.org (mails.dpdk.org [217.70.189.124])
	by inbox.dpdk.org (Postfix) with ESMTP id 9B7C543C27
	for <public@inbox.dpdk.org>; Sat,  2 Mar 2024 02:22:48 +0100 (CET)
Received: from mails.dpdk.org (localhost [127.0.0.1])
	by mails.dpdk.org (Postfix) with ESMTP id 96EB443036;
	Sat,  2 Mar 2024 02:22:48 +0100 (CET)
Received: from mail-io1-f97.google.com (mail-io1-f97.google.com
 [209.85.166.97]) by mails.dpdk.org (Postfix) with ESMTP id EFA0B4025D
 for <test-report@dpdk.org>; Sat,  2 Mar 2024 02:22:46 +0100 (CET)
Received: by mail-io1-f97.google.com with SMTP id
 ca18e2360f4ac-7bc332d3a8cso169984039f.2
 for <test-report@dpdk.org>; Fri, 01 Mar 2024 17:22:46 -0800 (PST)
DKIM-Signature: v=1; a=rsa-sha256; c=relaxed/relaxed;
 d=iol.unh.edu; s=unh-iol; t=1709342566; x=1709947366; darn=dpdk.org;
 h=references:in-reply-to:cc:to:from:subject:message-id:date:from:to
 :cc:subject:date:message-id:reply-to;
 bh=VDheYX5xDC0fP0a5Y/T4La1Afg5ZdCsuaglKnXxC2dY=;
 b=DiB/5Ao5ldMZ5thF8WwsHX37Cz2IuespdkUytzbbp6rDRdRwu+1afDvZD5ej9fi34B
 lnz5jkCxn78obGdF+CrencCADUL4etibiNQgOEITWLd/LUCBtCGTP9IvLziZwAtj07Q9
 tZlpBMjX0yE4SZ283oqv69z7WFmJ7fMm1QRjA=
X-Google-DKIM-Signature: v=1; a=rsa-sha256; c=relaxed/relaxed;
 d=1e100.net; s=20230601; t=1709342566; x=1709947366;
 h=references:in-reply-to:cc:to:from:subject:message-id:date
 :x-gm-message-state:from:to:cc:subject:date:message-id:reply-to;
 bh=VDheYX5xDC0fP0a5Y/T4La1Afg5ZdCsuaglKnXxC2dY=;
 b=ZjYP1AFfcdzjTmfInnJUUFaYQDrpxs+2igxNnn/SOJ/tUsbavJRRYH1pPyLUIcZ1gk
 FRKFKLdqEcsrw5sUTwtYz/hyrKv5en2xHsJBeAqH8QUZusWwdGw6yTYj194S4bT96VJw
 MuyLNMOj1jHp0tzRPMjE3lBtIX0oUpuIUwnYiIrbLW7PmTlhvo10iaZtj6Fno+iLhKtc
 N58m23l0febBdVxCInKxSz0n7Ic8su1nFHJRdl6vSSzMgD2liEZzswtJmIA1+fLGR4ak
 7/8AV9SjsTJUr3TYl9GS2K1xInF+myxtspjnid2TlbNndNJBG9qrQnSihM1CyN5Qu6fc
 feJg==
X-Gm-Message-State: AOJu0YznrtQ3sHvt4k5qXvTy2TLkR8FfSHthm/nl58eDX0H+nXj2V7Gn
 hN8cnroW+Ijp5nx3C2MyCL8PMz0W2NATf1liRHq25+bhMLuU1Whp4F4yGc2Pu4Nu+SwOQCFUza6
 sJiPQ5tfk2wB0pEHR1b0wjFUX/LFqLt6n2dnX8UKQyPvQ1YxH1VSxg7OU
X-Google-Smtp-Source: AGHT+IEBN2pvqYd0oHKG7SMC7H0ah5uadiaovRLY38+gza74wKTUMS4Bj4q5YdavvMtDjY3I25lGLF/UbiMi
X-Received: by 2002:a05:6602:181a:b0:7c7:97a0:d2f4 with SMTP id
 t26-20020a056602181a00b007c797a0d2f4mr3629871ioh.9.1709342566413; 
 Fri, 01 Mar 2024 17:22:46 -0800 (PST)
Received: from postal.iol.unh.edu (postal.iol.unh.edu.
 [2606:4100:3880:1234::84]) by smtp-relay.gmail.com with ESMTPS id
 s22-20020a056602169600b007c7af7596e4sm154035iow.8.2024.03.01.17.22.46
 (version=TLS1_2 cipher=ECDHE-ECDSA-AES128-GCM-SHA256 bits=128/128);
 Fri, 01 Mar 2024 17:22:46 -0800 (PST)
X-Relaying-Domain: iol.unh.edu
Date: Fri, 01 Mar 2024 17:22:46 -0800 (PST)
Message-ID: <65e27f66.050a0220.b3d33.9dd8SMTPIN_ADDED_MISSING@mx.google.com>
Received: from [172.21.0.7] (unknown [172.18.0.240])
 by postal.iol.unh.edu (Postfix) with ESMTP id E9F8F6052713;
 Fri,  1 Mar 2024 20:22:45 -0500 (EST)
Subject: |SUCCESS| pw137678 [PATCH] [v5] common/qat: add virtual qat device (
From: dpdklab@iol.unh.edu
To: Test Report <test-report@dpdk.org>
Cc: dpdk-test-reports@iol.unh.edu
In-Reply-To: <20240301151923.4906-1-arkadiuszx.kusztal@intel.com>
References: <20240301151923.4906-1-arkadiuszx.kusztal@intel.com>
Content-Type: text/plain
X-BeenThere: test-report@dpdk.org
X-Mailman-Version: 2.1.29
Precedence: list
List-Id: automatic DPDK test reports <test-report.dpdk.org>
List-Unsubscribe: <https://mails.dpdk.org/options/test-report>,
 <mailto:test-report-request@dpdk.org?subject=unsubscribe>
List-Archive: <http://mails.dpdk.org/archives/test-report/>
List-Post: <mailto:test-report@dpdk.org>
List-Help: <mailto:test-report-request@dpdk.org?subject=help>
List-Subscribe: <https://mails.dpdk.org/listinfo/test-report>,
 <mailto:test-report-request@dpdk.org?subject=subscribe>
Errors-To: test-report-bounces@dpdk.org

Test-Label: iol-compile-amd64-testing
Test-Status: SUCCESS
http://dpdk.org/patch/137678

_Testing PASS_

Submitter: Arkadiusz Kusztal <arkadiuszx.kusztal@intel.com>
Date: Friday, March 01 2024 15:19:23 
DPDK git baseline: Repo:dpdk
  Branch: master
  CommitID:5ac50824383c2683c0dfdf24c6dc493f1fa54852

137678 --> testing pass

Test environment and result as below:

+------------------+--------------------+
|   Environment    | dpdk_meson_compile |
+==================+====================+
| CentOS Stream 8  | PASS               |
+------------------+--------------------+
| Fedora 37        | PASS               |
+------------------+--------------------+
| FreeBSD 13.2     | PASS               |
+------------------+--------------------+
| Debian Bullseye  | PASS               |
+------------------+--------------------+
| Debian 12 (arm)  | PASS               |
+------------------+--------------------+
| RHEL8            | PASS               |
+------------------+--------------------+
| openSUSE Leap 15 | PASS               |
+------------------+--------------------+
| Fedora 38        | PASS               |
+------------------+--------------------+
| Ubuntu 20.04     | PASS               |
+------------------+--------------------+
| Ubuntu 22.04     | PASS               |
+------------------+--------------------+
| CentOS Stream 9  | PASS               |
+------------------+--------------------+
| Alpine           | PASS               |
+------------------+--------------------+


CentOS Stream 8
	Kernel: 4.18.0-240.10.1.el8_3.x86_64
	Compiler: gcc 8.4.1 20200928

Fedora 37
	Kernel: Depends on container host system
	Compiler: gcc 12.3.1

FreeBSD 13.2
	Kernel: 13.2
	Compiler: clang 11.3.0

Debian Bullseye
	Kernel: 5.4.0-122-generic
	Compiler: gcc 10.2.1-6

Debian 12 (arm)
	Kernel: Container Host Kernel
	Compiler: gcc 11

RHEL8
	Kernel: 4.18.0-240.10.1.el8_3.x86_64
	Compiler: gcc 8.3.1 20191121 (Red Hat 8.3.1-5)

openSUSE Leap 15
	Kernel: 4.18.0-240.10.1.el8_3.x86_64
	Compiler: gcc 7.5.0

Fedora 38
	Kernel: Depends on container host
	Compiler: gcc 13.1.1

Ubuntu 20.04
	Kernel: 5.4.0-153-generic
	Compiler: gcc 9.4.0-1ubuntu1~20.04.1

Ubuntu 22.04
	Kernel: 4.18.0-240.10.1.el8_3.x86_64
	Compiler: gcc 11.3.0

CentOS Stream 9
	Kernel: 4.18.0-240.10.1.el8_3.x86_64
	Compiler: gcc 11.3.1 20220421

Alpine
	Kernel: 5.4.0-73-generic
	Compiler: gcc (Alpine 10.3.1_git20210424) 10.3.1 20210424

To view detailed results, visit:
https://lab.dpdk.org/results/dashboard/patchsets/29375/

UNH-IOL DPDK Community Lab

To manage your email subscriptions, visit: 
https://lab.dpdk.org/results/dashboard/preferences/subscriptions/