From mboxrd@z Thu Jan  1 00:00:00 1970
Return-Path: <test-report-bounces@dpdk.org>
Received: from mails.dpdk.org (mails.dpdk.org [217.70.189.124])
	by inbox.dpdk.org (Postfix) with ESMTP id BF9C843C27
	for <public@inbox.dpdk.org>; Sat,  2 Mar 2024 02:22:52 +0100 (CET)
Received: from mails.dpdk.org (localhost [127.0.0.1])
	by mails.dpdk.org (Postfix) with ESMTP id B70A24025D;
	Sat,  2 Mar 2024 02:22:52 +0100 (CET)
Received: from mail-yw1-f225.google.com (mail-yw1-f225.google.com
 [209.85.128.225])
 by mails.dpdk.org (Postfix) with ESMTP id 804F14025C
 for <test-report@dpdk.org>; Sat,  2 Mar 2024 02:22:51 +0100 (CET)
Received: by mail-yw1-f225.google.com with SMTP id
 00721157ae682-608e3530941so30635687b3.1
 for <test-report@dpdk.org>; Fri, 01 Mar 2024 17:22:51 -0800 (PST)
DKIM-Signature: v=1; a=rsa-sha256; c=relaxed/relaxed;
 d=iol.unh.edu; s=unh-iol; t=1709342571; x=1709947371; darn=dpdk.org;
 h=references:in-reply-to:cc:to:from:subject:message-id:date:from:to
 :cc:subject:date:message-id:reply-to;
 bh=I5VNw/a+Mk2VWhWgsdcETaqwnR428ZG4dcGfCw4+wtE=;
 b=f3YVCVMQcpRr+xgIyIAYlhXY3A4bfctLOi/dvnn7pDr7uInpscUcSZtw1rZnvJcaCU
 iK9SUACDHW0FX/S4RwiDjm1xfcMiitG8JgYz8BjLU/pDzGWNWYy7zumX9zi1nrGXU6VN
 D18u5Qd9lq6W+5EVmVbQAWC1c6OhSh7gMRZ6w=
X-Google-DKIM-Signature: v=1; a=rsa-sha256; c=relaxed/relaxed;
 d=1e100.net; s=20230601; t=1709342571; x=1709947371;
 h=references:in-reply-to:cc:to:from:subject:message-id:date
 :x-gm-message-state:from:to:cc:subject:date:message-id:reply-to;
 bh=I5VNw/a+Mk2VWhWgsdcETaqwnR428ZG4dcGfCw4+wtE=;
 b=riB+iKEx3nw8ySH6JHL5B/VUaX0CJHZoRPdgXPysT4RBIswBv6+EMnpATFu21E6XZe
 3gc/BMAn50MWc6sF6r9v8oiPe02KU6KigBjZqd/Ef+VNgfIzWRWKaJg6s2bymCitv3Wd
 /aLGZOPMQOQWJ+Odt9an4iHXu1lmwDdYECF3/5L+jVLPkWDmX6urH8Ky2gUSYHdToipD
 heoj3xv/M2VlcdBM7KRL7QTAKtCJ29rVl32+FP72JXIsx4//xt5+1D7UeiQT0MtB0CVd
 H61UP553fDUZF9ZfTBFFA4OL0VajtQNc8yU4uwtQkc3J38SXx+L6Hg6eezndBtCUkO3I
 NGSA==
X-Gm-Message-State: AOJu0YzUfFbJFcU4ec6lFD7dRnaaCrM6jEiudGKQh0IYCQZHuD+6wXA0
 xr80c0CERMrRMu+3YI3BPp48LAEhibIG5Ns4dL74cET/Q7zgadICEGTzy4Fl3Dido3lSo47pAVL
 bWDEuIyi1mwssndU+AtF5Ekc2GgI0XVGR2qdSUtShngiJLv+I11+ySuVb
X-Google-Smtp-Source: AGHT+IFGj9IMghhBVKMkqRmzWyn088Tz3HvN+KDYw9X98flW3HRo8pE1KiflIi25MqzMcmS6aQa/RYDrQaY/
X-Received: by 2002:a0d:d786:0:b0:609:76e2:48e with SMTP id
 z128-20020a0dd786000000b0060976e2048emr2931631ywd.23.1709342570942; 
 Fri, 01 Mar 2024 17:22:50 -0800 (PST)
Received: from postal.iol.unh.edu (postal.iol.unh.edu.
 [2606:4100:3880:1234::84]) by smtp-relay.gmail.com with ESMTPS id
 eg12-20020a05690c290c00b006087ae222a3sm127710ywb.17.2024.03.01.17.22.50
 (version=TLS1_2 cipher=ECDHE-ECDSA-AES128-GCM-SHA256 bits=128/128);
 Fri, 01 Mar 2024 17:22:50 -0800 (PST)
X-Relaying-Domain: iol.unh.edu
Date: Fri, 01 Mar 2024 17:22:50 -0800 (PST)
Message-ID: <65e27f6a.050a0220.83d1f.8377SMTPIN_ADDED_MISSING@mx.google.com>
Received: from [172.17.0.8] (unknown [172.18.0.217])
 by postal.iol.unh.edu (Postfix) with ESMTP id 94BF86052712;
 Fri,  1 Mar 2024 20:22:50 -0500 (EST)
Subject: |SUCCESS| pw137683-137689 [PATCH] [v4,7/7] compress/nitrox: support 
From: dpdklab@iol.unh.edu
To: Test Report <test-report@dpdk.org>
Cc: dpdk-test-reports@iol.unh.edu
In-Reply-To: <20240301162553.30523-8-rnagadheeraj@marvell.com>
References: <20240301162553.30523-8-rnagadheeraj@marvell.com>
Content-Type: text/plain
X-BeenThere: test-report@dpdk.org
X-Mailman-Version: 2.1.29
Precedence: list
List-Id: automatic DPDK test reports <test-report.dpdk.org>
List-Unsubscribe: <https://mails.dpdk.org/options/test-report>,
 <mailto:test-report-request@dpdk.org?subject=unsubscribe>
List-Archive: <http://mails.dpdk.org/archives/test-report/>
List-Post: <mailto:test-report@dpdk.org>
List-Help: <mailto:test-report-request@dpdk.org?subject=help>
List-Subscribe: <https://mails.dpdk.org/listinfo/test-report>,
 <mailto:test-report-request@dpdk.org?subject=subscribe>
Errors-To: test-report-bounces@dpdk.org

Test-Label: iol-unit-amd64-testing
Test-Status: SUCCESS
http://dpdk.org/patch/137689

_Testing PASS_

Submitter: Nagadheeraj Rottela <rnagadheeraj@marvell.com>
Date: Friday, March 01 2024 16:25:53 
DPDK git baseline: Repo:dpdk
  Branch: master
  CommitID:5ac50824383c2683c0dfdf24c6dc493f1fa54852

137683-137689 --> testing pass

Test environment and result as below:

+------------------+----------------+
|   Environment    | dpdk_unit_test |
+==================+================+
| CentOS Stream 8  | PASS           |
+------------------+----------------+
| CentOS Stream 9  | PASS           |
+------------------+----------------+
| Debian Bullseye  | PASS           |
+------------------+----------------+
| Fedora 38        | PASS           |
+------------------+----------------+
| Debian 12 (arm)  | PASS           |
+------------------+----------------+
| Fedora 37        | PASS           |
+------------------+----------------+
| Ubuntu 20.04     | PASS           |
+------------------+----------------+
| RHEL8            | PASS           |
+------------------+----------------+
| Ubuntu 22.04     | PASS           |
+------------------+----------------+
| openSUSE Leap 15 | PASS           |
+------------------+----------------+


CentOS Stream 8
	Kernel: 4.18.0-240.10.1.el8_3.x86_64
	Compiler: gcc 8.4.1 20200928

CentOS Stream 9
	Kernel: 4.18.0-240.10.1.el8_3.x86_64
	Compiler: gcc 11.3.1 20220421

Debian Bullseye
	Kernel: 5.4.0-122-generic
	Compiler: gcc 10.2.1-6

Fedora 38
	Kernel: Depends on container host
	Compiler: gcc 13.1.1

Debian 12 (arm)
	Kernel: Container Host Kernel
	Compiler: gcc 11

Fedora 37
	Kernel: Depends on container host system
	Compiler: gcc 12.3.1

Ubuntu 20.04
	Kernel: 5.4.0-153-generic
	Compiler: gcc 9.4.0-1ubuntu1~20.04.1

RHEL8
	Kernel: 4.18.0-240.10.1.el8_3.x86_64
	Compiler: gcc 8.3.1 20191121 (Red Hat 8.3.1-5)

Ubuntu 22.04
	Kernel: 4.18.0-240.10.1.el8_3.x86_64
	Compiler: gcc 11.3.0

openSUSE Leap 15
	Kernel: 4.18.0-240.10.1.el8_3.x86_64
	Compiler: gcc 7.5.0

To view detailed results, visit:
https://lab.dpdk.org/results/dashboard/patchsets/29378/

UNH-IOL DPDK Community Lab

To manage your email subscriptions, visit: 
https://lab.dpdk.org/results/dashboard/preferences/subscriptions/