From mboxrd@z Thu Jan  1 00:00:00 1970
Return-Path: <test-report-bounces@dpdk.org>
Received: from mails.dpdk.org (mails.dpdk.org [217.70.189.124])
	by inbox.dpdk.org (Postfix) with ESMTP id 6697843C27
	for <public@inbox.dpdk.org>; Sat,  2 Mar 2024 02:23:40 +0100 (CET)
Received: from mails.dpdk.org (localhost [127.0.0.1])
	by mails.dpdk.org (Postfix) with ESMTP id 5E3354025D;
	Sat,  2 Mar 2024 02:23:40 +0100 (CET)
Received: from mail-pf1-f227.google.com (mail-pf1-f227.google.com
 [209.85.210.227])
 by mails.dpdk.org (Postfix) with ESMTP id 241124025C
 for <test-report@dpdk.org>; Sat,  2 Mar 2024 02:23:39 +0100 (CET)
Received: by mail-pf1-f227.google.com with SMTP id
 d2e1a72fcca58-6e55731af5cso2270515b3a.0
 for <test-report@dpdk.org>; Fri, 01 Mar 2024 17:23:39 -0800 (PST)
DKIM-Signature: v=1; a=rsa-sha256; c=relaxed/relaxed;
 d=iol.unh.edu; s=unh-iol; t=1709342618; x=1709947418; darn=dpdk.org;
 h=references:in-reply-to:cc:to:from:subject:message-id:date:from:to
 :cc:subject:date:message-id:reply-to;
 bh=I5VNw/a+Mk2VWhWgsdcETaqwnR428ZG4dcGfCw4+wtE=;
 b=NXNVysYzzuHB8MAYSuFCSJOB23e9kUheAYYMxVeBrj2U+bOv6/cb1qEJ9X1JrIe7Nv
 Q0th4xaJHlwW9fOGHLquao6x/oCOCoMJOAJkleDySQC3LvG7TjdUVm/C0mteefSZ0fzw
 56ryznvYdfVqEs65tCR7Pkep0ldW9CYS7KIIk=
X-Google-DKIM-Signature: v=1; a=rsa-sha256; c=relaxed/relaxed;
 d=1e100.net; s=20230601; t=1709342618; x=1709947418;
 h=references:in-reply-to:cc:to:from:subject:message-id:date
 :x-gm-message-state:from:to:cc:subject:date:message-id:reply-to;
 bh=I5VNw/a+Mk2VWhWgsdcETaqwnR428ZG4dcGfCw4+wtE=;
 b=cGSA7bNql9YJrG4pvqJinefATLtHsMhal20m6zmxheNF2N9p5gVWSEJ2eLas3cBCod
 ZvdHoINqGBfZnT6rq1z2U/EzruirGTlvEnt0H8MCm8aPA2kkGBEs8VXKVkVo7AxTVQ+g
 2Nx5I2NtASVM7moMNpv8kCJKZ93dhsa4QDKsbU5ACbDpA75ZdWsRzMNcKr8tyEMGBd6E
 F7ayddv8cqPunlYqbM1M4yj6SmpaQP51Cqd2eqqC0y8qzi21KuLqcEkeTOPGW2tCLpfm
 /xFpO+8AQn2vFrnilKWxSdS55Qp6d1b0nBN7q9q26CYo0Qt1OQO3T7II9xKUBfX6Cz8t
 XUgQ==
X-Gm-Message-State: AOJu0YzAalpuVFaOree99gR0DY+D8Bge4dvAnhocXwVACXaSp08ti131
 I9qM1uIk/77ExGKBoCJx591HvY+7AX+uYLLfAueQqnujuYBGrr+1YMZIh2LdpaPz9saYNPijTHV
 mUb+/70Ene5YnJZ9HICHvxAWCcxbddMfwjoWjCA8I
X-Google-Smtp-Source: AGHT+IHHxdAhj5JYk3si6eqbis9cquV2Bkffot5AA6UHpAp76Cfp8W/vBL/069GRG1MdomoTJjC7zezZsPvO
X-Received: by 2002:aa7:88cd:0:b0:6e5:561b:4670 with SMTP id
 k13-20020aa788cd000000b006e5561b4670mr3824486pff.30.1709342618429; 
 Fri, 01 Mar 2024 17:23:38 -0800 (PST)
Received: from postal.iol.unh.edu (postal.iol.unh.edu. [132.177.123.84])
 by smtp-relay.gmail.com with ESMTPS id
 y18-20020aa79e12000000b006e56e12b2c9sm166999pfq.10.2024.03.01.17.23.38
 (version=TLS1_2 cipher=ECDHE-ECDSA-AES128-GCM-SHA256 bits=128/128);
 Fri, 01 Mar 2024 17:23:38 -0800 (PST)
X-Relaying-Domain: iol.unh.edu
Date: Fri, 01 Mar 2024 17:23:38 -0800 (PST)
Message-ID: <65e27f9a.a70a0220.e753d.a2c7SMTPIN_ADDED_MISSING@mx.google.com>
Received: from [172.17.0.7] (unknown [172.18.0.217])
 by postal.iol.unh.edu (Postfix) with ESMTP id 9CE0A6052712;
 Fri,  1 Mar 2024 20:23:37 -0500 (EST)
Subject: |SUCCESS| pw137683-137689 [PATCH] [v4,7/7] compress/nitrox: support 
From: dpdklab@iol.unh.edu
To: Test Report <test-report@dpdk.org>
Cc: dpdk-test-reports@iol.unh.edu
In-Reply-To: <20240301162553.30523-8-rnagadheeraj@marvell.com>
References: <20240301162553.30523-8-rnagadheeraj@marvell.com>
Content-Type: text/plain
X-BeenThere: test-report@dpdk.org
X-Mailman-Version: 2.1.29
Precedence: list
List-Id: automatic DPDK test reports <test-report.dpdk.org>
List-Unsubscribe: <https://mails.dpdk.org/options/test-report>,
 <mailto:test-report-request@dpdk.org?subject=unsubscribe>
List-Archive: <http://mails.dpdk.org/archives/test-report/>
List-Post: <mailto:test-report@dpdk.org>
List-Help: <mailto:test-report-request@dpdk.org?subject=help>
List-Subscribe: <https://mails.dpdk.org/listinfo/test-report>,
 <mailto:test-report-request@dpdk.org?subject=subscribe>
Errors-To: test-report-bounces@dpdk.org

Test-Label: iol-unit-amd64-testing
Test-Status: SUCCESS
http://dpdk.org/patch/137689

_Testing PASS_

Submitter: Nagadheeraj Rottela <rnagadheeraj@marvell.com>
Date: Friday, March 01 2024 16:25:53 
DPDK git baseline: Repo:dpdk
  Branch: master
  CommitID:5ac50824383c2683c0dfdf24c6dc493f1fa54852

137683-137689 --> testing pass

Test environment and result as below:

+------------------+----------------+
|   Environment    | dpdk_unit_test |
+==================+================+
| CentOS Stream 8  | PASS           |
+------------------+----------------+
| CentOS Stream 9  | PASS           |
+------------------+----------------+
| Debian Bullseye  | PASS           |
+------------------+----------------+
| Fedora 38        | PASS           |
+------------------+----------------+
| Debian 12 (arm)  | PASS           |
+------------------+----------------+
| Fedora 37        | PASS           |
+------------------+----------------+
| Ubuntu 20.04     | PASS           |
+------------------+----------------+
| RHEL8            | PASS           |
+------------------+----------------+
| Ubuntu 22.04     | PASS           |
+------------------+----------------+
| openSUSE Leap 15 | PASS           |
+------------------+----------------+


CentOS Stream 8
	Kernel: 4.18.0-240.10.1.el8_3.x86_64
	Compiler: gcc 8.4.1 20200928

CentOS Stream 9
	Kernel: 4.18.0-240.10.1.el8_3.x86_64
	Compiler: gcc 11.3.1 20220421

Debian Bullseye
	Kernel: 5.4.0-122-generic
	Compiler: gcc 10.2.1-6

Fedora 38
	Kernel: Depends on container host
	Compiler: gcc 13.1.1

Debian 12 (arm)
	Kernel: Container Host Kernel
	Compiler: gcc 11

Fedora 37
	Kernel: Depends on container host system
	Compiler: gcc 12.3.1

Ubuntu 20.04
	Kernel: 5.4.0-153-generic
	Compiler: gcc 9.4.0-1ubuntu1~20.04.1

RHEL8
	Kernel: 4.18.0-240.10.1.el8_3.x86_64
	Compiler: gcc 8.3.1 20191121 (Red Hat 8.3.1-5)

Ubuntu 22.04
	Kernel: 4.18.0-240.10.1.el8_3.x86_64
	Compiler: gcc 11.3.0

openSUSE Leap 15
	Kernel: 4.18.0-240.10.1.el8_3.x86_64
	Compiler: gcc 7.5.0

To view detailed results, visit:
https://lab.dpdk.org/results/dashboard/patchsets/29378/

UNH-IOL DPDK Community Lab

To manage your email subscriptions, visit: 
https://lab.dpdk.org/results/dashboard/preferences/subscriptions/