From mboxrd@z Thu Jan  1 00:00:00 1970
Return-Path: <test-report-bounces@dpdk.org>
Received: from mails.dpdk.org (mails.dpdk.org [217.70.189.124])
	by inbox.dpdk.org (Postfix) with ESMTP id A9FF043C27
	for <public@inbox.dpdk.org>; Sat,  2 Mar 2024 02:23:53 +0100 (CET)
Received: from mails.dpdk.org (localhost [127.0.0.1])
	by mails.dpdk.org (Postfix) with ESMTP id A66E74025D;
	Sat,  2 Mar 2024 02:23:53 +0100 (CET)
Received: from mail-qv1-f97.google.com (mail-qv1-f97.google.com
 [209.85.219.97]) by mails.dpdk.org (Postfix) with ESMTP id 0E55B4025C
 for <test-report@dpdk.org>; Sat,  2 Mar 2024 02:23:53 +0100 (CET)
Received: by mail-qv1-f97.google.com with SMTP id
 6a1803df08f44-68f51ba7043so15380176d6.3
 for <test-report@dpdk.org>; Fri, 01 Mar 2024 17:23:53 -0800 (PST)
DKIM-Signature: v=1; a=rsa-sha256; c=relaxed/relaxed;
 d=iol.unh.edu; s=unh-iol; t=1709342632; x=1709947432; darn=dpdk.org;
 h=references:in-reply-to:cc:to:from:subject:message-id:date:from:to
 :cc:subject:date:message-id:reply-to;
 bh=85d0gCMF9x5X7W48ClS/LEumjko9RZmMY7hFeHH24do=;
 b=Teb4dBcvn4/leF/Z5I4iudYG2iNIHeaRy1U19CBEN8Qtul52VsFFOYIgnRlKCl2fiq
 uKwK0p6vjv6sGG/42H51ogb0/ie7xJOQwqVEcgDyn3Pu7k26bdRhbjHqtRPtTuF9ocXZ
 EhiUbjrsg0FyuGzFf1CdZ/Vt/MkHQViogBb2k=
X-Google-DKIM-Signature: v=1; a=rsa-sha256; c=relaxed/relaxed;
 d=1e100.net; s=20230601; t=1709342632; x=1709947432;
 h=references:in-reply-to:cc:to:from:subject:message-id:date
 :x-gm-message-state:from:to:cc:subject:date:message-id:reply-to;
 bh=85d0gCMF9x5X7W48ClS/LEumjko9RZmMY7hFeHH24do=;
 b=t1T+21osVs5KhbcsirKv6JGxvl9mvMNQzCPsyE6kzCS/MCqRGcvmc8QxRkNi2QJH/B
 PV6Ht1mSaAzJr/BAlQS3uJHYp0Hr7j9lTaufnaCZv7kPG+zoVTVcOsCOp63emKD+TEPY
 t0yKB2il5BtrvonsDd3RHVndQhO48XBOWiCJWIB6LpEy2ImWE+OE4O4Je/eTPIq5dcG2
 EAfEe3mfS7Q9omOSf2SiIvZWWmt/7o9xHS1HD49FeSnFF2GAcgg2ouw7ffuyOHHu+qPU
 xGHDtu5NuairVk9g5aLiJ2whKEMSp2HiRuEU45iS7p9q4BLlvr9yByE5gnhXxigF+EPa
 gENA==
X-Gm-Message-State: AOJu0YxJZi8u4Rsn7LCS6Qf/lanzs4R2abo/Obtn/G1n9KVyZzgVGu8Z
 +nESkkRoH7asbHvNdZLfZW4kdMVYZFfBQzEyBbUsUDw9zvQYW6TbHTGjU5aVlctJPlnsgqOT5xh
 ZXg5rliWNVm0U/R4+qPrrrUxtAFX68XiKukqKdHLQ
X-Google-Smtp-Source: AGHT+IG2leSWJGa90IqvduU1+dcG7YYLeIFXsfkT1fdf3mNjR627245ncynonFqjolx2Pnk2FKx5w7NayxCU
X-Received: by 2002:a05:6214:1884:b0:68f:47e2:c620 with SMTP id
 cx4-20020a056214188400b0068f47e2c620mr3221185qvb.49.1709342632509; 
 Fri, 01 Mar 2024 17:23:52 -0800 (PST)
Received: from postal.iol.unh.edu (postal.iol.unh.edu. [132.177.123.84])
 by smtp-relay.gmail.com with ESMTPS id
 s9-20020a0562140ca900b00690493ddf6fsm167852qvs.44.2024.03.01.17.23.52
 (version=TLS1_2 cipher=ECDHE-ECDSA-AES128-GCM-SHA256 bits=128/128);
 Fri, 01 Mar 2024 17:23:52 -0800 (PST)
X-Relaying-Domain: iol.unh.edu
Date: Fri, 01 Mar 2024 17:23:52 -0800 (PST)
Message-ID: <65e27fa8.050a0220.d83ec.b106SMTPIN_ADDED_MISSING@mx.google.com>
Received: from [172.17.0.7] (unknown [172.18.0.217])
 by postal.iol.unh.edu (Postfix) with ESMTP id 351E66052712;
 Fri,  1 Mar 2024 20:23:52 -0500 (EST)
Subject: |SUCCESS| pw137683-137689 [PATCH] [v4,7/7] compress/nitrox: support 
From: dpdklab@iol.unh.edu
To: Test Report <test-report@dpdk.org>
Cc: dpdk-test-reports@iol.unh.edu
In-Reply-To: <20240301162553.30523-8-rnagadheeraj@marvell.com>
References: <20240301162553.30523-8-rnagadheeraj@marvell.com>
Content-Type: text/plain
X-BeenThere: test-report@dpdk.org
X-Mailman-Version: 2.1.29
Precedence: list
List-Id: automatic DPDK test reports <test-report.dpdk.org>
List-Unsubscribe: <https://mails.dpdk.org/options/test-report>,
 <mailto:test-report-request@dpdk.org?subject=unsubscribe>
List-Archive: <http://mails.dpdk.org/archives/test-report/>
List-Post: <mailto:test-report@dpdk.org>
List-Help: <mailto:test-report-request@dpdk.org?subject=help>
List-Subscribe: <https://mails.dpdk.org/listinfo/test-report>,
 <mailto:test-report-request@dpdk.org?subject=subscribe>
Errors-To: test-report-bounces@dpdk.org

Test-Label: iol-compile-arm64-testing
Test-Status: SUCCESS
http://dpdk.org/patch/137689

_Testing PASS_

Submitter: Nagadheeraj Rottela <rnagadheeraj@marvell.com>
Date: Friday, March 01 2024 16:25:53 
DPDK git baseline: Repo:dpdk
  Branch: master
  CommitID:5ac50824383c2683c0dfdf24c6dc493f1fa54852

137683-137689 --> testing pass

Test environment and result as below:

+----------------------------------------+--------------------+
|              Environment               | dpdk_meson_compile |
+========================================+====================+
| Ubuntu 20.04 ARM SVE                   | PASS               |
+----------------------------------------+--------------------+
| Ubuntu 20.04 aarch32 GCC Cross Compile | PASS               |
+----------------------------------------+--------------------+
| Fedora 38 (ARM)                        | PASS               |
+----------------------------------------+--------------------+
| Ubuntu 20.04 (ARM)                     | PASS               |
+----------------------------------------+--------------------+
| CentOS Stream 9 (ARM)                  | PASS               |
+----------------------------------------+--------------------+
| Ubuntu 20.04 ARM Clang Cross Compile   | PASS               |
+----------------------------------------+--------------------+
| Debian 11 (Buster) (ARM)               | PASS               |
+----------------------------------------+--------------------+
| Fedora 37 (ARM)                        | PASS               |
+----------------------------------------+--------------------+
| Debian 12 (arm)                        | PASS               |
+----------------------------------------+--------------------+


Ubuntu 20.04 ARM SVE
	Kernel: 5.4.0-80-generic
	Compiler: gcc 10.3.0 (Ubuntu 10.3.0-1ubuntu1~20.04)

Ubuntu 20.04 aarch32 GCC Cross Compile
	Kernel: 5.4.0-72-generic
	Compiler: gcc 9.3.0

Fedora 38 (ARM)
	Kernel: Depends on container host
	Compiler: gcc 13.1.1

Ubuntu 20.04 (ARM)
	Kernel: Container Host Kernel
	Compiler: gcc 9.4.0

CentOS Stream 9 (ARM)
	Kernel: Container Host Kernel
	Compiler: gcc 11.3.1

Ubuntu 20.04 ARM Clang Cross Compile
	Kernel: 5.4.0-72-generic
	Compiler: clang version 10.0.0-4ubuntu1

Debian 11 (Buster) (ARM)
	Kernel: Container Host Kernel
	Compiler: gcc 10.2.1

Fedora 37 (ARM)
	Kernel: Depends on container host
	Compiler: gcc 12.3.1

Debian 12 (arm)
	Kernel: Container Host Kernel
	Compiler: gcc 11

To view detailed results, visit:
https://lab.dpdk.org/results/dashboard/patchsets/29378/

UNH-IOL DPDK Community Lab

To manage your email subscriptions, visit: 
https://lab.dpdk.org/results/dashboard/preferences/subscriptions/