From mboxrd@z Thu Jan  1 00:00:00 1970
Return-Path: <test-report-bounces@dpdk.org>
Received: from mails.dpdk.org (mails.dpdk.org [217.70.189.124])
	by inbox.dpdk.org (Postfix) with ESMTP id 76D1F43C27
	for <public@inbox.dpdk.org>; Sat,  2 Mar 2024 02:25:24 +0100 (CET)
Received: from mails.dpdk.org (localhost [127.0.0.1])
	by mails.dpdk.org (Postfix) with ESMTP id 6FCD34025D;
	Sat,  2 Mar 2024 02:25:24 +0100 (CET)
Received: from mail-io1-f97.google.com (mail-io1-f97.google.com
 [209.85.166.97]) by mails.dpdk.org (Postfix) with ESMTP id D6A194025C
 for <test-report@dpdk.org>; Sat,  2 Mar 2024 02:25:23 +0100 (CET)
Received: by mail-io1-f97.google.com with SMTP id
 ca18e2360f4ac-7c8357ec478so1382039f.2
 for <test-report@dpdk.org>; Fri, 01 Mar 2024 17:25:23 -0800 (PST)
DKIM-Signature: v=1; a=rsa-sha256; c=relaxed/relaxed;
 d=iol.unh.edu; s=unh-iol; t=1709342723; x=1709947523; darn=dpdk.org;
 h=references:in-reply-to:cc:to:from:subject:message-id:date:from:to
 :cc:subject:date:message-id:reply-to;
 bh=3F+tOcdBbdjkAI2RNE1CVNaRYqHU3aKXaXfjlDCcb0Q=;
 b=UW5bczVxEuCs5XE6jpkxU7DInh6bqF/H5o1lGltyIEZfp65P+cfKp4MtFBXQye+i3d
 bhrExwZ1wZKFMpzA5E50TGJ9mc5GNF24dCtho+lPjMgRWory7+gUoVmn2Zhd97SdP98u
 qg9pDifBSy2XIaL3QqKj8YPPN0bZrNFvZAyfM=
X-Google-DKIM-Signature: v=1; a=rsa-sha256; c=relaxed/relaxed;
 d=1e100.net; s=20230601; t=1709342723; x=1709947523;
 h=references:in-reply-to:cc:to:from:subject:message-id:date
 :x-gm-message-state:from:to:cc:subject:date:message-id:reply-to;
 bh=3F+tOcdBbdjkAI2RNE1CVNaRYqHU3aKXaXfjlDCcb0Q=;
 b=irxpMmMM7WsIe9hYEGVwgClA+sVps+Za39Dh3jYGzf/qL/8Z4S3tOiCRy6cyJiGffj
 /gfEhAK42V0zOHoXPuy34oXK/nLHK8aiOVir4uxthjYifDN/ln8opCWinMUmi0JAFj2S
 Kel08nsTLl7rshHRiGCmYskTDh2yIRMDJz9OYPN0prSmx4y1ydwYFKWNhJDGup0uO3tY
 h8C1kILIy8EjyGY3mtEpyXx7UzA0le4ENO/VjIXYaLbflOteIrRu+S7TL8fL0xUMHna7
 Rjk31Fp+eXWJAcSX8gH5y712BxnzBQmixsBjtXTzFlcOgRTcPl7A7a5SpEe1kBByD1Pt
 j9sQ==
X-Gm-Message-State: AOJu0YyR1X+SxIU7WeI7VnD2/xwzMtBPzQVtE/v9JbqNfA+3UukkdVGk
 uUCsPlGVPjda0GTZ/IL22d1EEpJT39vvOJzm+i1c/bZv0TYH1xfETzc6seqj2fh03tIuJSWSzM8
 +SuJaqMrzhMW02/R0ijuaIWMTIA4T44cilLYPNyA/u/HIO22+hjpeIpYX
X-Google-Smtp-Source: AGHT+IEdwN9UCE+2rTwBTDkm+qZZJ01kN3niE0STLlU472Kk2eUppWaevOZBiwWvq4/+hngyqceU9YGnyxWi
X-Received: by 2002:a6b:dd05:0:b0:7c7:b545:df6d with SMTP id
 f5-20020a6bdd05000000b007c7b545df6dmr3543393ioc.3.1709342723333; 
 Fri, 01 Mar 2024 17:25:23 -0800 (PST)
Received: from postal.iol.unh.edu (postal.iol.unh.edu.
 [2606:4100:3880:1234::84]) by smtp-relay.gmail.com with ESMTPS id
 m2-20020a056638224200b0047412ae31c4sm135771jas.28.2024.03.01.17.25.23
 (version=TLS1_2 cipher=ECDHE-ECDSA-AES128-GCM-SHA256 bits=128/128);
 Fri, 01 Mar 2024 17:25:23 -0800 (PST)
X-Relaying-Domain: iol.unh.edu
Date: Fri, 01 Mar 2024 17:25:23 -0800 (PST)
Message-ID: <65e28003.050a0220.4d2de.8e80SMTPIN_ADDED_MISSING@mx.google.com>
Received: from [172.17.0.7] (unknown [172.18.0.217])
 by postal.iol.unh.edu (Postfix) with ESMTP id D63676052712;
 Fri,  1 Mar 2024 20:25:22 -0500 (EST)
Subject: |SUCCESS| pw137691-137761 [PATCH] [v2,71/71] examples: replace use o
From: dpdklab@iol.unh.edu
To: Test Report <test-report@dpdk.org>
Cc: dpdk-test-reports@iol.unh.edu
In-Reply-To: <20240301171707.95242-72-stephen@networkplumber.org>
References: <20240301171707.95242-72-stephen@networkplumber.org>
Content-Type: text/plain
X-BeenThere: test-report@dpdk.org
X-Mailman-Version: 2.1.29
Precedence: list
List-Id: automatic DPDK test reports <test-report.dpdk.org>
List-Unsubscribe: <https://mails.dpdk.org/options/test-report>,
 <mailto:test-report-request@dpdk.org?subject=unsubscribe>
List-Archive: <http://mails.dpdk.org/archives/test-report/>
List-Post: <mailto:test-report@dpdk.org>
List-Help: <mailto:test-report-request@dpdk.org?subject=help>
List-Subscribe: <https://mails.dpdk.org/listinfo/test-report>,
 <mailto:test-report-request@dpdk.org?subject=subscribe>
Errors-To: test-report-bounces@dpdk.org

Test-Label: iol-compile-arm64-testing
Test-Status: SUCCESS
http://dpdk.org/patch/137761

_Testing PASS_

Submitter: Stephen Hemminger <stephen@networkplumber.org>
Date: Friday, March 01 2024 17:16:07 
DPDK git baseline: Repo:dpdk
  Branch: master
  CommitID:5df34de5808a7b826b8bc035d6ee3161a12be364

137691-137761 --> testing pass

Test environment and result as below:

+----------------------------------------+--------------------+
|              Environment               | dpdk_meson_compile |
+========================================+====================+
| Ubuntu 20.04 ARM SVE                   | PASS               |
+----------------------------------------+--------------------+
| Debian 11 (Buster) (ARM)               | PASS               |
+----------------------------------------+--------------------+
| Fedora 38 (ARM)                        | PASS               |
+----------------------------------------+--------------------+
| Ubuntu 20.04 aarch32 GCC Cross Compile | PASS               |
+----------------------------------------+--------------------+
| Ubuntu 20.04 ARM GCC Cross Compile     | PASS               |
+----------------------------------------+--------------------+
| CentOS Stream 9 (ARM)                  | PASS               |
+----------------------------------------+--------------------+
| Ubuntu 20.04 (ARM)                     | PASS               |
+----------------------------------------+--------------------+
| Fedora 37 (ARM)                        | PASS               |
+----------------------------------------+--------------------+
| Debian 12 (arm)                        | PASS               |
+----------------------------------------+--------------------+
| Ubuntu 20.04 ARM Clang Cross Compile   | PASS               |
+----------------------------------------+--------------------+
| Fedora 38 (ARM Clang)                  | PASS               |
+----------------------------------------+--------------------+


Ubuntu 20.04 ARM SVE
	Kernel: 5.4.0-80-generic
	Compiler: gcc 10.3.0 (Ubuntu 10.3.0-1ubuntu1~20.04)

Debian 11 (Buster) (ARM)
	Kernel: Container Host Kernel
	Compiler: gcc 10.2.1

Fedora 38 (ARM)
	Kernel: Depends on container host
	Compiler: gcc 13.1.1

Ubuntu 20.04 aarch32 GCC Cross Compile
	Kernel: 5.4.0-72-generic
	Compiler: gcc 9.3.0

Ubuntu 20.04 ARM GCC Cross Compile
	Kernel: 5.4.0-72-generic
	Compiler: aarch64-linux-gnu-gcc (Ubuntu 9.3.0-17ubuntu1~20.04) 9.3.0

CentOS Stream 9 (ARM)
	Kernel: Container Host Kernel
	Compiler: gcc 11.3.1

Ubuntu 20.04 (ARM)
	Kernel: Container Host Kernel
	Compiler: gcc 9.4.0

Fedora 37 (ARM)
	Kernel: Depends on container host
	Compiler: gcc 12.3.1

Debian 12 (arm)
	Kernel: Container Host Kernel
	Compiler: gcc 11

Ubuntu 20.04 ARM Clang Cross Compile
	Kernel: 5.4.0-72-generic
	Compiler: clang version 10.0.0-4ubuntu1

Fedora 38 (ARM Clang)
	Kernel: Depends on container host
	Compiler: clang 16.0.3

To view detailed results, visit:
https://lab.dpdk.org/results/dashboard/patchsets/29380/

UNH-IOL DPDK Community Lab

To manage your email subscriptions, visit: 
https://lab.dpdk.org/results/dashboard/preferences/subscriptions/