From mboxrd@z Thu Jan  1 00:00:00 1970
Return-Path: <test-report-bounces@dpdk.org>
Received: from mails.dpdk.org (mails.dpdk.org [217.70.189.124])
	by inbox.dpdk.org (Postfix) with ESMTP id 0C2EA43C27
	for <public@inbox.dpdk.org>; Sat,  2 Mar 2024 02:42:41 +0100 (CET)
Received: from mails.dpdk.org (localhost [127.0.0.1])
	by mails.dpdk.org (Postfix) with ESMTP id 055C14025D;
	Sat,  2 Mar 2024 02:42:41 +0100 (CET)
Received: from mail-oo1-f98.google.com (mail-oo1-f98.google.com
 [209.85.161.98]) by mails.dpdk.org (Postfix) with ESMTP id D66A94025C
 for <test-report@dpdk.org>; Sat,  2 Mar 2024 02:42:38 +0100 (CET)
Received: by mail-oo1-f98.google.com with SMTP id
 006d021491bc7-5a109a03276so497653eaf.1
 for <test-report@dpdk.org>; Fri, 01 Mar 2024 17:42:38 -0800 (PST)
DKIM-Signature: v=1; a=rsa-sha256; c=relaxed/relaxed;
 d=iol.unh.edu; s=unh-iol; t=1709343758; x=1709948558; darn=dpdk.org;
 h=references:in-reply-to:cc:to:from:subject:message-id:date:from:to
 :cc:subject:date:message-id:reply-to;
 bh=qKQ2jg4zgq2eRrhP9VBgJa9P3+uy611S8J17tNpqvn0=;
 b=B6C7wQUKrkCPPtFQ/h8eRgo4pqdvorjqOSbxZCiAtas5ZkEyeIYO/Qz89r+Rtd9YIx
 DspaIFvzVhzR9YzR8bsGkAKslWYn0ylLoLqhE9iUnP6G7KQjh3yQSzR87+CjPrRg8K5u
 2nBRNADNbspRQH6vMktmI5aRBIJEihk608cuE=
X-Google-DKIM-Signature: v=1; a=rsa-sha256; c=relaxed/relaxed;
 d=1e100.net; s=20230601; t=1709343758; x=1709948558;
 h=references:in-reply-to:cc:to:from:subject:message-id:date
 :x-gm-message-state:from:to:cc:subject:date:message-id:reply-to;
 bh=qKQ2jg4zgq2eRrhP9VBgJa9P3+uy611S8J17tNpqvn0=;
 b=RfH0ByvFpqe3GgX1g1WcJwyNKsJCMHjGLL1HcD+4obFPd/1moDkqk1LZb0O6XZpCmG
 d+/ffLuwux1gY+Sppgv7Xc3iL1qGvlxiC2AZT7FIhRNbh4RJlOMmEUkAZlNh7kI77THQ
 Dp3MACEQoLmWCKPUsq/+02Zollv22fc2et7NXgsAHP8rvdQeLmjhhoih7+fh1H54UXcT
 6umNH/XDpxVC9NYU7+qdNU21htTJn7T5UI0NHN/jHV1hC29J6ow86XFsYwoiuyRmwl0G
 yMfI7tBC30brA7A50IFuB/F/4+85oTcF3AmfjpBOcgBXL7F0P2uVOEtuHDqvPTSqSdiD
 EuYw==
X-Gm-Message-State: AOJu0YzIBl3fVbkI6i+IPXErDRbOKvPKEE75fhcd4GcQGdhXY153J+7K
 hgFEP8pU/tnFeJeAw4kwFz7CUTZnYH5Vhfgi2dCwVTSk3R/pa4XwPgR8XsBSQr7Ee0mR06vI2ch
 nP2jV5EQyxXg/K1aBHlW0mIASzTk7rXR0If4kvznP
X-Google-Smtp-Source: AGHT+IGv5xlVMn41yCRPDvjrKzHK0Nx0NzMzifyL6gdI83ZbOnwzu93HD452SoNpiBXcQ5c3/fF5mkQnKGPF
X-Received: by 2002:a05:6358:7603:b0:17b:5c4b:90a with SMTP id
 r3-20020a056358760300b0017b5c4b090amr3494736rwg.5.1709343758164; 
 Fri, 01 Mar 2024 17:42:38 -0800 (PST)
Received: from postal.iol.unh.edu (postal.iol.unh.edu. [132.177.123.84])
 by smtp-relay.gmail.com with ESMTPS id
 u9-20020ad45aa9000000b0068f5bdfd4easm195452qvg.50.2024.03.01.17.42.38
 (version=TLS1_2 cipher=ECDHE-ECDSA-AES128-GCM-SHA256 bits=128/128);
 Fri, 01 Mar 2024 17:42:38 -0800 (PST)
X-Relaying-Domain: iol.unh.edu
Date: Fri, 01 Mar 2024 17:42:38 -0800 (PST)
Message-ID: <65e2840e.d40a0220.40134.d183SMTPIN_ADDED_MISSING@mx.google.com>
Received: from [172.21.0.6] (unknown [172.18.0.240])
 by postal.iol.unh.edu (Postfix) with ESMTP id DF2E46052712;
 Fri,  1 Mar 2024 20:42:37 -0500 (EST)
Subject: |SUCCESS| pw137678 [PATCH] [v5] common/qat: add virtual qat device (
From: dpdklab@iol.unh.edu
To: Test Report <test-report@dpdk.org>
Cc: dpdk-test-reports@iol.unh.edu
In-Reply-To: <20240301151923.4906-1-arkadiuszx.kusztal@intel.com>
References: <20240301151923.4906-1-arkadiuszx.kusztal@intel.com>
Content-Type: text/plain
X-BeenThere: test-report@dpdk.org
X-Mailman-Version: 2.1.29
Precedence: list
List-Id: automatic DPDK test reports <test-report.dpdk.org>
List-Unsubscribe: <https://mails.dpdk.org/options/test-report>,
 <mailto:test-report-request@dpdk.org?subject=unsubscribe>
List-Archive: <http://mails.dpdk.org/archives/test-report/>
List-Post: <mailto:test-report@dpdk.org>
List-Help: <mailto:test-report-request@dpdk.org?subject=help>
List-Subscribe: <https://mails.dpdk.org/listinfo/test-report>,
 <mailto:test-report-request@dpdk.org?subject=subscribe>
Errors-To: test-report-bounces@dpdk.org

Test-Label: iol-unit-arm64-testing
Test-Status: SUCCESS
http://dpdk.org/patch/137678

_Testing PASS_

Submitter: Arkadiusz Kusztal <arkadiuszx.kusztal@intel.com>
Date: Friday, March 01 2024 15:19:23 
DPDK git baseline: Repo:dpdk
  Branch: master
  CommitID:5ac50824383c2683c0dfdf24c6dc493f1fa54852

137678 --> testing pass

Test environment and result as below:

+--------------------------+----------------+---------------------------+------------------------------+--------------+
|       Environment        | dpdk_unit_test | cryptodev_sw_zuc_autotest | cryptodev_sw_snow3g_autotest | lpm_autotest |
+==========================+================+===========================+==============================+==============+
| CentOS Stream 9 (ARM)    | PASS           | SKIPPED                   | SKIPPED                      | SKIPPED      |
+--------------------------+----------------+---------------------------+------------------------------+--------------+
| Fedora 37 (ARM)          | PASS           | SKIPPED                   | SKIPPED                      | SKIPPED      |
+--------------------------+----------------+---------------------------+------------------------------+--------------+
| Debian 12 (arm)          | PASS           | PASS                      | PASS                         | SKIPPED      |
+--------------------------+----------------+---------------------------+------------------------------+--------------+
| Debian 11 (Buster) (ARM) | PASS           | SKIPPED                   | SKIPPED                      | SKIPPED      |
+--------------------------+----------------+---------------------------+------------------------------+--------------+
| Fedora 38 (ARM)          | PASS           | SKIPPED                   | SKIPPED                      | SKIPPED      |
+--------------------------+----------------+---------------------------+------------------------------+--------------+
| Ubuntu 20.04 (ARM)       | PASS           | SKIPPED                   | SKIPPED                      | SKIPPED      |
+--------------------------+----------------+---------------------------+------------------------------+--------------+
| Ubuntu 20.04 ARM SVE     | SKIPPED        | SKIPPED                   | SKIPPED                      | PASS         |
+--------------------------+----------------+---------------------------+------------------------------+--------------+


CentOS Stream 9 (ARM)
	Kernel: Container Host Kernel
	Compiler: gcc 11.3.1

Fedora 37 (ARM)
	Kernel: Depends on container host
	Compiler: gcc 12.3.1

Debian 12 (arm)
	Kernel: Container Host Kernel
	Compiler: gcc 11

Debian 11 (Buster) (ARM)
	Kernel: Container Host Kernel
	Compiler: gcc 10.2.1

Fedora 38 (ARM)
	Kernel: Depends on container host
	Compiler: gcc 13.1.1

Ubuntu 20.04 (ARM)
	Kernel: Container Host Kernel
	Compiler: gcc 9.4.0

Ubuntu 20.04 ARM SVE
	Kernel: 5.4.0-80-generic
	Compiler: gcc 10.3.0 (Ubuntu 10.3.0-1ubuntu1~20.04)

To view detailed results, visit:
https://lab.dpdk.org/results/dashboard/patchsets/29375/

UNH-IOL DPDK Community Lab

To manage your email subscriptions, visit: 
https://lab.dpdk.org/results/dashboard/preferences/subscriptions/