From mboxrd@z Thu Jan  1 00:00:00 1970
Return-Path: <test-report-bounces@dpdk.org>
Received: from mails.dpdk.org (mails.dpdk.org [217.70.189.124])
	by inbox.dpdk.org (Postfix) with ESMTP id 413E543C27
	for <public@inbox.dpdk.org>; Sat,  2 Mar 2024 02:52:16 +0100 (CET)
Received: from mails.dpdk.org (localhost [127.0.0.1])
	by mails.dpdk.org (Postfix) with ESMTP id 3D3344025D;
	Sat,  2 Mar 2024 02:52:16 +0100 (CET)
Received: from mail-ot1-f98.google.com (mail-ot1-f98.google.com
 [209.85.210.98]) by mails.dpdk.org (Postfix) with ESMTP id 76AA84025C
 for <test-report@dpdk.org>; Sat,  2 Mar 2024 02:52:14 +0100 (CET)
Received: by mail-ot1-f98.google.com with SMTP id
 46e09a7af769-6e48153c13aso1426690a34.3
 for <test-report@dpdk.org>; Fri, 01 Mar 2024 17:52:14 -0800 (PST)
DKIM-Signature: v=1; a=rsa-sha256; c=relaxed/relaxed;
 d=iol.unh.edu; s=unh-iol; t=1709344334; x=1709949134; darn=dpdk.org;
 h=references:in-reply-to:cc:to:from:subject:message-id:date:from:to
 :cc:subject:date:message-id:reply-to;
 bh=qKQ2jg4zgq2eRrhP9VBgJa9P3+uy611S8J17tNpqvn0=;
 b=HcI1PIkDI715gPtL+SJBBTxqt3+FTXNwikfAszN625ufuecxFxZbV1p+k762WkL2OS
 2p5lII5CoAlSj7JVSTnNp23fQISk1uX1kjio8x9lPxW4tPThY6X9ar3c1Ft4Kj3TympA
 9hbOdkiZcfoV5rT7D3eTqy37+feikGLbPTf2Q=
X-Google-DKIM-Signature: v=1; a=rsa-sha256; c=relaxed/relaxed;
 d=1e100.net; s=20230601; t=1709344334; x=1709949134;
 h=references:in-reply-to:cc:to:from:subject:message-id:date
 :x-gm-message-state:from:to:cc:subject:date:message-id:reply-to;
 bh=qKQ2jg4zgq2eRrhP9VBgJa9P3+uy611S8J17tNpqvn0=;
 b=gv6L+hMxRHNNFm3rwy1KCGw7G4wBLfdI4YaFZwNZQ03bmtcM1qTgXde+LRqCzP2EPN
 f2URgwA0BguCALoWa0HnlJTj4qyGeYUCqJt+08V5C2Db2NPl0Qk6gAE+C1GPe5TRke45
 GfLryiY3QvxHllega2n4BOg98pQXv21bJRtfbGzCAA8FSLPZQGDEbhE+WcGenui76hVO
 +Ow/Gm4ke+lnEwzmmzucaX30CncpQ/SXvq1sZp0K1gNR08B4ojNyn7xj7wIG9ntdGvMw
 VAqB5ylsJILbOfCh19kJgIe7pqcJk/aFClebGECIkVV922dvHAG21QeFdKsp6+89wD1F
 0blQ==
X-Gm-Message-State: AOJu0YxKY+yMu2umI89My4DxAtJl5OSBpg+L0x9YUtfCUBDyZl/HQ6Gs
 Pb2SG12kIqMYnAryJ4t1XmgwJ4QH8JRJURLlWQCBcjp4QTsX0jww6wl7qfRLM4YpfrUN2LZmTFj
 pwHF+dLrfgy9LMaQSCvmMblO5BLgePJk5NHPdvN1C
X-Google-Smtp-Source: AGHT+IGYB/iXtHWdGkAKVyR1hYJrKqK9ekBlhZ2x0b8GDtZAl12MEdMU72fvFqu51Rr46mXMOjF9T1+yJi7t
X-Received: by 2002:a05:6830:1e5a:b0:6e4:9e38:37a7 with SMTP id
 e26-20020a0568301e5a00b006e49e3837a7mr3575832otj.23.1709344333872; 
 Fri, 01 Mar 2024 17:52:13 -0800 (PST)
Received: from postal.iol.unh.edu (postal.iol.unh.edu. [132.177.123.84])
 by smtp-relay.gmail.com with ESMTPS id
 r25-20020a056830121900b006e481c0034asm215549otp.14.2024.03.01.17.52.13
 (version=TLS1_2 cipher=ECDHE-ECDSA-AES128-GCM-SHA256 bits=128/128);
 Fri, 01 Mar 2024 17:52:13 -0800 (PST)
X-Relaying-Domain: iol.unh.edu
Date: Fri, 01 Mar 2024 17:52:13 -0800 (PST)
Message-ID: <65e2864d.050a0220.112e.c92fSMTPIN_ADDED_MISSING@mx.google.com>
Received: from [172.21.0.6] (unknown [172.18.0.240])
 by postal.iol.unh.edu (Postfix) with ESMTP id 5B21A6052712;
 Fri,  1 Mar 2024 20:52:13 -0500 (EST)
Subject: |SUCCESS| pw137678 [PATCH] [v5] common/qat: add virtual qat device (
From: dpdklab@iol.unh.edu
To: Test Report <test-report@dpdk.org>
Cc: dpdk-test-reports@iol.unh.edu
In-Reply-To: <20240301151923.4906-1-arkadiuszx.kusztal@intel.com>
References: <20240301151923.4906-1-arkadiuszx.kusztal@intel.com>
Content-Type: text/plain
X-BeenThere: test-report@dpdk.org
X-Mailman-Version: 2.1.29
Precedence: list
List-Id: automatic DPDK test reports <test-report.dpdk.org>
List-Unsubscribe: <https://mails.dpdk.org/options/test-report>,
 <mailto:test-report-request@dpdk.org?subject=unsubscribe>
List-Archive: <http://mails.dpdk.org/archives/test-report/>
List-Post: <mailto:test-report@dpdk.org>
List-Help: <mailto:test-report-request@dpdk.org?subject=help>
List-Subscribe: <https://mails.dpdk.org/listinfo/test-report>,
 <mailto:test-report-request@dpdk.org?subject=subscribe>
Errors-To: test-report-bounces@dpdk.org

Test-Label: iol-unit-arm64-testing
Test-Status: SUCCESS
http://dpdk.org/patch/137678

_Testing PASS_

Submitter: Arkadiusz Kusztal <arkadiuszx.kusztal@intel.com>
Date: Friday, March 01 2024 15:19:23 
DPDK git baseline: Repo:dpdk
  Branch: master
  CommitID:5ac50824383c2683c0dfdf24c6dc493f1fa54852

137678 --> testing pass

Test environment and result as below:

+--------------------------+----------------+---------------------------+------------------------------+--------------+
|       Environment        | dpdk_unit_test | cryptodev_sw_zuc_autotest | cryptodev_sw_snow3g_autotest | lpm_autotest |
+==========================+================+===========================+==============================+==============+
| CentOS Stream 9 (ARM)    | PASS           | SKIPPED                   | SKIPPED                      | SKIPPED      |
+--------------------------+----------------+---------------------------+------------------------------+--------------+
| Fedora 37 (ARM)          | PASS           | SKIPPED                   | SKIPPED                      | SKIPPED      |
+--------------------------+----------------+---------------------------+------------------------------+--------------+
| Debian 12 (arm)          | PASS           | PASS                      | PASS                         | SKIPPED      |
+--------------------------+----------------+---------------------------+------------------------------+--------------+
| Debian 11 (Buster) (ARM) | PASS           | SKIPPED                   | SKIPPED                      | SKIPPED      |
+--------------------------+----------------+---------------------------+------------------------------+--------------+
| Fedora 38 (ARM)          | PASS           | SKIPPED                   | SKIPPED                      | SKIPPED      |
+--------------------------+----------------+---------------------------+------------------------------+--------------+
| Ubuntu 20.04 (ARM)       | PASS           | SKIPPED                   | SKIPPED                      | SKIPPED      |
+--------------------------+----------------+---------------------------+------------------------------+--------------+
| Ubuntu 20.04 ARM SVE     | SKIPPED        | SKIPPED                   | SKIPPED                      | PASS         |
+--------------------------+----------------+---------------------------+------------------------------+--------------+


CentOS Stream 9 (ARM)
	Kernel: Container Host Kernel
	Compiler: gcc 11.3.1

Fedora 37 (ARM)
	Kernel: Depends on container host
	Compiler: gcc 12.3.1

Debian 12 (arm)
	Kernel: Container Host Kernel
	Compiler: gcc 11

Debian 11 (Buster) (ARM)
	Kernel: Container Host Kernel
	Compiler: gcc 10.2.1

Fedora 38 (ARM)
	Kernel: Depends on container host
	Compiler: gcc 13.1.1

Ubuntu 20.04 (ARM)
	Kernel: Container Host Kernel
	Compiler: gcc 9.4.0

Ubuntu 20.04 ARM SVE
	Kernel: 5.4.0-80-generic
	Compiler: gcc 10.3.0 (Ubuntu 10.3.0-1ubuntu1~20.04)

To view detailed results, visit:
https://lab.dpdk.org/results/dashboard/patchsets/29375/

UNH-IOL DPDK Community Lab

To manage your email subscriptions, visit: 
https://lab.dpdk.org/results/dashboard/preferences/subscriptions/