From mboxrd@z Thu Jan  1 00:00:00 1970
Return-Path: <test-report-bounces@dpdk.org>
Received: from mails.dpdk.org (mails.dpdk.org [217.70.189.124])
	by inbox.dpdk.org (Postfix) with ESMTP id 6EF4643C27
	for <public@inbox.dpdk.org>; Sat,  2 Mar 2024 02:52:46 +0100 (CET)
Received: from mails.dpdk.org (localhost [127.0.0.1])
	by mails.dpdk.org (Postfix) with ESMTP id 651674025D;
	Sat,  2 Mar 2024 02:52:46 +0100 (CET)
Received: from mail-io1-f99.google.com (mail-io1-f99.google.com
 [209.85.166.99]) by mails.dpdk.org (Postfix) with ESMTP id AFD804025C
 for <test-report@dpdk.org>; Sat,  2 Mar 2024 02:52:44 +0100 (CET)
Received: by mail-io1-f99.google.com with SMTP id
 ca18e2360f4ac-7c7894b39edso115171539f.3
 for <test-report@dpdk.org>; Fri, 01 Mar 2024 17:52:44 -0800 (PST)
DKIM-Signature: v=1; a=rsa-sha256; c=relaxed/relaxed;
 d=iol.unh.edu; s=unh-iol; t=1709344364; x=1709949164; darn=dpdk.org;
 h=references:in-reply-to:cc:to:from:subject:message-id:date:from:to
 :cc:subject:date:message-id:reply-to;
 bh=DbFg55ULRRP+tePp+k7ebKdRHI/INZ/kPyqDDaG4k/A=;
 b=NVbphDb+1EI8fPXWR0rAXvkSL/MwC+aJmx+WYlnXa7BnuWwvo/5zUlwM7XyZNv9t8b
 GYY3XS75PA15NlCiM7f/kIJrF0uMkj5oe9VG+8qzgbxR9tysLuoxif9mDwzCdqcyuztT
 RGmABlZs/cyxfHL2ghI1YeQ6VQOnysFkozFXI=
X-Google-DKIM-Signature: v=1; a=rsa-sha256; c=relaxed/relaxed;
 d=1e100.net; s=20230601; t=1709344364; x=1709949164;
 h=references:in-reply-to:cc:to:from:subject:message-id:date
 :x-gm-message-state:from:to:cc:subject:date:message-id:reply-to;
 bh=DbFg55ULRRP+tePp+k7ebKdRHI/INZ/kPyqDDaG4k/A=;
 b=XrKhD3aG1o2nNaeBalEpKPcQZbIzI/NCkTS1ipdG4Cie4v81pm033JFlSrPehY7cx+
 7tgdxFH0z/d4L2bbFzE4MaZPtuN7kKkJGHuIqjqbPoB/pGK6i8w6C0wC+5uqFfgJcyq3
 UutXcgwUvtdFKJrEZkjrOag1LdXS5MU6ozliVI0vUZ6NUZuDrJJducHpSv4uo675Jhcr
 Lqhuow50JG7vsp7stEwy1/RjxyuNrHGyBARLL00bNPHk6pSTN1iG2459fyximGaiDcik
 lAlHIurtryu+yL0ycx+i5LW1oxmFuyjzSAvCO+8fyYnGrnOM289pI8mE2Pa/eZxXCIPi
 Np+w==
X-Gm-Message-State: AOJu0YztpOQqoU4fBd+EewribkD764liLkEAheFW7ZCH1b2jtiLmBOLO
 WQrwmHyvbsB/wPjBFLIXxFULOKw/FfdPEVEKoVgS+qH/akeqRw6w0WhhKl33MBzd6JjW7KBiGgm
 cYnNM02vIq4Lxs9zFgwem478NjbOWv//zcndPPW69
X-Google-Smtp-Source: AGHT+IGxjox7HtZ4lAG7vPDaOkHNt+KkEJdfc47cKlIZfzGoz4FahXmP1HxWAl/MsHvFTs/2oLo6A+fnwDX2
X-Received: by 2002:a6b:6601:0:b0:7c7:cd3b:9e69 with SMTP id
 a1-20020a6b6601000000b007c7cd3b9e69mr3819832ioc.3.1709344363914; 
 Fri, 01 Mar 2024 17:52:43 -0800 (PST)
Received: from postal.iol.unh.edu (postal.iol.unh.edu. [132.177.123.84])
 by smtp-relay.gmail.com with ESMTPS id
 s21-20020a056638259500b0047112df014bsm120992jat.4.2024.03.01.17.52.43
 (version=TLS1_2 cipher=ECDHE-ECDSA-AES128-GCM-SHA256 bits=128/128);
 Fri, 01 Mar 2024 17:52:43 -0800 (PST)
X-Relaying-Domain: iol.unh.edu
Date: Fri, 01 Mar 2024 17:52:43 -0800 (PST)
Message-ID: <65e2866b.050a0220.7c6f5.7d22SMTPIN_ADDED_MISSING@mx.google.com>
Received: from [172.17.0.8] (unknown [172.18.0.217])
 by postal.iol.unh.edu (Postfix) with ESMTP id 50A596052712;
 Fri,  1 Mar 2024 20:52:43 -0500 (EST)
Subject: |SUCCESS| pw137678 [PATCH] [v5] common/qat: add virtual qat device (
From: dpdklab@iol.unh.edu
To: Test Report <test-report@dpdk.org>
Cc: dpdk-test-reports@iol.unh.edu
In-Reply-To: <20240301151923.4906-1-arkadiuszx.kusztal@intel.com>
References: <20240301151923.4906-1-arkadiuszx.kusztal@intel.com>
Content-Type: text/plain
X-BeenThere: test-report@dpdk.org
X-Mailman-Version: 2.1.29
Precedence: list
List-Id: automatic DPDK test reports <test-report.dpdk.org>
List-Unsubscribe: <https://mails.dpdk.org/options/test-report>,
 <mailto:test-report-request@dpdk.org?subject=unsubscribe>
List-Archive: <http://mails.dpdk.org/archives/test-report/>
List-Post: <mailto:test-report@dpdk.org>
List-Help: <mailto:test-report-request@dpdk.org?subject=help>
List-Subscribe: <https://mails.dpdk.org/listinfo/test-report>,
 <mailto:test-report-request@dpdk.org?subject=subscribe>
Errors-To: test-report-bounces@dpdk.org

Test-Label: iol-unit-amd64-testing
Test-Status: SUCCESS
http://dpdk.org/patch/137678

_Testing PASS_

Submitter: Arkadiusz Kusztal <arkadiuszx.kusztal@intel.com>
Date: Friday, March 01 2024 15:19:23 
DPDK git baseline: Repo:dpdk
  Branch: master
  CommitID:5ac50824383c2683c0dfdf24c6dc493f1fa54852

137678 --> testing pass

Test environment and result as below:

+------------------+----------------+
|   Environment    | dpdk_unit_test |
+==================+================+
| CentOS Stream 9  | PASS           |
+------------------+----------------+
| Debian 12 (arm)  | PASS           |
+------------------+----------------+
| Debian Bullseye  | PASS           |
+------------------+----------------+
| CentOS Stream 8  | PASS           |
+------------------+----------------+
| Fedora 37        | PASS           |
+------------------+----------------+
| Fedora 38        | PASS           |
+------------------+----------------+
| Ubuntu 20.04     | PASS           |
+------------------+----------------+
| openSUSE Leap 15 | PASS           |
+------------------+----------------+
| RHEL8            | PASS           |
+------------------+----------------+
| Ubuntu 22.04     | PASS           |
+------------------+----------------+


CentOS Stream 9
	Kernel: 4.18.0-240.10.1.el8_3.x86_64
	Compiler: gcc 11.3.1 20220421

Debian 12 (arm)
	Kernel: Container Host Kernel
	Compiler: gcc 11

Debian Bullseye
	Kernel: 5.4.0-122-generic
	Compiler: gcc 10.2.1-6

CentOS Stream 8
	Kernel: 4.18.0-240.10.1.el8_3.x86_64
	Compiler: gcc 8.4.1 20200928

Fedora 37
	Kernel: Depends on container host system
	Compiler: gcc 12.3.1

Fedora 38
	Kernel: Depends on container host
	Compiler: gcc 13.1.1

Ubuntu 20.04
	Kernel: 5.4.0-153-generic
	Compiler: gcc 9.4.0-1ubuntu1~20.04.1

openSUSE Leap 15
	Kernel: 4.18.0-240.10.1.el8_3.x86_64
	Compiler: gcc 7.5.0

RHEL8
	Kernel: 4.18.0-240.10.1.el8_3.x86_64
	Compiler: gcc 8.3.1 20191121 (Red Hat 8.3.1-5)

Ubuntu 22.04
	Kernel: 4.18.0-240.10.1.el8_3.x86_64
	Compiler: gcc 11.3.0

To view detailed results, visit:
https://lab.dpdk.org/results/dashboard/patchsets/29375/

UNH-IOL DPDK Community Lab

To manage your email subscriptions, visit: 
https://lab.dpdk.org/results/dashboard/preferences/subscriptions/