From mboxrd@z Thu Jan  1 00:00:00 1970
Return-Path: <test-report-bounces@dpdk.org>
Received: from mails.dpdk.org (mails.dpdk.org [217.70.189.124])
	by inbox.dpdk.org (Postfix) with ESMTP id 4AE6843C27
	for <public@inbox.dpdk.org>; Sat,  2 Mar 2024 02:55:01 +0100 (CET)
Received: from mails.dpdk.org (localhost [127.0.0.1])
	by mails.dpdk.org (Postfix) with ESMTP id 42E8A4025D;
	Sat,  2 Mar 2024 02:55:01 +0100 (CET)
Received: from mail-yw1-f227.google.com (mail-yw1-f227.google.com
 [209.85.128.227])
 by mails.dpdk.org (Postfix) with ESMTP id A8DCC4025C
 for <test-report@dpdk.org>; Sat,  2 Mar 2024 02:55:00 +0100 (CET)
Received: by mail-yw1-f227.google.com with SMTP id
 00721157ae682-607e54b6cf5so19544197b3.0
 for <test-report@dpdk.org>; Fri, 01 Mar 2024 17:55:00 -0800 (PST)
DKIM-Signature: v=1; a=rsa-sha256; c=relaxed/relaxed;
 d=iol.unh.edu; s=unh-iol; t=1709344500; x=1709949300; darn=dpdk.org;
 h=references:in-reply-to:cc:to:from:subject:message-id:date:from:to
 :cc:subject:date:message-id:reply-to;
 bh=2YxIEjH51P4v1RMKkfghE7udyT0SJ3CBFrswcxm+RPc=;
 b=H98hN36gkBqmXZmdbOwKdMxueqdgtoD4v6ioL4n7c6oTcQIjCclZ9kcQP2oIZLpIdZ
 2oWAKg4LUIN0vco8KpRxVe1hii5cvk9RmSnyza5hNcgMdz6BcZJsx62oDkEDJgAQ+OgK
 3zmWNsKHS+saTqAMY4iDEjn2uCPekrxAN2rPc=
X-Google-DKIM-Signature: v=1; a=rsa-sha256; c=relaxed/relaxed;
 d=1e100.net; s=20230601; t=1709344500; x=1709949300;
 h=references:in-reply-to:cc:to:from:subject:message-id:date
 :x-gm-message-state:from:to:cc:subject:date:message-id:reply-to;
 bh=2YxIEjH51P4v1RMKkfghE7udyT0SJ3CBFrswcxm+RPc=;
 b=bD2pvIb6UyWRatyqLLwRx755BR9QyAiRvR7W1MffcGK3jKUomv1qRa8e9WBFqE7LZ4
 M2hGZP4zGuduTl2wyQuA+RtftGXDK99/3zrSEjcNan8Co8VZsSBNS9l6TFpyAZXJ4Sdw
 5nsIz4UfVs0TX1Kv3yWo7Ig2HYyI7MvtvIHRmU08kz+BWmMKzAlMVMNyF2YmktccwUHP
 Kn/qtYCi/be+ON1yX0S9o1djobKi31M1HvFD2yOknhJ1+wtT7iWU5peIsc6AIdJxEYjO
 aq4/OWiHeg4gK7xMxLGKJUiqI74uHrnkHIMAX5Hd8i3/G11ultPQw6z05yah0+6PQnal
 P10Q==
X-Gm-Message-State: AOJu0YymuhAhw0BITMJObQF+Ap9WXgNHqt6ZTPiFsb/taf19usZVQunv
 WdoZtQv+AyDvDHiaihspkEJgw8bjnCnoLYkDhjl+JzrKTT56SRD59td0GoCeZUq2IfbMKLwF7C+
 wef8G6hBiT9AUdKfL8xfeFOkgliRhbRMGzQl5mKbs
X-Google-Smtp-Source: AGHT+IFUdrhHIFZsvnhxZ2MrYtiVW1EANe/NRZZno9dnYIQPoZTfQs6auw+pWzQz/FQOBP107LirwnfTUEkJ
X-Received: by 2002:a81:e34d:0:b0:609:3cb9:414 with SMTP id
 w13-20020a81e34d000000b006093cb90414mr2957675ywl.5.1709344499839; 
 Fri, 01 Mar 2024 17:54:59 -0800 (PST)
Received: from postal.iol.unh.edu (postal.iol.unh.edu. [132.177.123.84])
 by smtp-relay.gmail.com with ESMTPS id
 z204-20020a8165d5000000b00607791cd2afsm263739ywb.21.2024.03.01.17.54.59
 (version=TLS1_2 cipher=ECDHE-ECDSA-AES128-GCM-SHA256 bits=128/128);
 Fri, 01 Mar 2024 17:54:59 -0800 (PST)
X-Relaying-Domain: iol.unh.edu
Date: Fri, 01 Mar 2024 17:54:59 -0800 (PST)
Message-ID: <65e286f3.810a0220.711d5.1afeSMTPIN_ADDED_MISSING@mx.google.com>
Received: from [172.17.0.8] (unknown [172.18.0.217])
 by postal.iol.unh.edu (Postfix) with ESMTP id 7E1986052712;
 Fri,  1 Mar 2024 20:54:59 -0500 (EST)
Subject: |SUCCESS| pw137648-137649 [PATCH] [v2,2/2] common/cnxk: fix possible
From: dpdklab@iol.unh.edu
To: Test Report <test-report@dpdk.org>
Cc: dpdk-test-reports@iol.unh.edu
In-Reply-To: <20240301033534.1968900-2-psatheesh@marvell.com>
References: <20240301033534.1968900-2-psatheesh@marvell.com>
Content-Type: text/plain
X-BeenThere: test-report@dpdk.org
X-Mailman-Version: 2.1.29
Precedence: list
List-Id: automatic DPDK test reports <test-report.dpdk.org>
List-Unsubscribe: <https://mails.dpdk.org/options/test-report>,
 <mailto:test-report-request@dpdk.org?subject=unsubscribe>
List-Archive: <http://mails.dpdk.org/archives/test-report/>
List-Post: <mailto:test-report@dpdk.org>
List-Help: <mailto:test-report-request@dpdk.org?subject=help>
List-Subscribe: <https://mails.dpdk.org/listinfo/test-report>,
 <mailto:test-report-request@dpdk.org?subject=subscribe>
Errors-To: test-report-bounces@dpdk.org

Test-Label: iol-compile-amd64-testing
Test-Status: SUCCESS
http://dpdk.org/patch/137649

_Testing PASS_

Submitter: Satheesh Paul Antonysamy <psatheesh@marvell.com>
Date: Friday, March 01 2024 03:35:34 
DPDK git baseline: Repo:dpdk
  Branch: master
  CommitID:ce8ce20ae46fe0df7632a0172c73d2dcd1ac0187

137648-137649 --> testing pass

Test environment and result as below:

+------------------+--------------------+
|   Environment    | dpdk_meson_compile |
+==================+====================+
| CentOS Stream 9  | PASS               |
+------------------+--------------------+
| FreeBSD 13.2     | PASS               |
+------------------+--------------------+
| Debian Bullseye  | PASS               |
+------------------+--------------------+
| CentOS Stream 8  | PASS               |
+------------------+--------------------+
| Fedora 37        | PASS               |
+------------------+--------------------+
| Ubuntu 20.04     | PASS               |
+------------------+--------------------+
| openSUSE Leap 15 | PASS               |
+------------------+--------------------+
| Alpine           | PASS               |
+------------------+--------------------+
| RHEL8            | PASS               |
+------------------+--------------------+
| Debian 12 (arm)  | PASS               |
+------------------+--------------------+
| Ubuntu 22.04     | PASS               |
+------------------+--------------------+
| Fedora 38        | PASS               |
+------------------+--------------------+


CentOS Stream 9
	Kernel: 4.18.0-240.10.1.el8_3.x86_64
	Compiler: gcc 11.3.1 20220421

FreeBSD 13.2
	Kernel: 13.2
	Compiler: clang 11.3.0

Debian Bullseye
	Kernel: 5.4.0-122-generic
	Compiler: gcc 10.2.1-6

CentOS Stream 8
	Kernel: 4.18.0-240.10.1.el8_3.x86_64
	Compiler: gcc 8.4.1 20200928

Fedora 37
	Kernel: Depends on container host system
	Compiler: gcc 12.3.1

Ubuntu 20.04
	Kernel: 5.4.0-153-generic
	Compiler: gcc 9.4.0-1ubuntu1~20.04.1

openSUSE Leap 15
	Kernel: 4.18.0-240.10.1.el8_3.x86_64
	Compiler: gcc 7.5.0

Alpine
	Kernel: 5.4.0-73-generic
	Compiler: gcc (Alpine 10.3.1_git20210424) 10.3.1 20210424

RHEL8
	Kernel: 4.18.0-240.10.1.el8_3.x86_64
	Compiler: gcc 8.3.1 20191121 (Red Hat 8.3.1-5)

Debian 12 (arm)
	Kernel: Container Host Kernel
	Compiler: gcc 11

Ubuntu 22.04
	Kernel: 4.18.0-240.10.1.el8_3.x86_64
	Compiler: gcc 11.3.0

Fedora 38
	Kernel: Depends on container host
	Compiler: gcc 13.1.1

To view detailed results, visit:
https://lab.dpdk.org/results/dashboard/patchsets/29357/

UNH-IOL DPDK Community Lab

To manage your email subscriptions, visit: 
https://lab.dpdk.org/results/dashboard/preferences/subscriptions/