From mboxrd@z Thu Jan  1 00:00:00 1970
Return-Path: <test-report-bounces@dpdk.org>
Received: from mails.dpdk.org (mails.dpdk.org [217.70.189.124])
	by inbox.dpdk.org (Postfix) with ESMTP id 3786A43C27
	for <public@inbox.dpdk.org>; Sat,  2 Mar 2024 02:57:54 +0100 (CET)
Received: from mails.dpdk.org (localhost [127.0.0.1])
	by mails.dpdk.org (Postfix) with ESMTP id 3230E4025D;
	Sat,  2 Mar 2024 02:57:54 +0100 (CET)
Received: from mail-yw1-f225.google.com (mail-yw1-f225.google.com
 [209.85.128.225])
 by mails.dpdk.org (Postfix) with ESMTP id 6B2F54025C
 for <test-report@dpdk.org>; Sat,  2 Mar 2024 02:57:53 +0100 (CET)
Received: by mail-yw1-f225.google.com with SMTP id
 00721157ae682-608ceccb5f4so19111587b3.3
 for <test-report@dpdk.org>; Fri, 01 Mar 2024 17:57:53 -0800 (PST)
DKIM-Signature: v=1; a=rsa-sha256; c=relaxed/relaxed;
 d=iol.unh.edu; s=unh-iol; t=1709344673; x=1709949473; darn=dpdk.org;
 h=references:in-reply-to:cc:to:from:subject:message-id:date:from:to
 :cc:subject:date:message-id:reply-to;
 bh=2YxIEjH51P4v1RMKkfghE7udyT0SJ3CBFrswcxm+RPc=;
 b=OP21nC4WFUclcai/JrZIebeDaMLDQpv/+mPIbKbpCzI/NSaSfkz6WxBCBuwmCjcJrL
 wlEMvNZZqCZ2zzjBiiJWgW/0WcuKw1BYU3Lt38Kq1+BJFR1Yw0IxWBqTgYtOxN++e7rG
 yMGjHoSAAES2TOoVwSl52DLK2fYIP2YvABxzg=
X-Google-DKIM-Signature: v=1; a=rsa-sha256; c=relaxed/relaxed;
 d=1e100.net; s=20230601; t=1709344673; x=1709949473;
 h=references:in-reply-to:cc:to:from:subject:message-id:date
 :x-gm-message-state:from:to:cc:subject:date:message-id:reply-to;
 bh=2YxIEjH51P4v1RMKkfghE7udyT0SJ3CBFrswcxm+RPc=;
 b=MP6faf0Gh9JvbFDp8nCcp70vBf48tWQUfinmC+JSAMtvRyTPWMHJHALkfkJuQpEqpb
 ydOow88dAyH6KlPxhLLRmbWPn9PBEhUj/Du2qQOhgaOENNnIjvuIe2X+AIw0Yo/itr3a
 Ql0YwUOeRP/5RO/q94ArheA57COBV0Zm6HauZskVtO78LK2uoP6A1CgfrGku9JbhF8FS
 k82wJJHmp507blWJxnWlcPaPXaz07lKWQPO2z1nY4nTzBD1wu+NMvYhoNBWoFV3mhXQq
 G5ycRs0Eke6N/E/slpG0P28phY8xG/F37ZxhITj1D1hc08VrJs4Ld7otMXdMwttXWIqy
 Sdiw==
X-Gm-Message-State: AOJu0Yz/qObqyBjjFfmOQtuo5XMyFYIT1BKScPgy6fNTChq23W+ig/Mj
 ANOdpEWElbbSzGJHkDDPlIyjB4rgjWd+i5v3R0V8vibUN2wkeTftDGvY97J7+cOYgpSy7pHXYYY
 lTMGEf3hLKXXTtIsMoF7tOZU9Sq2BxTALqZa7d1SjNPIUJqrIf1n5ucjk
X-Google-Smtp-Source: AGHT+IH1d6w1jEGXDMOB33+FORnOnV/Plx+R9plmjs4vzgXE4ePhmxLSNdUG/qMBo/jDHZ14mWDbG8ab+SWm
X-Received: by 2002:a81:4fc3:0:b0:604:9262:4a4c with SMTP id
 d186-20020a814fc3000000b0060492624a4cmr3342517ywb.28.1709344672871; 
 Fri, 01 Mar 2024 17:57:52 -0800 (PST)
Received: from postal.iol.unh.edu (postal.iol.unh.edu.
 [2606:4100:3880:1234::84]) by smtp-relay.gmail.com with ESMTPS id
 r128-20020a818186000000b00607ff01e35bsm266505ywf.15.2024.03.01.17.57.52
 (version=TLS1_2 cipher=ECDHE-ECDSA-AES128-GCM-SHA256 bits=128/128);
 Fri, 01 Mar 2024 17:57:52 -0800 (PST)
X-Relaying-Domain: iol.unh.edu
Date: Fri, 01 Mar 2024 17:57:52 -0800 (PST)
Message-ID: <65e287a0.810a0220.1c58f.1eb9SMTPIN_ADDED_MISSING@mx.google.com>
Received: from [172.17.0.7] (unknown [172.18.0.217])
 by postal.iol.unh.edu (Postfix) with ESMTP id 836A96052712;
 Fri,  1 Mar 2024 20:57:52 -0500 (EST)
Subject: |SUCCESS| pw137648-137649 [PATCH] [v2,2/2] common/cnxk: fix possible
From: dpdklab@iol.unh.edu
To: Test Report <test-report@dpdk.org>
Cc: dpdk-test-reports@iol.unh.edu
In-Reply-To: <20240301033534.1968900-2-psatheesh@marvell.com>
References: <20240301033534.1968900-2-psatheesh@marvell.com>
Content-Type: text/plain
X-BeenThere: test-report@dpdk.org
X-Mailman-Version: 2.1.29
Precedence: list
List-Id: automatic DPDK test reports <test-report.dpdk.org>
List-Unsubscribe: <https://mails.dpdk.org/options/test-report>,
 <mailto:test-report-request@dpdk.org?subject=unsubscribe>
List-Archive: <http://mails.dpdk.org/archives/test-report/>
List-Post: <mailto:test-report@dpdk.org>
List-Help: <mailto:test-report-request@dpdk.org?subject=help>
List-Subscribe: <https://mails.dpdk.org/listinfo/test-report>,
 <mailto:test-report-request@dpdk.org?subject=subscribe>
Errors-To: test-report-bounces@dpdk.org

Test-Label: iol-compile-amd64-testing
Test-Status: SUCCESS
http://dpdk.org/patch/137649

_Testing PASS_

Submitter: Satheesh Paul Antonysamy <psatheesh@marvell.com>
Date: Friday, March 01 2024 03:35:34 
DPDK git baseline: Repo:dpdk
  Branch: master
  CommitID:ce8ce20ae46fe0df7632a0172c73d2dcd1ac0187

137648-137649 --> testing pass

Test environment and result as below:

+------------------+--------------------+
|   Environment    | dpdk_meson_compile |
+==================+====================+
| CentOS Stream 9  | PASS               |
+------------------+--------------------+
| FreeBSD 13.2     | PASS               |
+------------------+--------------------+
| Debian Bullseye  | PASS               |
+------------------+--------------------+
| CentOS Stream 8  | PASS               |
+------------------+--------------------+
| Fedora 37        | PASS               |
+------------------+--------------------+
| Ubuntu 20.04     | PASS               |
+------------------+--------------------+
| openSUSE Leap 15 | PASS               |
+------------------+--------------------+
| Alpine           | PASS               |
+------------------+--------------------+
| RHEL8            | PASS               |
+------------------+--------------------+
| Debian 12 (arm)  | PASS               |
+------------------+--------------------+
| Ubuntu 22.04     | PASS               |
+------------------+--------------------+
| Fedora 38        | PASS               |
+------------------+--------------------+


CentOS Stream 9
	Kernel: 4.18.0-240.10.1.el8_3.x86_64
	Compiler: gcc 11.3.1 20220421

FreeBSD 13.2
	Kernel: 13.2
	Compiler: clang 11.3.0

Debian Bullseye
	Kernel: 5.4.0-122-generic
	Compiler: gcc 10.2.1-6

CentOS Stream 8
	Kernel: 4.18.0-240.10.1.el8_3.x86_64
	Compiler: gcc 8.4.1 20200928

Fedora 37
	Kernel: Depends on container host system
	Compiler: gcc 12.3.1

Ubuntu 20.04
	Kernel: 5.4.0-153-generic
	Compiler: gcc 9.4.0-1ubuntu1~20.04.1

openSUSE Leap 15
	Kernel: 4.18.0-240.10.1.el8_3.x86_64
	Compiler: gcc 7.5.0

Alpine
	Kernel: 5.4.0-73-generic
	Compiler: gcc (Alpine 10.3.1_git20210424) 10.3.1 20210424

RHEL8
	Kernel: 4.18.0-240.10.1.el8_3.x86_64
	Compiler: gcc 8.3.1 20191121 (Red Hat 8.3.1-5)

Debian 12 (arm)
	Kernel: Container Host Kernel
	Compiler: gcc 11

Ubuntu 22.04
	Kernel: 4.18.0-240.10.1.el8_3.x86_64
	Compiler: gcc 11.3.0

Fedora 38
	Kernel: Depends on container host
	Compiler: gcc 13.1.1

To view detailed results, visit:
https://lab.dpdk.org/results/dashboard/patchsets/29357/

UNH-IOL DPDK Community Lab

To manage your email subscriptions, visit: 
https://lab.dpdk.org/results/dashboard/preferences/subscriptions/