From mboxrd@z Thu Jan  1 00:00:00 1970
Return-Path: <test-report-bounces@dpdk.org>
Received: from mails.dpdk.org (mails.dpdk.org [217.70.189.124])
	by inbox.dpdk.org (Postfix) with ESMTP id 91B4F43C27
	for <public@inbox.dpdk.org>; Sat,  2 Mar 2024 02:59:17 +0100 (CET)
Received: from mails.dpdk.org (localhost [127.0.0.1])
	by mails.dpdk.org (Postfix) with ESMTP id 8BA684025D;
	Sat,  2 Mar 2024 02:59:17 +0100 (CET)
Received: from mail-pl1-f228.google.com (mail-pl1-f228.google.com
 [209.85.214.228])
 by mails.dpdk.org (Postfix) with ESMTP id 4A7504025C
 for <test-report@dpdk.org>; Sat,  2 Mar 2024 02:59:16 +0100 (CET)
Received: by mail-pl1-f228.google.com with SMTP id
 d9443c01a7336-1dbd32cff0bso26116525ad.0
 for <test-report@dpdk.org>; Fri, 01 Mar 2024 17:59:16 -0800 (PST)
DKIM-Signature: v=1; a=rsa-sha256; c=relaxed/relaxed;
 d=iol.unh.edu; s=unh-iol; t=1709344755; x=1709949555; darn=dpdk.org;
 h=references:in-reply-to:cc:to:from:subject:message-id:date:from:to
 :cc:subject:date:message-id:reply-to;
 bh=pqwDVvdUdVtETXVINcqyBe8bqzZHMLBRfCmmLrgTbXI=;
 b=MgM0PQrN8xnl+p8BiWEqXTD9//mTaBRUodUHhmhJd3vuWBQKiRN6Pfkt6WqGQG8Syx
 ZzGWTEcqIWtHenndcozGDI9wobAEsvVCpasOt/0uavmI1Kq1opu0E6vuZkRduFxUAzHI
 wgfjtOrZgBHJggx8G3MuK1u4ALOx5G1lf1h5s=
X-Google-DKIM-Signature: v=1; a=rsa-sha256; c=relaxed/relaxed;
 d=1e100.net; s=20230601; t=1709344755; x=1709949555;
 h=references:in-reply-to:cc:to:from:subject:message-id:date
 :x-gm-message-state:from:to:cc:subject:date:message-id:reply-to;
 bh=pqwDVvdUdVtETXVINcqyBe8bqzZHMLBRfCmmLrgTbXI=;
 b=dvJKA6V6R7ytcpAAGq8VaknD/XqeJB8LW++FTmf87uagykBR6mafFpmz2Co7095nVP
 OaFw2X2krvVo/Zvdju8GQm1n1Ja18ptu2pcThXghy7Wcpes8sE/uxm4WluwOaI4BzgUS
 5XIQF/b1tBDO6BT7TqNflcjpmKNp17dNOL0BwypnvdJtFp6gsQyTH9h0Sgq+fAXunhsv
 qWKkfUOIRdSVoZOHpfaBD/eB0iALvAsxRiyqhnx5CQrAE3B7+FZXgqDppx2NyzB+XO/w
 a+DQiF4vkooHN+DARdAUQZYFrI3FlZWR/iK4VnLbHbH21qCDXbURMDUiCGZ3JJHokQdO
 By+Q==
X-Gm-Message-State: AOJu0Yxr8cJOpPJwTGJ45GG4aPKroO4k1+E8/hp+DJlRXT/jlqL5wm6u
 x/wdgJO0H53AxfjAbSwXn1khlP5X07EZeaKjNTGPI+zCVWX55BLnLKGJHI8nLcwEj5FVMDyrR2g
 m/P1RWJsm7NTvxvck5dAeteXSfLQ0wgLTdlLpbsSE
X-Google-Smtp-Source: AGHT+IGYRFv/EWmSNIPHaLVDha2rrM3BRRZyLH8X6XF8f+xRWhQZuFuhKyNVl8dS2PTEcHN1FEmRkVnDWJ0h
X-Received: by 2002:a17:902:ea8a:b0:1dc:b874:583f with SMTP id
 x10-20020a170902ea8a00b001dcb874583fmr3432133plb.38.1709344755490; 
 Fri, 01 Mar 2024 17:59:15 -0800 (PST)
Received: from postal.iol.unh.edu (postal.iol.unh.edu. [132.177.123.84])
 by smtp-relay.gmail.com with ESMTPS id
 x6-20020a170902a38600b001db5379cbb0sm201569pla.50.2024.03.01.17.59.15
 (version=TLS1_2 cipher=ECDHE-ECDSA-AES128-GCM-SHA256 bits=128/128);
 Fri, 01 Mar 2024 17:59:15 -0800 (PST)
X-Relaying-Domain: iol.unh.edu
Date: Fri, 01 Mar 2024 17:59:15 -0800 (PST)
Message-ID: <65e287f3.170a0220.1d368.d935SMTPIN_ADDED_MISSING@mx.google.com>
Received: from [172.17.0.7] (unknown [172.18.0.217])
 by postal.iol.unh.edu (Postfix) with ESMTP id AEAC26052712;
 Fri,  1 Mar 2024 20:59:14 -0500 (EST)
Subject: |SUCCESS| pw137678 [PATCH] [v5] common/qat: add virtual qat device (
From: dpdklab@iol.unh.edu
To: Test Report <test-report@dpdk.org>
Cc: dpdk-test-reports@iol.unh.edu
In-Reply-To: <20240301151923.4906-1-arkadiuszx.kusztal@intel.com>
References: <20240301151923.4906-1-arkadiuszx.kusztal@intel.com>
Content-Type: text/plain
X-BeenThere: test-report@dpdk.org
X-Mailman-Version: 2.1.29
Precedence: list
List-Id: automatic DPDK test reports <test-report.dpdk.org>
List-Unsubscribe: <https://mails.dpdk.org/options/test-report>,
 <mailto:test-report-request@dpdk.org?subject=unsubscribe>
List-Archive: <http://mails.dpdk.org/archives/test-report/>
List-Post: <mailto:test-report@dpdk.org>
List-Help: <mailto:test-report-request@dpdk.org?subject=help>
List-Subscribe: <https://mails.dpdk.org/listinfo/test-report>,
 <mailto:test-report-request@dpdk.org?subject=subscribe>
Errors-To: test-report-bounces@dpdk.org

Test-Label: iol-compile-amd64-testing
Test-Status: SUCCESS
http://dpdk.org/patch/137678

_Testing PASS_

Submitter: Arkadiusz Kusztal <arkadiuszx.kusztal@intel.com>
Date: Friday, March 01 2024 15:19:23 
DPDK git baseline: Repo:dpdk
  Branch: master
  CommitID:5ac50824383c2683c0dfdf24c6dc493f1fa54852

137678 --> testing pass

Test environment and result as below:

+---------------------+--------------------+----------------------+
|     Environment     | dpdk_meson_compile | dpdk_mingw64_compile |
+=====================+====================+======================+
| CentOS Stream 8     | PASS               | SKIPPED              |
+---------------------+--------------------+----------------------+
| Fedora 37           | PASS               | SKIPPED              |
+---------------------+--------------------+----------------------+
| FreeBSD 13.2        | PASS               | SKIPPED              |
+---------------------+--------------------+----------------------+
| Debian Bullseye     | PASS               | SKIPPED              |
+---------------------+--------------------+----------------------+
| Debian 12 (arm)     | PASS               | SKIPPED              |
+---------------------+--------------------+----------------------+
| RHEL8               | PASS               | SKIPPED              |
+---------------------+--------------------+----------------------+
| openSUSE Leap 15    | PASS               | SKIPPED              |
+---------------------+--------------------+----------------------+
| Fedora 38           | PASS               | SKIPPED              |
+---------------------+--------------------+----------------------+
| Ubuntu 20.04        | PASS               | SKIPPED              |
+---------------------+--------------------+----------------------+
| Ubuntu 22.04        | PASS               | SKIPPED              |
+---------------------+--------------------+----------------------+
| CentOS Stream 9     | PASS               | SKIPPED              |
+---------------------+--------------------+----------------------+
| Alpine              | PASS               | SKIPPED              |
+---------------------+--------------------+----------------------+
| Windows Server 2022 | PASS               | SKIPPED              |
+---------------------+--------------------+----------------------+
| Windows Server 2019 | SKIPPED            | PASS                 |
+---------------------+--------------------+----------------------+


CentOS Stream 8
	Kernel: 4.18.0-240.10.1.el8_3.x86_64
	Compiler: gcc 8.4.1 20200928

Fedora 37
	Kernel: Depends on container host system
	Compiler: gcc 12.3.1

FreeBSD 13.2
	Kernel: 13.2
	Compiler: clang 11.3.0

Debian Bullseye
	Kernel: 5.4.0-122-generic
	Compiler: gcc 10.2.1-6

Debian 12 (arm)
	Kernel: Container Host Kernel
	Compiler: gcc 11

RHEL8
	Kernel: 4.18.0-240.10.1.el8_3.x86_64
	Compiler: gcc 8.3.1 20191121 (Red Hat 8.3.1-5)

openSUSE Leap 15
	Kernel: 4.18.0-240.10.1.el8_3.x86_64
	Compiler: gcc 7.5.0

Fedora 38
	Kernel: Depends on container host
	Compiler: gcc 13.1.1

Ubuntu 20.04
	Kernel: 5.4.0-153-generic
	Compiler: gcc 9.4.0-1ubuntu1~20.04.1

Ubuntu 22.04
	Kernel: 4.18.0-240.10.1.el8_3.x86_64
	Compiler: gcc 11.3.0

CentOS Stream 9
	Kernel: 4.18.0-240.10.1.el8_3.x86_64
	Compiler: gcc 11.3.1 20220421

Alpine
	Kernel: 5.4.0-73-generic
	Compiler: gcc (Alpine 10.3.1_git20210424) 10.3.1 20210424

Windows Server 2022
	Kernel: OS Build 20348.2031
	Compiler: MSVC VS-Preview

Windows Server 2019
	Kernel: 10.0
	Compiler: clang 14.0 and gcc 8.1.0 (MinGW)

To view detailed results, visit:
https://lab.dpdk.org/results/dashboard/patchsets/29375/

UNH-IOL DPDK Community Lab

To manage your email subscriptions, visit: 
https://lab.dpdk.org/results/dashboard/preferences/subscriptions/