From mboxrd@z Thu Jan  1 00:00:00 1970
Return-Path: <test-report-bounces@dpdk.org>
Received: from mails.dpdk.org (mails.dpdk.org [217.70.189.124])
	by inbox.dpdk.org (Postfix) with ESMTP id A865343C27
	for <public@inbox.dpdk.org>; Sat,  2 Mar 2024 02:59:28 +0100 (CET)
Received: from mails.dpdk.org (localhost [127.0.0.1])
	by mails.dpdk.org (Postfix) with ESMTP id A2E634025D;
	Sat,  2 Mar 2024 02:59:28 +0100 (CET)
Received: from mail-yw1-f227.google.com (mail-yw1-f227.google.com
 [209.85.128.227])
 by mails.dpdk.org (Postfix) with ESMTP id B48BF4025C
 for <test-report@dpdk.org>; Sat,  2 Mar 2024 02:59:27 +0100 (CET)
Received: by mail-yw1-f227.google.com with SMTP id
 00721157ae682-60943ad307fso26988867b3.1
 for <test-report@dpdk.org>; Fri, 01 Mar 2024 17:59:27 -0800 (PST)
DKIM-Signature: v=1; a=rsa-sha256; c=relaxed/relaxed;
 d=iol.unh.edu; s=unh-iol; t=1709344767; x=1709949567; darn=dpdk.org;
 h=references:in-reply-to:cc:to:from:subject:message-id:date:from:to
 :cc:subject:date:message-id:reply-to;
 bh=2YxIEjH51P4v1RMKkfghE7udyT0SJ3CBFrswcxm+RPc=;
 b=fFB1stYhGZaSjNPEu/TvLqamI4SS9dDOmsvOiWXivWenPD1Ww2ub8ixY8LBvlQXwR3
 FgR9rn72pauU05kMypHYH88+pfYE4WXLcZUilJQRDRAZkIExO4F4eDyZMb7dhNBgtl8+
 5AhxpF+VQFy1EaxlNO0SodC7qEUW+g14W7two=
X-Google-DKIM-Signature: v=1; a=rsa-sha256; c=relaxed/relaxed;
 d=1e100.net; s=20230601; t=1709344767; x=1709949567;
 h=references:in-reply-to:cc:to:from:subject:message-id:date
 :x-gm-message-state:from:to:cc:subject:date:message-id:reply-to;
 bh=2YxIEjH51P4v1RMKkfghE7udyT0SJ3CBFrswcxm+RPc=;
 b=Go68nGJgDBtLYZzbAIOgJgiLVSZ276XoRcCvxa7Yaoz85n2bYQtYsbFdjPgyUnKFd/
 +mYWOfI8IngYrcyvegRYBjRiX7drDNrgKSbXoAeFTzA2MgB0V+0OQLqLfjiyH7+gq/11
 BqC3p+fp7MXVNJOI85GEppzPjie/9QVUeMnpqwiEGT3++WuOFArynDFMjpPMXb5dzCat
 S666Si+YUYmcEaTF+xU/AaR1nmgwHpFh0yY1b5KnvVLUzGr7zhHUUWBLmtyKVqvpOqZA
 wl3a4BFHrJZBxMy5WWFKrVeWYGibpZmvjrkkBTgRKU2gQUrrKq0Fm044sn+FoYmn6JC0
 AWwQ==
X-Gm-Message-State: AOJu0YzBQcZZ5g8jEnDOhthvtYTkj4UFrGUmUtUPq0PZ2owxDED2VeAR
 EqaUfaAIh3oNxSB2TKqrQ/XQH0tD9m1PB7WalQx/1ady7ui9NrFX694EMqeCUD43Yy56eOPkQJ0
 bHYGojyYiCyaVowlBiLdypWT8tz98O77dz7qoB/CbaPSWasgDiEVZyWcu
X-Google-Smtp-Source: AGHT+IFinB0n2LOJKhhsBkCRr5XRQ9jiUnBvLKoR859/Ok7+6dgCtzqKOaIqY32GMccFGbxdQJhdZWeATVK+
X-Received: by 2002:a05:690c:f82:b0:609:78d7:4db with SMTP id
 df2-20020a05690c0f8200b0060978d704dbmr3312072ywb.31.1709344767135; 
 Fri, 01 Mar 2024 17:59:27 -0800 (PST)
Received: from postal.iol.unh.edu (postal.iol.unh.edu.
 [2606:4100:3880:1234::84]) by smtp-relay.gmail.com with ESMTPS id
 z8-20020a0dd708000000b00608de16a1e2sm265157ywd.4.2024.03.01.17.59.27
 (version=TLS1_2 cipher=ECDHE-ECDSA-AES128-GCM-SHA256 bits=128/128);
 Fri, 01 Mar 2024 17:59:27 -0800 (PST)
X-Relaying-Domain: iol.unh.edu
Date: Fri, 01 Mar 2024 17:59:27 -0800 (PST)
Message-ID: <65e287ff.0d0a0220.ad745.5153SMTPIN_ADDED_MISSING@mx.google.com>
Received: from [172.17.0.7] (unknown [172.18.0.217])
 by postal.iol.unh.edu (Postfix) with ESMTP id C6BAE6052712;
 Fri,  1 Mar 2024 20:59:26 -0500 (EST)
Subject: |SUCCESS| pw137648-137649 [PATCH] [v2,2/2] common/cnxk: fix possible
From: dpdklab@iol.unh.edu
To: Test Report <test-report@dpdk.org>
Cc: dpdk-test-reports@iol.unh.edu
In-Reply-To: <20240301033534.1968900-2-psatheesh@marvell.com>
References: <20240301033534.1968900-2-psatheesh@marvell.com>
Content-Type: text/plain
X-BeenThere: test-report@dpdk.org
X-Mailman-Version: 2.1.29
Precedence: list
List-Id: automatic DPDK test reports <test-report.dpdk.org>
List-Unsubscribe: <https://mails.dpdk.org/options/test-report>,
 <mailto:test-report-request@dpdk.org?subject=unsubscribe>
List-Archive: <http://mails.dpdk.org/archives/test-report/>
List-Post: <mailto:test-report@dpdk.org>
List-Help: <mailto:test-report-request@dpdk.org?subject=help>
List-Subscribe: <https://mails.dpdk.org/listinfo/test-report>,
 <mailto:test-report-request@dpdk.org?subject=subscribe>
Errors-To: test-report-bounces@dpdk.org

Test-Label: iol-compile-amd64-testing
Test-Status: SUCCESS
http://dpdk.org/patch/137649

_Testing PASS_

Submitter: Satheesh Paul Antonysamy <psatheesh@marvell.com>
Date: Friday, March 01 2024 03:35:34 
DPDK git baseline: Repo:dpdk
  Branch: master
  CommitID:ce8ce20ae46fe0df7632a0172c73d2dcd1ac0187

137648-137649 --> testing pass

Test environment and result as below:

+------------------+--------------------+
|   Environment    | dpdk_meson_compile |
+==================+====================+
| CentOS Stream 9  | PASS               |
+------------------+--------------------+
| FreeBSD 13.2     | PASS               |
+------------------+--------------------+
| Debian Bullseye  | PASS               |
+------------------+--------------------+
| CentOS Stream 8  | PASS               |
+------------------+--------------------+
| Fedora 37        | PASS               |
+------------------+--------------------+
| Ubuntu 20.04     | PASS               |
+------------------+--------------------+
| openSUSE Leap 15 | PASS               |
+------------------+--------------------+
| Alpine           | PASS               |
+------------------+--------------------+
| RHEL8            | PASS               |
+------------------+--------------------+
| Debian 12 (arm)  | PASS               |
+------------------+--------------------+
| Ubuntu 22.04     | PASS               |
+------------------+--------------------+
| Fedora 38        | PASS               |
+------------------+--------------------+


CentOS Stream 9
	Kernel: 4.18.0-240.10.1.el8_3.x86_64
	Compiler: gcc 11.3.1 20220421

FreeBSD 13.2
	Kernel: 13.2
	Compiler: clang 11.3.0

Debian Bullseye
	Kernel: 5.4.0-122-generic
	Compiler: gcc 10.2.1-6

CentOS Stream 8
	Kernel: 4.18.0-240.10.1.el8_3.x86_64
	Compiler: gcc 8.4.1 20200928

Fedora 37
	Kernel: Depends on container host system
	Compiler: gcc 12.3.1

Ubuntu 20.04
	Kernel: 5.4.0-153-generic
	Compiler: gcc 9.4.0-1ubuntu1~20.04.1

openSUSE Leap 15
	Kernel: 4.18.0-240.10.1.el8_3.x86_64
	Compiler: gcc 7.5.0

Alpine
	Kernel: 5.4.0-73-generic
	Compiler: gcc (Alpine 10.3.1_git20210424) 10.3.1 20210424

RHEL8
	Kernel: 4.18.0-240.10.1.el8_3.x86_64
	Compiler: gcc 8.3.1 20191121 (Red Hat 8.3.1-5)

Debian 12 (arm)
	Kernel: Container Host Kernel
	Compiler: gcc 11

Ubuntu 22.04
	Kernel: 4.18.0-240.10.1.el8_3.x86_64
	Compiler: gcc 11.3.0

Fedora 38
	Kernel: Depends on container host
	Compiler: gcc 13.1.1

To view detailed results, visit:
https://lab.dpdk.org/results/dashboard/patchsets/29357/

UNH-IOL DPDK Community Lab

To manage your email subscriptions, visit: 
https://lab.dpdk.org/results/dashboard/preferences/subscriptions/