From mboxrd@z Thu Jan  1 00:00:00 1970
Return-Path: <test-report-bounces@dpdk.org>
Received: from mails.dpdk.org (mails.dpdk.org [217.70.189.124])
	by inbox.dpdk.org (Postfix) with ESMTP id 3B2AC43C29
	for <public@inbox.dpdk.org>; Sat,  2 Mar 2024 03:15:13 +0100 (CET)
Received: from mails.dpdk.org (localhost [127.0.0.1])
	by mails.dpdk.org (Postfix) with ESMTP id 1304540284;
	Sat,  2 Mar 2024 03:15:13 +0100 (CET)
Received: from mail-yw1-f226.google.com (mail-yw1-f226.google.com
 [209.85.128.226])
 by mails.dpdk.org (Postfix) with ESMTP id 9D4554025E
 for <test-report@dpdk.org>; Sat,  2 Mar 2024 03:15:11 +0100 (CET)
Received: by mail-yw1-f226.google.com with SMTP id
 00721157ae682-6096ab005c0so24131777b3.1
 for <test-report@dpdk.org>; Fri, 01 Mar 2024 18:15:11 -0800 (PST)
DKIM-Signature: v=1; a=rsa-sha256; c=relaxed/relaxed;
 d=iol.unh.edu; s=unh-iol; t=1709345711; x=1709950511; darn=dpdk.org;
 h=references:in-reply-to:cc:to:from:subject:message-id:date:from:to
 :cc:subject:date:message-id:reply-to;
 bh=pqwDVvdUdVtETXVINcqyBe8bqzZHMLBRfCmmLrgTbXI=;
 b=WisSvD3jtN59XhQcfUTC3cafw+1RRfovmWth4/Vmt5hT+sl6aQn0Jyq7q7GBbBh8ps
 zB+s9Y5FIPMOmQVK7vXjek8A3V6LADyniERQXDG8iI2OPgkIFRst6yGKYjV9E2aO66tK
 MC8NEd5BOJQ7KWTsKOQJXYRV1SJPCSdPBAIT4=
X-Google-DKIM-Signature: v=1; a=rsa-sha256; c=relaxed/relaxed;
 d=1e100.net; s=20230601; t=1709345711; x=1709950511;
 h=references:in-reply-to:cc:to:from:subject:message-id:date
 :x-gm-message-state:from:to:cc:subject:date:message-id:reply-to;
 bh=pqwDVvdUdVtETXVINcqyBe8bqzZHMLBRfCmmLrgTbXI=;
 b=O4OH/xMxmHCDOCAYvvQ2MsUtft2leuE6t3h42Wi4yopJsDSmR3Yr5lCa731PoK6nY3
 iGBiX3D6VAibrLF3Xpy0B3otza8JnmCvQPsttbUbHt7Yky6F5Zw2JO08xTRLI0U5xJQs
 0dAJNx7f9MCJL6L2eEGZA6S75UtvNn6T4NbyZLy7vNNpR/NNPooWIc2K7DzY1YQJd3p8
 QdYk/FFQaASq1W5p06CW70876VywM8p9RfVTwz0CeFSIXCdHwk94PwSCHH9lAZk6vM6F
 89tpV7b1/9rqE6hhrFImXkr5OZO85NCYiDvz1K1HZj27PqqcWsSnhusC+Dkh3ECOE2EJ
 T0/w==
X-Gm-Message-State: AOJu0YyHj8HuhiLXA6sPPA5sLQQq6CTduaqj7mJMWlvzjqpwqPo7uXdF
 ak7035dAn0mp+UVaDaG8gG7NBgjHaRAfzY7nIU5Cc3gLi2cL69fdyVF7b/Regr4gGiUGphSl311
 DGaZn8O89qfm0y+9PGwZc6qZloaiSDmjtU4tC8n6P
X-Google-Smtp-Source: AGHT+IGAFXh8QfgOJpa6vQXSr4khxWBk66iTNlFao8V4nP490U9HhBkS0QJCSzKDLoR44q/RdbCcaAfEs5o8
X-Received: by 2002:a05:690c:d8d:b0:607:adca:996c with SMTP id
 da13-20020a05690c0d8d00b00607adca996cmr4612213ywb.41.1709345709858; 
 Fri, 01 Mar 2024 18:15:09 -0800 (PST)
Received: from postal.iol.unh.edu (postal.iol.unh.edu. [132.177.123.84])
 by smtp-relay.gmail.com with ESMTPS id
 r142-20020a0de894000000b00609835216cbsm138391ywe.67.2024.03.01.18.15.09
 (version=TLS1_2 cipher=ECDHE-ECDSA-AES128-GCM-SHA256 bits=128/128);
 Fri, 01 Mar 2024 18:15:09 -0800 (PST)
X-Relaying-Domain: iol.unh.edu
Date: Fri, 01 Mar 2024 18:15:09 -0800 (PST)
Message-ID: <65e28bad.0d0a0220.75703.946cSMTPIN_ADDED_MISSING@mx.google.com>
Received: from [172.21.0.6] (unknown [172.18.0.240])
 by postal.iol.unh.edu (Postfix) with ESMTP id 564546052712;
 Fri,  1 Mar 2024 21:15:09 -0500 (EST)
Subject: |SUCCESS| pw137678 [PATCH] [v5] common/qat: add virtual qat device (
From: dpdklab@iol.unh.edu
To: Test Report <test-report@dpdk.org>
Cc: dpdk-test-reports@iol.unh.edu
In-Reply-To: <20240301151923.4906-1-arkadiuszx.kusztal@intel.com>
References: <20240301151923.4906-1-arkadiuszx.kusztal@intel.com>
Content-Type: text/plain
X-BeenThere: test-report@dpdk.org
X-Mailman-Version: 2.1.29
Precedence: list
List-Id: automatic DPDK test reports <test-report.dpdk.org>
List-Unsubscribe: <https://mails.dpdk.org/options/test-report>,
 <mailto:test-report-request@dpdk.org?subject=unsubscribe>
List-Archive: <http://mails.dpdk.org/archives/test-report/>
List-Post: <mailto:test-report@dpdk.org>
List-Help: <mailto:test-report-request@dpdk.org?subject=help>
List-Subscribe: <https://mails.dpdk.org/listinfo/test-report>,
 <mailto:test-report-request@dpdk.org?subject=subscribe>
Errors-To: test-report-bounces@dpdk.org

Test-Label: iol-compile-amd64-testing
Test-Status: SUCCESS
http://dpdk.org/patch/137678

_Testing PASS_

Submitter: Arkadiusz Kusztal <arkadiuszx.kusztal@intel.com>
Date: Friday, March 01 2024 15:19:23 
DPDK git baseline: Repo:dpdk
  Branch: master
  CommitID:5ac50824383c2683c0dfdf24c6dc493f1fa54852

137678 --> testing pass

Test environment and result as below:

+---------------------+--------------------+----------------------+
|     Environment     | dpdk_meson_compile | dpdk_mingw64_compile |
+=====================+====================+======================+
| CentOS Stream 8     | PASS               | SKIPPED              |
+---------------------+--------------------+----------------------+
| Fedora 37           | PASS               | SKIPPED              |
+---------------------+--------------------+----------------------+
| FreeBSD 13.2        | PASS               | SKIPPED              |
+---------------------+--------------------+----------------------+
| Debian Bullseye     | PASS               | SKIPPED              |
+---------------------+--------------------+----------------------+
| Debian 12 (arm)     | PASS               | SKIPPED              |
+---------------------+--------------------+----------------------+
| RHEL8               | PASS               | SKIPPED              |
+---------------------+--------------------+----------------------+
| openSUSE Leap 15    | PASS               | SKIPPED              |
+---------------------+--------------------+----------------------+
| Fedora 38           | PASS               | SKIPPED              |
+---------------------+--------------------+----------------------+
| Ubuntu 20.04        | PASS               | SKIPPED              |
+---------------------+--------------------+----------------------+
| Ubuntu 22.04        | PASS               | SKIPPED              |
+---------------------+--------------------+----------------------+
| CentOS Stream 9     | PASS               | SKIPPED              |
+---------------------+--------------------+----------------------+
| Alpine              | PASS               | SKIPPED              |
+---------------------+--------------------+----------------------+
| Windows Server 2022 | PASS               | SKIPPED              |
+---------------------+--------------------+----------------------+
| Windows Server 2019 | SKIPPED            | PASS                 |
+---------------------+--------------------+----------------------+


CentOS Stream 8
	Kernel: 4.18.0-240.10.1.el8_3.x86_64
	Compiler: gcc 8.4.1 20200928

Fedora 37
	Kernel: Depends on container host system
	Compiler: gcc 12.3.1

FreeBSD 13.2
	Kernel: 13.2
	Compiler: clang 11.3.0

Debian Bullseye
	Kernel: 5.4.0-122-generic
	Compiler: gcc 10.2.1-6

Debian 12 (arm)
	Kernel: Container Host Kernel
	Compiler: gcc 11

RHEL8
	Kernel: 4.18.0-240.10.1.el8_3.x86_64
	Compiler: gcc 8.3.1 20191121 (Red Hat 8.3.1-5)

openSUSE Leap 15
	Kernel: 4.18.0-240.10.1.el8_3.x86_64
	Compiler: gcc 7.5.0

Fedora 38
	Kernel: Depends on container host
	Compiler: gcc 13.1.1

Ubuntu 20.04
	Kernel: 5.4.0-153-generic
	Compiler: gcc 9.4.0-1ubuntu1~20.04.1

Ubuntu 22.04
	Kernel: 4.18.0-240.10.1.el8_3.x86_64
	Compiler: gcc 11.3.0

CentOS Stream 9
	Kernel: 4.18.0-240.10.1.el8_3.x86_64
	Compiler: gcc 11.3.1 20220421

Alpine
	Kernel: 5.4.0-73-generic
	Compiler: gcc (Alpine 10.3.1_git20210424) 10.3.1 20210424

Windows Server 2022
	Kernel: OS Build 20348.2031
	Compiler: MSVC VS-Preview

Windows Server 2019
	Kernel: 10.0
	Compiler: clang 14.0 and gcc 8.1.0 (MinGW)

To view detailed results, visit:
https://lab.dpdk.org/results/dashboard/patchsets/29375/

UNH-IOL DPDK Community Lab

To manage your email subscriptions, visit: 
https://lab.dpdk.org/results/dashboard/preferences/subscriptions/