From mboxrd@z Thu Jan 1 00:00:00 1970 Return-Path: Received: from mails.dpdk.org (mails.dpdk.org [217.70.189.124]) by inbox.dpdk.org (Postfix) with ESMTP id ABCE643C29 for ; Sat, 2 Mar 2024 03:17:37 +0100 (CET) Received: from mails.dpdk.org (localhost [127.0.0.1]) by mails.dpdk.org (Postfix) with ESMTP id A789F40284; Sat, 2 Mar 2024 03:17:37 +0100 (CET) Received: from mail-yw1-f228.google.com (mail-yw1-f228.google.com [209.85.128.228]) by mails.dpdk.org (Postfix) with ESMTP id 61DE24025E for ; Sat, 2 Mar 2024 03:17:36 +0100 (CET) Received: by mail-yw1-f228.google.com with SMTP id 00721157ae682-60978479651so21521367b3.3 for ; Fri, 01 Mar 2024 18:17:36 -0800 (PST) DKIM-Signature: v=1; a=rsa-sha256; c=relaxed/relaxed; d=iol.unh.edu; s=unh-iol; t=1709345856; x=1709950656; darn=dpdk.org; h=references:in-reply-to:cc:to:from:subject:message-id:date:from:to :cc:subject:date:message-id:reply-to; bh=bf/cWz39XVmq384bVJbL6jS/HxznXqE7fqVUc61mq2M=; b=IskoSqyoh2arExVJl2rEvIClh9lwQdKIJ8CevQRrq88WIVHeeTBTJnr7iQ3MqoYV8r zDk0ZXf+DZp/6mTyLvehF7MObEXNxF3w/LkQ7ZS4wQHmhmd0NrSazvygnnr9h62LE3jR J7pgV0C2ZyyqiiXnomuGKbnDovivcS1GhkNKQ= X-Google-DKIM-Signature: v=1; a=rsa-sha256; c=relaxed/relaxed; d=1e100.net; s=20230601; t=1709345856; x=1709950656; h=references:in-reply-to:cc:to:from:subject:message-id:date :x-gm-message-state:from:to:cc:subject:date:message-id:reply-to; bh=bf/cWz39XVmq384bVJbL6jS/HxznXqE7fqVUc61mq2M=; b=XZyTR6cRsZ6Y5OeHvO93Q7GkKXYY6ohby2yBm3/eQaMOPu7FuSAy4pfe3FfQL1GpYP WLWCjTYF0PaGHIi3wVv0JQeIjtcunTiwMhN/+2L0jXQfyqEezd0jXkHWplvzhVxvV/hT NTliaJFxcVD+3MCE4B4VBxvfY3S+E/lgdYjxQmysTEcCE2zOhrOGZcQ6IZXFY7dSO6Et kP5UnQVX4dRllLsxmL6LIMPo/PLfZYGnbEuhzLqleh3r3ylAYnPFMWkcUPMmzmFpBiKd ym4AkDDQAmTmJHIdS4CcBHA2RD/BdsPt5GBX4Qgmj9QOpbiNtvotiB9o7XC6t6xFkT6h 7wPg== X-Gm-Message-State: AOJu0YxYA/d6DnLKpwTCkjsLd9uf9jeM96pB7pX9NP322ZKe6YHjUzdb FScrJb+jKRrsdW4ahZFefWBVO64wPJbvEPODy+3eZaL9+LChHdrZtJ9y6q+pW7+bOtHLcKglGNg PM2hSErxoWqpKQU7YoRBuDlkgBg3rqUu+1m1HeOupcjgN5P+24Td4Otgm X-Google-Smtp-Source: AGHT+IFg5votWC6ZrAPvhubpolwYwqIgmyC8IfU/ZejfhhiYRH9GkVa5OM+bA90JeClVF1XcGIHfchyCImi/ X-Received: by 2002:a0d:e8c4:0:b0:609:845a:4a89 with SMTP id r187-20020a0de8c4000000b00609845a4a89mr3324891ywe.39.1709345855823; Fri, 01 Mar 2024 18:17:35 -0800 (PST) Received: from postal.iol.unh.edu (postal.iol.unh.edu. [2606:4100:3880:1234::84]) by smtp-relay.gmail.com with ESMTPS id n3-20020a81c803000000b006093c713f19sm127782ywi.52.2024.03.01.18.17.35 (version=TLS1_2 cipher=ECDHE-ECDSA-AES128-GCM-SHA256 bits=128/128); Fri, 01 Mar 2024 18:17:35 -0800 (PST) X-Relaying-Domain: iol.unh.edu Date: Fri, 01 Mar 2024 18:17:35 -0800 (PST) Message-ID: <65e28c3f.810a0220.63602.83b5SMTPIN_ADDED_MISSING@mx.google.com> Received: from [172.21.0.6] (unknown [172.18.0.240]) by postal.iol.unh.edu (Postfix) with ESMTP id 87FCD6052712; Fri, 1 Mar 2024 21:17:35 -0500 (EST) Subject: |SUCCESS| pw137648-137649 [PATCH] [v2,2/2] common/cnxk: fix possible From: dpdklab@iol.unh.edu To: Test Report Cc: dpdk-test-reports@iol.unh.edu In-Reply-To: <20240301033534.1968900-2-psatheesh@marvell.com> References: <20240301033534.1968900-2-psatheesh@marvell.com> Content-Type: text/plain X-BeenThere: test-report@dpdk.org X-Mailman-Version: 2.1.29 Precedence: list List-Id: automatic DPDK test reports List-Unsubscribe: , List-Archive: List-Post: List-Help: List-Subscribe: , Errors-To: test-report-bounces@dpdk.org Test-Label: iol-unit-arm64-testing Test-Status: SUCCESS http://dpdk.org/patch/137649 _Testing PASS_ Submitter: Satheesh Paul Antonysamy Date: Friday, March 01 2024 03:35:34 DPDK git baseline: Repo:dpdk Branch: master CommitID:ce8ce20ae46fe0df7632a0172c73d2dcd1ac0187 137648-137649 --> testing pass Test environment and result as below: +--------------------------+--------------+------------------------------+---------------------------+----------------+ | Environment | lpm_autotest | cryptodev_sw_snow3g_autotest | cryptodev_sw_zuc_autotest | dpdk_unit_test | +==========================+==============+==============================+===========================+================+ | Ubuntu 20.04 ARM SVE | PASS | SKIPPED | SKIPPED | SKIPPED | +--------------------------+--------------+------------------------------+---------------------------+----------------+ | Debian 12 (arm) | SKIPPED | PASS | PASS | PASS | +--------------------------+--------------+------------------------------+---------------------------+----------------+ | Debian 11 (Buster) (ARM) | SKIPPED | SKIPPED | SKIPPED | PASS | +--------------------------+--------------+------------------------------+---------------------------+----------------+ | CentOS Stream 9 (ARM) | SKIPPED | SKIPPED | SKIPPED | PASS | +--------------------------+--------------+------------------------------+---------------------------+----------------+ | Fedora 38 (ARM) | SKIPPED | SKIPPED | SKIPPED | PASS | +--------------------------+--------------+------------------------------+---------------------------+----------------+ Ubuntu 20.04 ARM SVE Kernel: 5.4.0-80-generic Compiler: gcc 10.3.0 (Ubuntu 10.3.0-1ubuntu1~20.04) Debian 12 (arm) Kernel: Container Host Kernel Compiler: gcc 11 Debian 11 (Buster) (ARM) Kernel: Container Host Kernel Compiler: gcc 10.2.1 CentOS Stream 9 (ARM) Kernel: Container Host Kernel Compiler: gcc 11.3.1 Fedora 38 (ARM) Kernel: Depends on container host Compiler: gcc 13.1.1 To view detailed results, visit: https://lab.dpdk.org/results/dashboard/patchsets/29357/ UNH-IOL DPDK Community Lab To manage your email subscriptions, visit: https://lab.dpdk.org/results/dashboard/preferences/subscriptions/