From mboxrd@z Thu Jan  1 00:00:00 1970
Return-Path: <test-report-bounces@dpdk.org>
Received: from mails.dpdk.org (mails.dpdk.org [217.70.189.124])
	by inbox.dpdk.org (Postfix) with ESMTP id 66D1543C29
	for <public@inbox.dpdk.org>; Sat,  2 Mar 2024 03:25:10 +0100 (CET)
Received: from mails.dpdk.org (localhost [127.0.0.1])
	by mails.dpdk.org (Postfix) with ESMTP id 3D2B940284;
	Sat,  2 Mar 2024 03:25:10 +0100 (CET)
Received: from mail-qv1-f100.google.com (mail-qv1-f100.google.com
 [209.85.219.100])
 by mails.dpdk.org (Postfix) with ESMTP id 8EE394025E
 for <test-report@dpdk.org>; Sat,  2 Mar 2024 03:25:09 +0100 (CET)
Received: by mail-qv1-f100.google.com with SMTP id
 6a1803df08f44-6901114742bso9609966d6.2
 for <test-report@dpdk.org>; Fri, 01 Mar 2024 18:25:09 -0800 (PST)
DKIM-Signature: v=1; a=rsa-sha256; c=relaxed/relaxed;
 d=iol.unh.edu; s=unh-iol; t=1709346309; x=1709951109; darn=dpdk.org;
 h=references:in-reply-to:cc:to:from:subject:message-id:date:from:to
 :cc:subject:date:message-id:reply-to;
 bh=aov546H3ZwuB94+F/hYOwsDBghdQG5tnkAK8J50/fvE=;
 b=Dmy84Lws+nWfaYHSA+un7Wryi8NHwBFdjXoBS6dNp13jbLdl0r4jIjHmACKS3T3z2v
 uiwHgvsRcnjyMu77L+P2EjbKX7BRDJAJcqIBUrGyNaVEWYJmKNxZmVfa2pVFu3bgTTn9
 LyrjkSfxUMIxOssjHHywQO0QD8Ta/wVuIzj2w=
X-Google-DKIM-Signature: v=1; a=rsa-sha256; c=relaxed/relaxed;
 d=1e100.net; s=20230601; t=1709346309; x=1709951109;
 h=references:in-reply-to:cc:to:from:subject:message-id:date
 :x-gm-message-state:from:to:cc:subject:date:message-id:reply-to;
 bh=aov546H3ZwuB94+F/hYOwsDBghdQG5tnkAK8J50/fvE=;
 b=uInf+Ff1ka9lw6VKJyqFcuFH44sfEzbJrDr8LQlxyugJgTsH/oQP/sZNy5b8uBz6oz
 svIR3yHU1NJCbXv5eEUJvah7IFya5oXjnV7vltxnqE8N+g16PAqJNxc1yOGYWWfWAt/i
 u1OCNbnnGhVQY9Bz714ELYyXHA+LByVvHRU7Mfw+x48WBvSoLEWI5MF1YDA+FYHzroOj
 tT/RUGaQRW9F/7WZzEwlc7fMkqe6xEdMOs/VOCWrI+ZHeor907e9wNutFPNuHMpCx/+z
 MQWzw34FcHUvy/pIexUhhJ5zK0HshkeyqFlIW18PIB4qRbXQDYBXa11T9l3SmwDd1iMS
 P8gQ==
X-Gm-Message-State: AOJu0YwD77Rgqzwx6nvKcp17UggIhCWDA9yjlV/vl2G32/XrSOv1hdOb
 /gsedPl9/SnH0DIfYEnP/LI3dXmdIT8n7yaDZAXRZV7AEjzA3KL7OhMB1ekYeg4f4MzdQlKuBA6
 1MkNkjNhBeKosj/G6YD9BSNhzNcoumW2PyZ+SGrp/
X-Google-Smtp-Source: AGHT+IFj6XkvpW4zTJ1yWTneccGi8iSGCKmTYvYYudIElX3PRQUgKFPRkOgyoXJtdzOQ5zOsK7CDl0K60eHI
X-Received: by 2002:a0c:9c49:0:b0:690:4c7f:7d57 with SMTP id
 w9-20020a0c9c49000000b006904c7f7d57mr3465081qve.29.1709346309042; 
 Fri, 01 Mar 2024 18:25:09 -0800 (PST)
Received: from postal.iol.unh.edu (postal.iol.unh.edu. [132.177.123.84])
 by smtp-relay.gmail.com with ESMTPS id
 8-20020a0562140d6800b0068f9abb11a4sm225728qvs.15.2024.03.01.18.25.08
 (version=TLS1_2 cipher=ECDHE-ECDSA-AES128-GCM-SHA256 bits=128/128);
 Fri, 01 Mar 2024 18:25:09 -0800 (PST)
X-Relaying-Domain: iol.unh.edu
Date: Fri, 01 Mar 2024 18:25:09 -0800 (PST)
Message-ID: <65e28e05.050a0220.66b15.f716SMTPIN_ADDED_MISSING@mx.google.com>
Received: from [172.21.0.6] (unknown [172.18.0.240])
 by postal.iol.unh.edu (Postfix) with ESMTP id B2E146052712;
 Fri,  1 Mar 2024 21:25:08 -0500 (EST)
Subject: |SUCCESS| pw137690 [PATCH] examples/l3fwd: fix Rx over not ready por
From: dpdklab@iol.unh.edu
To: Test Report <test-report@dpdk.org>
Cc: dpdk-test-reports@iol.unh.edu
In-Reply-To: <20240301163931.107036-1-konstantin.v.ananyev@yandex.ru>
References: <20240301163931.107036-1-konstantin.v.ananyev@yandex.ru>
Content-Type: text/plain
X-BeenThere: test-report@dpdk.org
X-Mailman-Version: 2.1.29
Precedence: list
List-Id: automatic DPDK test reports <test-report.dpdk.org>
List-Unsubscribe: <https://mails.dpdk.org/options/test-report>,
 <mailto:test-report-request@dpdk.org?subject=unsubscribe>
List-Archive: <http://mails.dpdk.org/archives/test-report/>
List-Post: <mailto:test-report@dpdk.org>
List-Help: <mailto:test-report-request@dpdk.org?subject=help>
List-Subscribe: <https://mails.dpdk.org/listinfo/test-report>,
 <mailto:test-report-request@dpdk.org?subject=subscribe>
Errors-To: test-report-bounces@dpdk.org

Test-Label: iol-compile-arm64-testing
Test-Status: SUCCESS
http://dpdk.org/patch/137690

_Testing PASS_

Submitter: Konstantin Ananyev <konstantin.v.ananyev@yandex.ru>
Date: Friday, March 01 2024 16:39:31 
DPDK git baseline: Repo:dpdk
  Branch: master
  CommitID:5df34de5808a7b826b8bc035d6ee3161a12be364

137690 --> testing pass

Test environment and result as below:

+----------------------------------------+--------------------+
|              Environment               | dpdk_meson_compile |
+========================================+====================+
| Ubuntu 20.04 ARM SVE                   | PASS               |
+----------------------------------------+--------------------+
| Fedora 38 (ARM)                        | PASS               |
+----------------------------------------+--------------------+
| Ubuntu 20.04 ARM GCC Cross Compile     | PASS               |
+----------------------------------------+--------------------+
| Ubuntu 20.04 ARM Clang Cross Compile   | PASS               |
+----------------------------------------+--------------------+
| Ubuntu 20.04 aarch32 GCC Cross Compile | PASS               |
+----------------------------------------+--------------------+
| Fedora 37 (ARM)                        | PASS               |
+----------------------------------------+--------------------+
| Debian 11 (Buster) (ARM)               | PASS               |
+----------------------------------------+--------------------+
| Ubuntu 20.04 (ARM)                     | PASS               |
+----------------------------------------+--------------------+
| Debian 12 (arm)                        | PASS               |
+----------------------------------------+--------------------+
| CentOS Stream 9 (ARM)                  | PASS               |
+----------------------------------------+--------------------+
| Fedora 38 (ARM Clang)                  | PASS               |
+----------------------------------------+--------------------+


Ubuntu 20.04 ARM SVE
	Kernel: 5.4.0-80-generic
	Compiler: gcc 10.3.0 (Ubuntu 10.3.0-1ubuntu1~20.04)

Fedora 38 (ARM)
	Kernel: Depends on container host
	Compiler: gcc 13.1.1

Ubuntu 20.04 ARM GCC Cross Compile
	Kernel: 5.4.0-72-generic
	Compiler: aarch64-linux-gnu-gcc (Ubuntu 9.3.0-17ubuntu1~20.04) 9.3.0

Ubuntu 20.04 ARM Clang Cross Compile
	Kernel: 5.4.0-72-generic
	Compiler: clang version 10.0.0-4ubuntu1

Ubuntu 20.04 aarch32 GCC Cross Compile
	Kernel: 5.4.0-72-generic
	Compiler: gcc 9.3.0

Fedora 37 (ARM)
	Kernel: Depends on container host
	Compiler: gcc 12.3.1

Debian 11 (Buster) (ARM)
	Kernel: Container Host Kernel
	Compiler: gcc 10.2.1

Ubuntu 20.04 (ARM)
	Kernel: Container Host Kernel
	Compiler: gcc 9.4.0

Debian 12 (arm)
	Kernel: Container Host Kernel
	Compiler: gcc 11

CentOS Stream 9 (ARM)
	Kernel: Container Host Kernel
	Compiler: gcc 11.3.1

Fedora 38 (ARM Clang)
	Kernel: Depends on container host
	Compiler: clang 16.0.3

To view detailed results, visit:
https://lab.dpdk.org/results/dashboard/patchsets/29379/

UNH-IOL DPDK Community Lab

To manage your email subscriptions, visit: 
https://lab.dpdk.org/results/dashboard/preferences/subscriptions/